BEGIN:VCALENDAR
VERSION:2.0
PRODID:-//Gardiner Brewing Company - ECPv6.15.20//NONSGML v1.0//EN
CALSCALE:GREGORIAN
METHOD:PUBLISH
X-ORIGINAL-URL:https://sitemaps.gardinerbrewingcompany.com
X-WR-CALDESC:Events for Gardiner Brewing Company
REFRESH-INTERVAL;VALUE=DURATION:PT1H
X-Robots-Tag:noindex
X-PUBLISHED-TTL:PT1H
BEGIN:VTIMEZONE
TZID:America/New_York
BEGIN:DAYLIGHT
TZOFFSETFROM:-0500
TZOFFSETTO:-0400
TZNAME:EDT
DTSTART:20230312T070000
END:DAYLIGHT
BEGIN:STANDARD
TZOFFSETFROM:-0400
TZOFFSETTO:-0500
TZNAME:EST
DTSTART:20231105T060000
END:STANDARD
BEGIN:DAYLIGHT
TZOFFSETFROM:-0500
TZOFFSETTO:-0400
TZNAME:EDT
DTSTART:20240310T070000
END:DAYLIGHT
BEGIN:STANDARD
TZOFFSETFROM:-0400
TZOFFSETTO:-0500
TZNAME:EST
DTSTART:20241103T060000
END:STANDARD
BEGIN:DAYLIGHT
TZOFFSETFROM:-0500
TZOFFSETTO:-0400
TZNAME:EDT
DTSTART:20250309T070000
END:DAYLIGHT
BEGIN:STANDARD
TZOFFSETFROM:-0400
TZOFFSETTO:-0500
TZNAME:EST
DTSTART:20251102T060000
END:STANDARD
END:VTIMEZONE
BEGIN:VEVENT
DTSTART;TZID=America/New_York:20240406T153000
DTEND;TZID=America/New_York:20240406T183000
DTSTAMP:20260425T082308
CREATED:20240404T150344Z
LAST-MODIFIED:20240404T150344Z
UID:2117-1712417400-1712428200@sitemaps.gardinerbrewingcompany.com
SUMMARY:The Hardwoods
DESCRIPTION:These three unlikely\, accomplished musicians came together through family ties and Covid to become a musical force.  \nThe Hardwoods are:\nJon B.Woodin–an accomplished musician rooted in celtic music\, and beautiful virtuoso guitar work\, punctuated by his signature voice.\nDavid Woodin–a classically trained violinist\, and newly EWI (Electronic Wind Instrument) enthusiast.  David is also Jon’s dad\, who taught him his first 3 chords on the guitar.\nJanice Hardgrove–a seasoned vocalist/instrumentalist\, with over a decade’s long list of national TV jingles under her belt.\nThe trio grew out of the Covid lockdown.  All three were missing singing and playing music\, and the lockdown gave Dave an opportunity to work on his EWI (Electronic Wind Instrument)\,  Janice on her tenor guitar\, and Jon on writing more original compositions. What resulted was The Hardwoods!  — a trio with tight harmonies and a fun\, heartfelt mix of songs\, tunes and original compositions.\nWhere did the name The Hardwoods come from??  I’m sure you can figure that out on your own–a blending of both of our names\, and not a nod to sawing wood :-).   Jon and Dave both insist that they came up with the name!
URL:https://sitemaps.gardinerbrewingcompany.com/event/the-hardwoods-2/
LOCATION:The Barn at Gardiner Brewing Company\, 699 State Route 208\, Gardiner\, NY\, 12525\, United States
CATEGORIES:Live Music
END:VEVENT
BEGIN:VEVENT
DTSTART;TZID=America/New_York:20240407T153000
DTEND;TZID=America/New_York:20240407T183000
DTSTAMP:20260425T082308
CREATED:20240404T150432Z
LAST-MODIFIED:20240404T150432Z
UID:2119-1712503800-1712514600@sitemaps.gardinerbrewingcompany.com
SUMMARY:Shane Scarazzini and EightFinger
DESCRIPTION:Shane Scarazzini is a professional musician based in Nashville\, Tennessee. As an original artist\, songwriter\, bandleader\, and guitar player\, he has casted a wake in multiple facets of the music industry. Born in Newburgh\, New York\, Shane’s passion for music began at an early age. \nAt 17 years old\, Shane was taken under the mentorship of The Rusty Paul Band\, led by the eldest son of Les Paul. He followed the group around with his guitar and learned how to properly function and communicate with a band. Despite being in high school\, Shane would often play with the Rusty Paul band and other club-touring acts until the wee hours of the morning\, night after night. He knew that every minute he spent on stage was worth more than any of the education he got in school. \nAfter high school\, Shane performed music full time with whoever would hire him\, including his first original Country act. It was then that he began to fall in love with the sounds of Country music\, uncharted territory for most of the other tenants of the New York Blues scene. Country music was becoming a part of his DNA\, leading him to Nashville. \nIn Nashville\, things got off to a humble\, yet abundant start. He took every gig that came his way\, on the road\, in town\, out on the ocean\, and beyond. His hunger to play guitar and make an impact was palpable to anyone around him. \nAfter several years and nearly a million miles of hard touring around the United States as a guitarist with a variety of different groups\, Shane decided that if he had any chance at a career as an original artist\, then it was time to move from the side of the stage to the front. He dropped everything\, cleared his touring schedule completely\, and committed ferociously into building “Shane Scarazzini & EightFingers.” \nLaunched in late 2016\, Shane Scarazzini & EightFingers continues to bring Shane’s identity as a songwriter and bandleader to the front of the stage in the form of a power trio with utility instruments. Shane shares this journey with two of his best friends – Don Holocher on the drums/percussion and Lucas Carillo on the bass and backup vocals. \nToday\, Shane continues to tour the United States as a solo act\, collaborating with other groups and with EightFingers. He is blessed to lead this exciting and colorful life\, and his passion for music shines through in everything he does.
URL:https://sitemaps.gardinerbrewingcompany.com/event/shane-scarazzini-and-eightfinger/
LOCATION:The Barn at Gardiner Brewing Company\, 699 State Route 208\, Gardiner\, NY\, 12525\, United States
CATEGORIES:Live Music
END:VEVENT
BEGIN:VEVENT
DTSTART;TZID=America/New_York:20240412T170000
DTEND;TZID=America/New_York:20240412T210000
DTSTAMP:20260425T082308
CREATED:20240404T150535Z
LAST-MODIFIED:20240404T150535Z
UID:2121-1712941200-1712955600@sitemaps.gardinerbrewingcompany.com
SUMMARY:GARTUCKY HOEDOWN at GBC! Open 5-9 with a Live DJ
DESCRIPTION:Get your boots and your cowboy hat and get ready for a hoedown! Open 5-9 with tunes from DJ Lohex\, YEEHAW!
URL:https://sitemaps.gardinerbrewingcompany.com/event/gartucky-hoedown-at-gbc-open-5-9-with-a-live-dj/
LOCATION:The Barn at Gardiner Brewing Company\, 699 State Route 208\, Gardiner\, NY\, 12525\, United States
CATEGORIES:Live Music
END:VEVENT
BEGIN:VEVENT
DTSTART;TZID=America/New_York:20240413T153000
DTEND;TZID=America/New_York:20240413T183000
DTSTAMP:20260425T082308
CREATED:20240404T151329Z
LAST-MODIFIED:20240404T151329Z
UID:2123-1713022200-1713033000@sitemaps.gardinerbrewingcompany.com
SUMMARY:Grateful Duo
DESCRIPTION:Bringing you the beautiful sounds of the Grateful Dead from Gratefully Yours
URL:https://sitemaps.gardinerbrewingcompany.com/event/grateful-duo-6/
LOCATION:The Barn at Gardiner Brewing Company\, 699 State Route 208\, Gardiner\, NY\, 12525\, United States
CATEGORIES:Live Music
END:VEVENT
BEGIN:VEVENT
DTSTART;TZID=America/New_York:20240414T153000
DTEND;TZID=America/New_York:20240414T183000
DTSTAMP:20260425T082308
CREATED:20240404T151424Z
LAST-MODIFIED:20240404T151424Z
UID:2125-1713108600-1713119400@sitemaps.gardinerbrewingcompany.com
SUMMARY:The Myles Mancuso Band
DESCRIPTION:Myles Mancuso is a multi-instrumentalist and has been playing Guitar\, Keyboards\, Drums and Bass since he was 10 years old. Most commonly fronting “The Myles Mancuso Band”\, where he sings and plays the Guitar and Keyboards.  Myles has composed\, performed\, produced\, and engineered all of the original tracks on his first four albums. His original style of music is a blend of Roots Americana and R&B. \nAfter graduating high school and attending college studying musical performance at the Purchase Conservatory for Music in NY\, he relocated to the Florida Keys where he performed up and down the Keys for a year and a half. He then relocated to Nashville where he spent about 2 years gigging nightly on Broadway\, at clubs like “The Stage”\, Gavin DeGraw’s “Nashville Underground”\, and other top venues on the historic Music Row\, Broadway Strip.  Myles also helped various local Nashville artists write and record tracks at a number of studios around Music City\, using his musical abilities to play Bass\, Drums and Keyboards for various up and coming artists in Nashville. \nNashville made a strong impression on him\, and he wanted to capture the sounds of Music City on his most recent album “Southern State of Mind”\, containing strictly Country and Americana Tracks. All of the instruments and lyrics were played and written by Myles\, and it covers everything from Outlaw to Opry\, Traditional to New Country Sounds. \nMyles has been fronting his own band and performing professionally for audiences since the age of nine.  Due to his talent and experience at such a young age\, Myles was headlining many of Manhattan‘s top venues before he graduated high school.  He was recognized in 2010 by TrueFire as one of the Top 10 Guitar Prodigies in the World. He’s frequently performed on some of the top stages in New York City\, such as BB Kings Club\, The Brooklyn Bowl\, The Iridium Jazz Club\, The Cutting Room\, The Village Underground\, Rockwood Music Hall\, Café Wha and more. \nOver the course of his career\, Myles has also played at popular festivals such as the Warren Haynes’ Mountain Jam Festival\, the Sarasota Blues Festival\, Gathering of the Vibes\, The New York State Blues Festival\, Rochester Jazz Festival\, and the Bethel Woods Blues Festival.  Along with performing on well-known stages\, Myles’ Band has opened for a variety of national artists\, such as The Allman Brothers\, Buddy Guy\, Robert Cray\, Les Paul\, Levon Helm and others. \nSome other notable moments in Myles’ music career; in 2012 The Myles Mancuso Story was nominated for an Emmy in the Entertainment: Program Feature/Segment category.  In 2010 Myles won an award from Boston’s Berklee College of Music for a jazz piano performance with “The Jazz Machine” (two-time national champions of the annual High School Jazz Band Competition at the Berklee College of Music). \nRight before the pandemic hit\, Myles relocated to Key West for a few years where he played at venues like the world famous Green Parrot Bar and Hogsbreath Saloon. He is now back in New York and working on his fifth album with Brent Mason and Shannon Forrest in Nashville. \nSid Bernstein\, who is best known as the promoter who brought the Beatles to America\, said in an interview while promoting a show that featured Myles in NYC\, “Myles is a bona fide prodigy that will thrill and captivate an audience.”  Les Paul stated\, “He reminds me of myself when I was a young boy.” Levon Helm\, Grammy winner and legendary drummer of The Band said\, “He may be a boy\, but he sure plays like a man.” An audience member summed up best what many people feel after hearing Myles play\, “It’s like seeing a musical legend in the making”. It’s a performance you can’t miss! \nStay updated on his social media or join the email list for any upcoming live performances and new music!
URL:https://sitemaps.gardinerbrewingcompany.com/event/the-myles-mancuso-band/
LOCATION:The Barn at Gardiner Brewing Company\, 699 State Route 208\, Gardiner\, NY\, 12525\, United States
CATEGORIES:Live Music
END:VEVENT
BEGIN:VEVENT
DTSTART;TZID=America/New_York:20240420T153000
DTEND;TZID=America/New_York:20240420T183000
DTSTAMP:20260425T082308
CREATED:20240404T151539Z
LAST-MODIFIED:20240404T151539Z
UID:2127-1713627000-1713637800@sitemaps.gardinerbrewingcompany.com
SUMMARY:The Bunker Boys
DESCRIPTION:A six man band from Coldenham NY\, the Bunker Boys are a melodious freight train of hillbilly havoc running all over the Hudson Valley. Rooted in Carter family style gospel singing\, these boys are set to lift spirits high and keep them there.
URL:https://sitemaps.gardinerbrewingcompany.com/event/the-bunker-boys-2/
LOCATION:The Barn at Gardiner Brewing Company\, 699 State Route 208\, Gardiner\, NY\, 12525\, United States
CATEGORIES:Live Music
END:VEVENT
BEGIN:VEVENT
DTSTART;TZID=America/New_York:20240421T153000
DTEND;TZID=America/New_York:20240421T183000
DTSTAMP:20260425T082308
CREATED:20240404T151659Z
LAST-MODIFIED:20240404T151659Z
UID:2129-1713713400-1713724200@sitemaps.gardinerbrewingcompany.com
SUMMARY:Four of a Kind
DESCRIPTION:
URL:https://sitemaps.gardinerbrewingcompany.com/event/four-of-a-kind-14/
LOCATION:The Barn at Gardiner Brewing Company\, 699 State Route 208\, Gardiner\, NY\, 12525\, United States
CATEGORIES:Live Music
END:VEVENT
BEGIN:VEVENT
DTSTART;TZID=America/New_York:20240426T170000
DTEND;TZID=America/New_York:20240426T210000
DTSTAMP:20260425T082308
CREATED:20240404T151741Z
LAST-MODIFIED:20240404T151741Z
UID:2131-1714150800-1714165200@sitemaps.gardinerbrewingcompany.com
SUMMARY:Gartucky Karaoke
DESCRIPTION:Karaoke is BACK! Come join our friends at Studio Karaoke for a Friday night of singing!
URL:https://sitemaps.gardinerbrewingcompany.com/event/gartucky-karaoke/
LOCATION:The Barn at Gardiner Brewing Company\, 699 State Route 208\, Gardiner\, NY\, 12525\, United States
CATEGORIES:Live Music
END:VEVENT
BEGIN:VEVENT
DTSTART;TZID=America/New_York:20240427T153000
DTEND;TZID=America/New_York:20240427T183000
DTSTAMP:20260425T082308
CREATED:20240404T151828Z
LAST-MODIFIED:20240404T151828Z
UID:2133-1714231800-1714242600@sitemaps.gardinerbrewingcompany.com
SUMMARY:The Alex Jarnov Band
DESCRIPTION:
URL:https://sitemaps.gardinerbrewingcompany.com/event/the-alex-jarnov-band/
LOCATION:The Barn at Gardiner Brewing Company\, 699 State Route 208\, Gardiner\, NY\, 12525\, United States
CATEGORIES:Live Music
END:VEVENT
BEGIN:VEVENT
DTSTART;TZID=America/New_York:20240428T153000
DTEND;TZID=America/New_York:20240428T183000
DTSTAMP:20260425T082308
CREATED:20240404T151859Z
LAST-MODIFIED:20240404T151859Z
UID:2135-1714318200-1714329000@sitemaps.gardinerbrewingcompany.com
SUMMARY:The 209s
DESCRIPTION:
URL:https://sitemaps.gardinerbrewingcompany.com/event/the-209s-3/
LOCATION:The Barn at Gardiner Brewing Company\, 699 State Route 208\, Gardiner\, NY\, 12525\, United States
CATEGORIES:Live Music
END:VEVENT
END:VCALENDAR