BEGIN:VCALENDAR
VERSION:2.0
PRODID:-//Gardiner Brewing Company - ECPv6.15.20//NONSGML v1.0//EN
CALSCALE:GREGORIAN
METHOD:PUBLISH
X-ORIGINAL-URL:https://sitemaps.gardinerbrewingcompany.com
X-WR-CALDESC:Events for Gardiner Brewing Company
REFRESH-INTERVAL;VALUE=DURATION:PT1H
X-Robots-Tag:noindex
X-PUBLISHED-TTL:PT1H
BEGIN:VTIMEZONE
TZID:America/New_York
BEGIN:DAYLIGHT
TZOFFSETFROM:-0500
TZOFFSETTO:-0400
TZNAME:EDT
DTSTART:20230312T070000
END:DAYLIGHT
BEGIN:STANDARD
TZOFFSETFROM:-0400
TZOFFSETTO:-0500
TZNAME:EST
DTSTART:20231105T060000
END:STANDARD
BEGIN:DAYLIGHT
TZOFFSETFROM:-0500
TZOFFSETTO:-0400
TZNAME:EDT
DTSTART:20240310T070000
END:DAYLIGHT
BEGIN:STANDARD
TZOFFSETFROM:-0400
TZOFFSETTO:-0500
TZNAME:EST
DTSTART:20241103T060000
END:STANDARD
BEGIN:DAYLIGHT
TZOFFSETFROM:-0500
TZOFFSETTO:-0400
TZNAME:EDT
DTSTART:20250309T070000
END:DAYLIGHT
BEGIN:STANDARD
TZOFFSETFROM:-0400
TZOFFSETTO:-0500
TZNAME:EST
DTSTART:20251102T060000
END:STANDARD
END:VTIMEZONE
BEGIN:VEVENT
DTSTART;TZID=America/New_York:20240302T153000
DTEND;TZID=America/New_York:20240302T183000
DTSTAMP:20260425T094944
CREATED:20240221T204638Z
LAST-MODIFIED:20240221T204638Z
UID:2095-1709393400-1709404200@sitemaps.gardinerbrewingcompany.com
SUMMARY:Jordan Stoner and the Crash Test Silverados
DESCRIPTION:Native to Upstate New York\, Country Recording Artist Jordan Stoner started the first 12 years of his career performing in a band with his family known as “The Stoners”. Moving on to later start his own band “The Crash Test Silverados”\, he’s performed across the country developing his own unique sound bringing you the one of a kind original music you can find released today. From his first single “All Night Long” (released in 2018) to his latest single\n“Smoke” (released in 2020)\, each song tells a true story about past experiences in the young performers life. Now at the age of 30 and with nearly 18 years in the business\, he’s performed in all types of venues from the Honky Tonks of Nashville to the Theaters and festivals of the Coast. Jordan is sure to bring a live show like you’ve never seen before. With unmatched energy and surrounded by some of the best musicians In the business\, this stage presence will have you on your toes until the last note.
URL:https://sitemaps.gardinerbrewingcompany.com/event/jordan-stoner-and-the-crash-test-silverados-6/
LOCATION:The Barn at Gardiner Brewing Company\, 699 State Route 208\, Gardiner\, NY\, 12525\, United States
CATEGORIES:Live Music
END:VEVENT
BEGIN:VEVENT
DTSTART;TZID=America/New_York:20240303T153000
DTEND;TZID=America/New_York:20240303T183000
DTSTAMP:20260425T094944
CREATED:20240221T204736Z
LAST-MODIFIED:20240221T204736Z
UID:2097-1709479800-1709490600@sitemaps.gardinerbrewingcompany.com
SUMMARY:Moonshine Creek Bluegrass
DESCRIPTION:Moonshine Creek Bluegrass Band is a high energy string band out of New York’s Hudson Valley region that keeps true to its bluegrass roots while expanding traditional boundaries\, with warm vocal harmonies\, tight picking and driving sound\, they will be sure to keep you moving!
URL:https://sitemaps.gardinerbrewingcompany.com/event/moonshine-creek-bluegrass-2/
LOCATION:The Barn at Gardiner Brewing Company\, 699 State Route 208\, Gardiner\, NY\, 12525\, United States
CATEGORIES:Live Music
END:VEVENT
BEGIN:VEVENT
DTSTART;TZID=America/New_York:20240308T170000
DTEND;TZID=America/New_York:20240308T210000
DTSTAMP:20260425T094944
CREATED:20240221T204847Z
LAST-MODIFIED:20240221T204847Z
UID:2099-1709917200-1709931600@sitemaps.gardinerbrewingcompany.com
SUMMARY:DISCO PARTY - OPEN 5-9 WITH DJ LOHEX
DESCRIPTION:We should be dancin….yeah! Dance the night away at GBC for Disco Night! Open 5-9\, wear your best disco threads and get ready to boogie. Music from DJ Lohex.
URL:https://sitemaps.gardinerbrewingcompany.com/event/disco-party-open-5-9-with-dj-lohex/
LOCATION:The Barn at Gardiner Brewing Company\, 699 State Route 208\, Gardiner\, NY\, 12525\, United States
CATEGORIES:Live Music
END:VEVENT
BEGIN:VEVENT
DTSTART;TZID=America/New_York:20240309T153000
DTEND;TZID=America/New_York:20240309T183000
DTSTAMP:20260425T094944
CREATED:20240221T204938Z
LAST-MODIFIED:20240221T204938Z
UID:2101-1709998200-1710009000@sitemaps.gardinerbrewingcompany.com
SUMMARY:Sons of Hudson
DESCRIPTION:Orange County\, NY band playing your favorite hits!
URL:https://sitemaps.gardinerbrewingcompany.com/event/sons-of-hudson-12/
LOCATION:The Barn at Gardiner Brewing Company\, 699 State Route 208\, Gardiner\, NY\, 12525\, United States
CATEGORIES:Live Music
END:VEVENT
BEGIN:VEVENT
DTSTART;TZID=America/New_York:20240310T153000
DTEND;TZID=America/New_York:20240310T183000
DTSTAMP:20260425T094944
CREATED:20240221T205022Z
LAST-MODIFIED:20240221T205022Z
UID:2103-1710084600-1710095400@sitemaps.gardinerbrewingcompany.com
SUMMARY:Roche & Collins
DESCRIPTION:Based in Woodstock\, New York and having played music together from a young age- our band has developed an electric & acoustic mix of original music that blends elements of folk rock\, psychedelic rock\, and funk. Our performances are a unique and engaging experience. We draw inspiration from a variety of musical genres and artists\, creating a sound that is both familiar and fresh. Whether we’re playing to a packed house or an intimate gathering\, we always bring our passion and creativity to the stage.
URL:https://sitemaps.gardinerbrewingcompany.com/event/roche-collins-2/
LOCATION:The Barn at Gardiner Brewing Company\, 699 State Route 208\, Gardiner\, NY\, 12525\, United States
CATEGORIES:Live Music
END:VEVENT
BEGIN:VEVENT
DTSTART;TZID=America/New_York:20240317T153000
DTEND;TZID=America/New_York:20240317T183000
DTSTAMP:20260425T094944
CREATED:20240221T205100Z
LAST-MODIFIED:20240221T205100Z
UID:2105-1710689400-1710700200@sitemaps.gardinerbrewingcompany.com
SUMMARY:The Hudson Quinns
DESCRIPTION:HAPPY ST. PATRICK’S DAY! Irish music from The Hudson Quinns – 5 piece-band with bagpipes
URL:https://sitemaps.gardinerbrewingcompany.com/event/the-hudson-quinns/
LOCATION:The Barn at Gardiner Brewing Company\, 699 State Route 208\, Gardiner\, NY\, 12525\, United States
CATEGORIES:Live Music
END:VEVENT
BEGIN:VEVENT
DTSTART;TZID=America/New_York:20240323T153000
DTEND;TZID=America/New_York:20240323T183000
DTSTAMP:20260425T094944
CREATED:20240221T205227Z
LAST-MODIFIED:20240221T205227Z
UID:2107-1711207800-1711218600@sitemaps.gardinerbrewingcompany.com
SUMMARY:What?
DESCRIPTION:horn-led funk dance party based out of New Paltz\, NY\n“What? Oh\, you haven’t heard?\nAfter meeting in the fall of 2016 during their freshman year studying music at SUNY New Paltz\, Ryan Perrone and Dan Steen founded What?. Three years and multiple lineup changes later\, they solidified their group and their sound. Heavily influenced by funk and R&B\, What?’s music draws inspiration across multiple genres: jazz\, rock\, hip-hop\, ska\, pop\, and more. The group consists of Ryan Perrone on lead vocals\, keys\, trombone and trumpet\, Dan Steen on guitar\, Jeremiah Mahoney on bass\, Alex Endres on drums\, Russell Hartman on tenor saxophone\, Owen Moore on baritone saxophone\, Jared Nelson on percussion\, synthesizer and guitar\, and Dani Gardner on Trumpet.\nWith a growing following in The Hudson Valley\, What? is known to bring high-energy every time they hit the stage with their four-piece horn section. From their improvisational jams to soulful R&B grooves\, What?’s complex arrangements will keep you on your feet and dancing throughout the entire set. With a heavy catalogue of originals and choice covers under their belt\, What?’s horn-driven tunes will make any audience excited\, energized\, and hungry for an encore.”
URL:https://sitemaps.gardinerbrewingcompany.com/event/what-9/
LOCATION:The Barn at Gardiner Brewing Company\, 699 State Route 208\, Gardiner\, NY\, 12525\, United States
CATEGORIES:Live Music
END:VEVENT
BEGIN:VEVENT
DTSTART;TZID=America/New_York:20240324T153000
DTEND;TZID=America/New_York:20240324T183000
DTSTAMP:20260425T094944
CREATED:20240221T205307Z
LAST-MODIFIED:20240221T205307Z
UID:2109-1711294200-1711305000@sitemaps.gardinerbrewingcompany.com
SUMMARY:Circle
DESCRIPTION:Circle is compromised of four veteran musicians of the Newburgh music scene playing light rock & roll from the 60’s\, 70’s\, and 80’s.
URL:https://sitemaps.gardinerbrewingcompany.com/event/circle-3/
LOCATION:The Barn at Gardiner Brewing Company\, 699 State Route 208\, Gardiner\, NY\, 12525\, United States
CATEGORIES:Live Music
END:VEVENT
BEGIN:VEVENT
DTSTART;TZID=America/New_York:20240330T153000
DTEND;TZID=America/New_York:20240330T183000
DTSTAMP:20260425T094944
CREATED:20240221T205341Z
LAST-MODIFIED:20240221T205341Z
UID:2111-1711812600-1711823400@sitemaps.gardinerbrewingcompany.com
SUMMARY:The Classics
DESCRIPTION:The Classics are a power trio playing all of your favorite funk\, soul\, and reggae jams from the 70’s until no. All members have an extensive background in jazz which allows them to create unique arrangements and revitalize songs while paying homage to the original artists. Prepare to be inspired by this rhythmically tight and full sounding band. Be sure to catch them at local venues throughout the Hudson Valley every weekend!
URL:https://sitemaps.gardinerbrewingcompany.com/event/the-classics-22/
LOCATION:The Barn at Gardiner Brewing Company\, 699 State Route 208\, Gardiner\, NY\, 12525\, United States
CATEGORIES:Live Music
END:VEVENT
BEGIN:VEVENT
DTSTART;VALUE=DATE:20240331
DTEND;VALUE=DATE:20240401
DTSTAMP:20260425T094944
CREATED:20240221T205403Z
LAST-MODIFIED:20240221T205403Z
UID:2113-1711843200-1711929599@sitemaps.gardinerbrewingcompany.com
SUMMARY:CLOSED - HAPPY EASTER!
DESCRIPTION:
URL:https://sitemaps.gardinerbrewingcompany.com/event/closed-happy-easter/
LOCATION:The Barn at Gardiner Brewing Company\, 699 State Route 208\, Gardiner\, NY\, 12525\, United States
END:VEVENT
END:VCALENDAR