BEGIN:VCALENDAR
VERSION:2.0
PRODID:-//Gardiner Brewing Company - ECPv6.15.20//NONSGML v1.0//EN
CALSCALE:GREGORIAN
METHOD:PUBLISH
X-ORIGINAL-URL:https://sitemaps.gardinerbrewingcompany.com
X-WR-CALDESC:Events for Gardiner Brewing Company
REFRESH-INTERVAL;VALUE=DURATION:PT1H
X-Robots-Tag:noindex
X-PUBLISHED-TTL:PT1H
BEGIN:VTIMEZONE
TZID:America/New_York
BEGIN:DAYLIGHT
TZOFFSETFROM:-0500
TZOFFSETTO:-0400
TZNAME:EDT
DTSTART:20220313T070000
END:DAYLIGHT
BEGIN:STANDARD
TZOFFSETFROM:-0400
TZOFFSETTO:-0500
TZNAME:EST
DTSTART:20221106T060000
END:STANDARD
BEGIN:DAYLIGHT
TZOFFSETFROM:-0500
TZOFFSETTO:-0400
TZNAME:EDT
DTSTART:20230312T070000
END:DAYLIGHT
BEGIN:STANDARD
TZOFFSETFROM:-0400
TZOFFSETTO:-0500
TZNAME:EST
DTSTART:20231105T060000
END:STANDARD
BEGIN:DAYLIGHT
TZOFFSETFROM:-0500
TZOFFSETTO:-0400
TZNAME:EDT
DTSTART:20240310T070000
END:DAYLIGHT
BEGIN:STANDARD
TZOFFSETFROM:-0400
TZOFFSETTO:-0500
TZNAME:EST
DTSTART:20241103T060000
END:STANDARD
END:VTIMEZONE
BEGIN:VEVENT
DTSTART;TZID=America/New_York:20230902T153000
DTEND;TZID=America/New_York:20230902T183000
DTSTAMP:20260425T182951
CREATED:20230830T173118Z
LAST-MODIFIED:20230830T173118Z
UID:1956-1693668600-1693679400@sitemaps.gardinerbrewingcompany.com
SUMMARY:Oxford Station Band
DESCRIPTION:Oxford Station Band performs Folk Rock\, Classic Country\, and Americana in the Mid-Hudson Valley Region
URL:https://sitemaps.gardinerbrewingcompany.com/event/oxford-station-band-20/
LOCATION:The Barn at Gardiner Brewing Company\, 699 State Route 208\, Gardiner\, NY\, 12525\, United States
CATEGORIES:Live Music
END:VEVENT
BEGIN:VEVENT
DTSTART;TZID=America/New_York:20230903T153000
DTEND;TZID=America/New_York:20230903T183000
DTSTAMP:20260425T182951
CREATED:20230830T173214Z
LAST-MODIFIED:20230830T173214Z
UID:1958-1693755000-1693765800@sitemaps.gardinerbrewingcompany.com
SUMMARY:Jordan Stoner and the Crash Test Silverados
DESCRIPTION:Native to Upstate New York\, Country Recording Artist Jordan Stoner started the first 12 years of his career performing in a band with his family known as “The Stoners”. Moving on to later start his own band “The Crash Test Silverados”\, he’s performed across the country developing his own unique sound bringing you the one of a kind original music you can find released today. From his first single “All Night Long” (released in 2018) to his latest single\n“Smoke” (released in 2020)\, each song tells a true story about past experiences in the young performers life. Now at the age of 30 and with nearly 18 years in the business\, he’s performed in all types of venues from the Honky Tonks of Nashville to the Theaters and festivals of the Coast. Jordan is sure to bring a live show like you’ve never seen before. With unmatched energy and surrounded by some of the best musicians In the business\, this stage presence will have you on your toes until the last note.
URL:https://sitemaps.gardinerbrewingcompany.com/event/jordan-stoner-and-the-crash-test-silverados-4/
LOCATION:The Barn at Gardiner Brewing Company\, 699 State Route 208\, Gardiner\, NY\, 12525\, United States
CATEGORIES:Live Music
END:VEVENT
BEGIN:VEVENT
DTSTART;TZID=America/New_York:20230908T170000
DTEND;TZID=America/New_York:20230908T210000
DTSTAMP:20260425T182951
CREATED:20230830T173330Z
LAST-MODIFIED:20230830T173330Z
UID:1960-1694192400-1694206800@sitemaps.gardinerbrewingcompany.com
SUMMARY:GBC's 5th ANNIVERSARY! Music from The Classics
DESCRIPTION:Come celebrate our 5-year anniversary with us! Music from The Classics with special guests throughout the night. Raise your glass to Gartucky!
URL:https://sitemaps.gardinerbrewingcompany.com/event/gbcs-5th-anniversary-music-from-the-classics/
LOCATION:The Barn at Gardiner Brewing Company\, 699 State Route 208\, Gardiner\, NY\, 12525\, United States
CATEGORIES:Live Music
END:VEVENT
BEGIN:VEVENT
DTSTART;TZID=America/New_York:20230909T153000
DTEND;TZID=America/New_York:20230909T183000
DTSTAMP:20260425T182951
CREATED:20230830T173421Z
LAST-MODIFIED:20230830T173421Z
UID:1962-1694273400-1694284200@sitemaps.gardinerbrewingcompany.com
SUMMARY:Golden Formula
DESCRIPTION:It was late one fall night when Dr. Howard Yadonsky had the first vision. The culmination of 50 odd years of research had finally come to fruition. With a pinch of funk\, an uncategorized amount of prog\, a splash of nostalgia\, and a dash of yams\, his equation was perfected. It was on this evening that Dr. Yadonsky changed the course of earthkind. He had created… the Golden Formula. \nGolden Formula is Dan Steen on guitar\, Alex Endres on bass and Jared Nelson on drums. Each member is also a part of Hudson Valley band “What?”. \nGolden Formula is a rock trio that will literally knock your socks off into another dimension. \nAlso known to play funk\, pop\, prog\, jam\, country\, blues\, oldies but goodies\, & indie. \nOnly you and you alone can come discover what is the Golden Formula.
URL:https://sitemaps.gardinerbrewingcompany.com/event/golden-formula/
LOCATION:The Barn at Gardiner Brewing Company\, 699 State Route 208\, Gardiner\, NY\, 12525\, United States
CATEGORIES:Live Music
END:VEVENT
BEGIN:VEVENT
DTSTART;TZID=America/New_York:20230910T153000
DTEND;TZID=America/New_York:20230910T183000
DTSTAMP:20260425T182951
CREATED:20230830T173502Z
LAST-MODIFIED:20230830T173502Z
UID:1964-1694359800-1694370600@sitemaps.gardinerbrewingcompany.com
SUMMARY:The Little Creek Band
DESCRIPTION:The Little Creek Band is a Country Rock Irish Mash-up….kinda like Clancy Brothers meet Johnny Cash meet Jimmy Page. Mix up soaring 4 part harmonies with rip roaring guitar\, mandolin\, and Irish Whistle….add a rocking Rhythm section that gets everybody on their feet and you have The Little Creek Band.\nThe band’s front man is Dennis Nesel who sings and plays Acoustic Guitar\, Mandolin\, Irish Whistle and Trumpet. Don Bell rocks the electric guitar and synth and sings\, Kevin Jeffreys plays bass guitar and sings and Bobby Legg plays drums and sings.
URL:https://sitemaps.gardinerbrewingcompany.com/event/the-little-creek-band/
LOCATION:The Barn at Gardiner Brewing Company\, 699 State Route 208\, Gardiner\, NY\, 12525\, United States
CATEGORIES:Live Music
END:VEVENT
BEGIN:VEVENT
DTSTART;TZID=America/New_York:20230915T170000
DTEND;TZID=America/New_York:20230915T210000
DTSTAMP:20260425T182951
CREATED:20230830T173606Z
LAST-MODIFIED:20230830T173606Z
UID:1966-1694797200-1694811600@sitemaps.gardinerbrewingcompany.com
SUMMARY:Gartucky Karaoke Night
DESCRIPTION:September Gartucky Karaoke Night is HERE with our friends from Studio Karaoke\, LLC. Open 5-9\, karaoke starts at 6.
URL:https://sitemaps.gardinerbrewingcompany.com/event/gartucky-karaoke-night-3/
LOCATION:The Barn at Gardiner Brewing Company\, 699 State Route 208\, Gardiner\, NY\, 12525\, United States
CATEGORIES:Live Music
END:VEVENT
BEGIN:VEVENT
DTSTART;TZID=America/New_York:20230916T153000
DTEND;TZID=America/New_York:20230916T183000
DTSTAMP:20260425T182951
CREATED:20230830T174052Z
LAST-MODIFIED:20230830T174052Z
UID:1968-1694878200-1694889000@sitemaps.gardinerbrewingcompany.com
SUMMARY:Sons of Hudson
DESCRIPTION:Orange County\, NY band playing your favorite hits!
URL:https://sitemaps.gardinerbrewingcompany.com/event/sons-of-hudson-11/
LOCATION:The Barn at Gardiner Brewing Company\, 699 State Route 208\, Gardiner\, NY\, 12525\, United States
CATEGORIES:Live Music
END:VEVENT
BEGIN:VEVENT
DTSTART;TZID=America/New_York:20230917T153000
DTEND;TZID=America/New_York:20230917T183000
DTSTAMP:20260425T182951
CREATED:20230830T174225Z
LAST-MODIFIED:20230830T174225Z
UID:1970-1694964600-1694975400@sitemaps.gardinerbrewingcompany.com
SUMMARY:Myles Mancuso Band
DESCRIPTION:Myles Mancuso is a multi-instrumentalist and has been playing Guitar\, Keyboards\, Drums and Bass since he was 10 years old. Most commonly fronting “The Myles Mancuso Band”\, where he sings and plays the Guitar and Keyboards.  Myles has composed\, performed\, produced\, and engineered all of the original tracks on his first four albums. His original style of music is a blend of Roots Americana and R&B. \nAfter graduating high school and attending college studying musical performance at the Purchase Conservatory for Music in NY\, he relocated to the Florida Keys where he performed up and down the Keys for a year and a half. He then relocated to Nashville where he spent about 2 years gigging nightly on Broadway\, at clubs like “The Stage”\, Gavin DeGraw’s “Nashville Underground”\, and other top venues on the historic Music Row\, Broadway Strip.  Myles also helped various local Nashville artists write and record tracks at a number of studios around Music City\, using his musical abilities to play Bass\, Drums and Keyboards for various up and coming artists in Nashville. \nNashville made a strong impression on him\, and he wanted to capture the sounds of Music City on his most recent album “Southern State of Mind”\, containing strictly Country and Americana Tracks. All of the instruments and lyrics were played and written by Myles\, and it covers everything from Outlaw to Opry\, Traditional to New Country Sounds. \nMyles has been fronting his own band and performing professionally for audiences since the age of nine.  Due to his talent and experience at such a young age\, Myles was headlining many of Manhattan‘s top venues before he graduated high school.  He was recognized in 2010 by TrueFire as one of the Top 10 Guitar Prodigies in the World. He’s frequently performed on some of the top stages in New York City\, such as BB Kings Club\, The Brooklyn Bowl\, The Iridium Jazz Club\, The Cutting Room\, The Village Underground\, Rockwood Music Hall\, Café Wha and more. \nOver the course of his career\, Myles has also played at popular festivals such as the Warren Haynes’ Mountain Jam Festival\, the Sarasota Blues Festival\, Gathering of the Vibes\, The New York State Blues Festival\, Rochester Jazz Festival\, and the Bethel Woods Blues Festival.  Along with performing on well-known stages\, Myles’ Band has opened for a variety of national artists\, such as The Allman Brothers\, Buddy Guy\, Robert Cray\, Les Paul\, Levon Helm and others. \nSome other notable moments in Myles’ music career; in 2012 The Myles Mancuso Story was nominated for an Emmy in the Entertainment: Program Feature/Segment category.  In 2010 Myles won an award from Boston’s Berklee College of Music for a jazz piano performance with “The Jazz Machine” (two-time national champions of the annual High School Jazz Band Competition at the Berklee College of Music). \nRight before the pandemic hit\, Myles relocated to Key West for a few years where he played at venues like the world famous Green Parrot Bar and Hogsbreath Saloon. He is now back in New York and working on his fifth album with Brent Mason and Shannon Forrest in Nashville. \nSid Bernstein\, who is best known as the promoter who brought the Beatles to America\, said in an interview while promoting a show that featured Myles in NYC\, “Myles is a bona fide prodigy that will thrill and captivate an audience.”  Les Paul stated\, “He reminds me of myself when I was a young boy.” Levon Helm\, Grammy winner and legendary drummer of The Band said\, “He may be a boy\, but he sure plays like a man.” An audience member summed up best what many people feel after hearing Myles play\, “It’s like seeing a musical legend in the making”. It’s a performance you can’t miss! \nStay updated on his social media or join the email list for any upcoming live performances and new music!
URL:https://sitemaps.gardinerbrewingcompany.com/event/myles-mancuso-band/
LOCATION:The Barn at Gardiner Brewing Company\, 699 State Route 208\, Gardiner\, NY\, 12525\, United States
END:VEVENT
BEGIN:VEVENT
DTSTART;TZID=America/New_York:20230923T153000
DTEND;TZID=America/New_York:20230923T183000
DTSTAMP:20260425T182951
CREATED:20230830T174819Z
LAST-MODIFIED:20230830T174819Z
UID:1972-1695483000-1695493800@sitemaps.gardinerbrewingcompany.com
SUMMARY:The Hardwoods
DESCRIPTION:These three unlikely\, accomplished musicians came together through family ties and Covid to become a musical force.  \nThe Hardwoods are:\nJon B.Woodin–an accomplished musician rooted in celtic music\, and beautiful virtuoso guitar work\, punctuated by his signature voice.\nDavid Woodin–a classically trained violinist\, and newly EWI (Electronic Wind Instrument) enthusiast.  David is also Jon’s dad\, who taught him his first 3 chords on the guitar.\nJanice Hardgrove–a seasoned vocalist/instrumentalist\, with over a decade’s long list of national TV jingles under her belt.\nThe trio grew out of the Covid lockdown.  All three were missing singing and playing music\, and the lockdown gave Dave an opportunity to work on his EWI (Electronic Wind Instrument)\,  Janice on her tenor guitar\, and Jon on writing more original compositions. What resulted was The Hardwoods!  — a trio with tight harmonies and a fun\, heartfelt mix of songs\, tunes and original compositions.\nWhere did the name The Hardwoods come from??  I’m sure you can figure that out on your own–a blending of both of our names\, and not a nod to sawing wood :-).   Jon and Dave both insist that they came up with the name!
URL:https://sitemaps.gardinerbrewingcompany.com/event/the-hardwoods/
LOCATION:The Barn at Gardiner Brewing Company\, 699 State Route 208\, Gardiner\, NY\, 12525\, United States
CATEGORIES:Live Music
END:VEVENT
BEGIN:VEVENT
DTSTART;TZID=America/New_York:20230924T153000
DTEND;TZID=America/New_York:20230924T183000
DTSTAMP:20260425T182951
CREATED:20230830T175023Z
LAST-MODIFIED:20230830T175023Z
UID:1974-1695569400-1695580200@sitemaps.gardinerbrewingcompany.com
SUMMARY:Little Rock
DESCRIPTION:“Little Rock” is a swampy/gritty\, funky/bluesy\, rock and roll band comprised of a quartet of seasoned music veterans that share a passion of delivering live music to music lovers far and wide. \nIt would be near impossible to put one label on the music “Little Rock” creates\, Americana to say the least\, but so much more. Think Creedence meets the Dead\, or perhaps NRBQ meets the Elvin Bishop band\, or even Little Feat meets Johnny Cash! \nBand-members include band leader and founder Vito Petroccitto\, singer/songwriter\, musician\, producer\, actor and most of all entertainer extraordinaire. He’s been pleasing audiences in and around the Hudson Valley region of New York for nearly 40 years. Performing cover tunes in various Bar Bands in his early days\, he’s reached a point in his life where he’s bound and determined to create his own music and go deeper into his heart and soul. His touring experience includes performing with Professor Louie and the Crowmatix\, the Amrod Band with Pee Wee Ellis and Fred Wesley (James Brown Horns)\, Frank Gadler Band (original vocalist NRBQ)\, Sloan Wainwright\, And many others. Vito has produced hundreds of records and with the other guys in Little Rock\, continues to do session work on a steady basis. However\, the focus is now performing live! The love of his life is to make people happy through music! \nThe rest of the band-members are Eric Parker on drums (John Hall Band\, Bonnie Raitt\, Steve Winwood\, Joe Cocker\, Eric Clapton\, the list goes on)\, Mark Dann on bass (many years of experience as a producer/recording studio owner/operator \,too many associations to list!) and Jeff Schechter (Big Smoothies)
URL:https://sitemaps.gardinerbrewingcompany.com/event/little-rock/
LOCATION:The Barn at Gardiner Brewing Company\, 699 State Route 208\, Gardiner\, NY\, 12525\, United States
CATEGORIES:Live Music
END:VEVENT
BEGIN:VEVENT
DTSTART;TZID=America/New_York:20230930T153000
DTEND;TZID=America/New_York:20230930T183000
DTSTAMP:20260425T182951
CREATED:20230830T175232Z
LAST-MODIFIED:20230830T175232Z
UID:1976-1696087800-1696098600@sitemaps.gardinerbrewingcompany.com
SUMMARY:Roche & Collins
DESCRIPTION:Based in Woodstock\, New York and having played music together from a young age- our band has developed an electric & acoustic mix of original music that blends elements of folk rock\, psychedelic rock\, and funk. Our performances are a unique and engaging experience. We draw inspiration from a variety of musical genres and artists\, creating a sound that is both familiar and fresh. Whether we’re playing to a packed house or an intimate gathering\, we always bring our passion and creativity to the stage.
URL:https://sitemaps.gardinerbrewingcompany.com/event/roche-collins/
LOCATION:The Barn at Gardiner Brewing Company\, 699 State Route 208\, Gardiner\, NY\, 12525\, United States
CATEGORIES:Live Music
END:VEVENT
END:VCALENDAR