BEGIN:VCALENDAR
VERSION:2.0
PRODID:-//Gardiner Brewing Company - ECPv6.15.20//NONSGML v1.0//EN
CALSCALE:GREGORIAN
METHOD:PUBLISH
X-ORIGINAL-URL:https://sitemaps.gardinerbrewingcompany.com
X-WR-CALDESC:Events for Gardiner Brewing Company
REFRESH-INTERVAL;VALUE=DURATION:PT1H
X-Robots-Tag:noindex
X-PUBLISHED-TTL:PT1H
BEGIN:VTIMEZONE
TZID:America/New_York
BEGIN:DAYLIGHT
TZOFFSETFROM:-0500
TZOFFSETTO:-0400
TZNAME:EDT
DTSTART:20220313T070000
END:DAYLIGHT
BEGIN:STANDARD
TZOFFSETFROM:-0400
TZOFFSETTO:-0500
TZNAME:EST
DTSTART:20221106T060000
END:STANDARD
BEGIN:DAYLIGHT
TZOFFSETFROM:-0500
TZOFFSETTO:-0400
TZNAME:EDT
DTSTART:20230312T070000
END:DAYLIGHT
BEGIN:STANDARD
TZOFFSETFROM:-0400
TZOFFSETTO:-0500
TZNAME:EST
DTSTART:20231105T060000
END:STANDARD
BEGIN:DAYLIGHT
TZOFFSETFROM:-0500
TZOFFSETTO:-0400
TZNAME:EDT
DTSTART:20240310T070000
END:DAYLIGHT
BEGIN:STANDARD
TZOFFSETFROM:-0400
TZOFFSETTO:-0500
TZNAME:EST
DTSTART:20241103T060000
END:STANDARD
END:VTIMEZONE
BEGIN:VEVENT
DTSTART;TZID=America/New_York:20230603T153000
DTEND;TZID=America/New_York:20230610T183000
DTSTAMP:20260425T224516
CREATED:20230530T123756Z
LAST-MODIFIED:20230530T123756Z
UID:1801-1685806200-1686421800@sitemaps.gardinerbrewingcompany.com
SUMMARY:The Tonebenders
DESCRIPTION:The TONEBENDERS band consists of seasoned musicians and vocalists with decades of professional experience and have played in some of the most popular bands in the Hudson Valley.\nThe group covers a wide variety of musical genres including classic jazz standards\, great R+B songs\, dance music\, classics from the 60’s to current pop and country favorites. Playing music to listen to or dance the night away to… songs like Etta James’ “At Last”\, or some Frank Sinatra\, Johnny Cash\, Beatles\, John Mayer\, Dua Lipa\, Steely Dan\, Funk and Disco\, The group has a high standard of musicianship and all amazing vocal harmonies.
URL:https://sitemaps.gardinerbrewingcompany.com/event/the-tonebenders-2/
LOCATION:The Barn at Gardiner Brewing Company\, 699 State Route 208\, Gardiner\, NY\, 12525\, United States
CATEGORIES:Live Music
END:VEVENT
BEGIN:VEVENT
DTSTART;TZID=America/New_York:20230604T153000
DTEND;TZID=America/New_York:20230604T183000
DTSTAMP:20260425T224516
CREATED:20230530T123913Z
LAST-MODIFIED:20230530T123913Z
UID:1803-1685892600-1685903400@sitemaps.gardinerbrewingcompany.com
SUMMARY:Jaketown Road
DESCRIPTION:Classic 60’s and 70’s Rock\, Southern Rock\,Blues Rock\, Soul\, The Allman Brothers & The Grateful Dead!
URL:https://sitemaps.gardinerbrewingcompany.com/event/jaketown-road/
LOCATION:The Barn at Gardiner Brewing Company\, 699 State Route 208\, Gardiner\, NY\, 12525\, United States
CATEGORIES:Live Music
END:VEVENT
BEGIN:VEVENT
DTSTART;TZID=America/New_York:20230610T153000
DTEND;TZID=America/New_York:20230610T183000
DTSTAMP:20260425T224516
CREATED:20230530T123959Z
LAST-MODIFIED:20230530T124217Z
UID:1805-1686411000-1686421800@sitemaps.gardinerbrewingcompany.com
SUMMARY:Brasskill
DESCRIPTION:Brasskill is a lively 14-piece party brass band whose mission is your party out on dance floor. Bringing funky decibels to parties\, festivals\, parades and other merry gatherings in Hudson Valley and surrounding areas\, Brasskill’s high-energy live performances feature driving percussion section\, shiny\, melodic horns\, innovative band choreography\, LED lights\, and the finest thrift store sparkly attire that one can find. The band’s wide-ranging repertoire includes music from the New Orleans second line tradition\, punk and pop covers\, international grooves\, as well as original compositions and arrangements.
URL:https://sitemaps.gardinerbrewingcompany.com/event/brasskill-4/
LOCATION:The Barn at Gardiner Brewing Company\, 699 State Route 208\, Gardiner\, NY\, 12525\, United States
CATEGORIES:Live Music
END:VEVENT
BEGIN:VEVENT
DTSTART;TZID=America/New_York:20230611T153000
DTEND;TZID=America/New_York:20230611T183000
DTSTAMP:20260425T224516
CREATED:20230530T175206Z
LAST-MODIFIED:20230530T175206Z
UID:1817-1686497400-1686508200@sitemaps.gardinerbrewingcompany.com
SUMMARY:John Irizarry and Rev Dogs
DESCRIPTION:
URL:https://sitemaps.gardinerbrewingcompany.com/event/john-irizarry-and-rev-dogs/
LOCATION:The Barn at Gardiner Brewing Company\, 699 State Route 208\, Gardiner\, NY\, 12525\, United States
CATEGORIES:Live Music
END:VEVENT
BEGIN:VEVENT
DTSTART;TZID=America/New_York:20230617T153000
DTEND;TZID=America/New_York:20230617T183000
DTSTAMP:20260425T224516
CREATED:20230530T124516Z
LAST-MODIFIED:20230530T124516Z
UID:1807-1687015800-1687026600@sitemaps.gardinerbrewingcompany.com
SUMMARY:Soul Purpose
DESCRIPTION:With a distinctive take on New Orleans Funk\, classic and contemporary Soul and Swing\, Soul Purpose is a “smokin’ band whose joyous renditions of R&B\, Soul and Swing will lift your heart\, gathering the boisterous energy of a dancing crowd and channeling it into a melodic explosion.” – The Huguenot Herald.\nSoul Purpose enthralls from the first note with powerhouse vocals\, bold horns\, lush keyboards\, and blistering guitarwork with the rhythmic reference and underlying pulse for the band provided by expertly played bass and percussion. Formed in New Paltz\, New York over two decades ago and recently named “Best Local Band” by the readers of Hudson Valley Magazine\, the band has played at numerous venues from intimate concerts\, larger festival stages and benefits. Soul Purpose has headlined at the famed Daryl’s House Club\, Pawling\, NY\, iconic Towne Crier Cafe\, Beacon\, NY\, historic Colony\, Woodstock\, NY and renowned Falcon\, Marlboro\, NY. The band has opened for such prominent artists as Grammy Award Nominee and Blues Music Award Nominee\, Shemekia Copeland; Grammy Award Nominee Singer/Songwriter Blues album\, Slam Allen and the Chris O’Leary Band.\nLead singer Sara Espinosa is joined by Dr. Lori Morris\, alto and tenor saxophone\, percussion and vocals; Rich De Crosta\, trumpet\, flugelhorn\, percussion and vocals; Cue Gerhards\, guitar and vocals; Francis Ralston\, bass and background vocals\, and Jerry Teters\, drums and vocals. Together\, they create a vibe that is described by a recent concertgoer as\, “Needle pushing the end & bouncing – a 10 +on a scale of 10 with the poor needle trying to break the stopper!”
URL:https://sitemaps.gardinerbrewingcompany.com/event/soul-purpose-8/
LOCATION:The Barn at Gardiner Brewing Company\, 699 State Route 208\, Gardiner\, NY\, 12525\, United States
CATEGORIES:Live Music
END:VEVENT
BEGIN:VEVENT
DTSTART;TZID=America/New_York:20230618T153000
DTEND;TZID=America/New_York:20230618T183000
DTSTAMP:20260425T224516
CREATED:20230530T125228Z
LAST-MODIFIED:20230530T125228Z
UID:1809-1687102200-1687113000@sitemaps.gardinerbrewingcompany.com
SUMMARY:First Round
DESCRIPTION:First Round is a high energy 6 piece dance rock cover band playing all the best danceable classic rock and alternative music you love blended together in long non stop sets of songs for your next event. The band features two lead vocalists with strong harmonies and tight music behind them powered by some of the best musicians in the Hudson Valley.
URL:https://sitemaps.gardinerbrewingcompany.com/event/first-round/
LOCATION:The Barn at Gardiner Brewing Company\, 699 State Route 208\, Gardiner\, NY\, 12525\, United States
CATEGORIES:Live Music
END:VEVENT
BEGIN:VEVENT
DTSTART;TZID=America/New_York:20230624T153000
DTEND;TZID=America/New_York:20230624T183000
DTSTAMP:20260425T224516
CREATED:20230530T125411Z
LAST-MODIFIED:20230530T125411Z
UID:1811-1687620600-1687631400@sitemaps.gardinerbrewingcompany.com
SUMMARY:The SideMen Blues Band
DESCRIPTION:Snapper and Ken have been playing the blues since the late ’60’s. We started our journey during high school in Cornwall\, NY. After graduation we set off on our own paths and lost contact for 35 years or so. We reconnected again around 2009 (thank you Facebook) and began planning. Eventually Ken moved back to the Hudson Valley and it was game on. Enlisting the help of Avery (Ken’s son) on drums and Matt Dowden on bass the Sidemen began to take form. It’s a really interesting mix of musicians. Two players in their 60’s and two players in their 20’s. Lots of fun\, energy and learning in every direction.
URL:https://sitemaps.gardinerbrewingcompany.com/event/the-sidemen-blues-band-3/
LOCATION:The Barn at Gardiner Brewing Company\, 699 State Route 208\, Gardiner\, NY\, 12525\, United States
CATEGORIES:Live Music
END:VEVENT
BEGIN:VEVENT
DTSTART;TZID=America/New_York:20230625T153000
DTEND;TZID=America/New_York:20230625T183000
DTSTAMP:20260425T224516
CREATED:20230530T125554Z
LAST-MODIFIED:20230530T125554Z
UID:1813-1687707000-1687717800@sitemaps.gardinerbrewingcompany.com
SUMMARY:Little Creek Band
DESCRIPTION:The Little Creek Band is a Country Rock Irish Mash-up….kinda like Clancy Brothers meet Johnny Cash meet Jimmy Page. Mix up soaring 4 part harmonies with rip roaring guitar\, mandolin\, and Irish Whistle….add a rocking Rhythm section that gets everybody on their feet and you have The Little Creek Band.\nThe band’s front man is Dennis Nesel who sings and plays Acoustic Guitar\, Mandolin\, Irish Whistle and Trumpet. Don Bell rocks the electric guitar and synth and sings\, Kevin Jeffreys plays bass guitar and sings and Bobby Legg plays drums and sings.
URL:https://sitemaps.gardinerbrewingcompany.com/event/little-creek-band-4/
LOCATION:The Barn at Gardiner Brewing Company\, 699 State Route 208\, Gardiner\, NY\, 12525\, United States
CATEGORIES:Live Music
END:VEVENT
BEGIN:VEVENT
DTSTART;TZID=America/New_York:20230630T170000
DTEND;TZID=America/New_York:20230630T220000
DTSTAMP:20260425T224516
CREATED:20230530T125655Z
LAST-MODIFIED:20230530T174846Z
UID:1815-1688144400-1688162400@sitemaps.gardinerbrewingcompany.com
SUMMARY:Line Dancing at Gardiner Brewing Company
DESCRIPTION:
URL:https://sitemaps.gardinerbrewingcompany.com/event/line-dancing-at-gardiner-brewing-company/
LOCATION:The Barn at Gardiner Brewing Company\, 699 State Route 208\, Gardiner\, NY\, 12525\, United States
END:VEVENT
END:VCALENDAR