BEGIN:VCALENDAR
VERSION:2.0
PRODID:-//Gardiner Brewing Company - ECPv6.15.20//NONSGML v1.0//EN
CALSCALE:GREGORIAN
METHOD:PUBLISH
X-WR-CALNAME:Gardiner Brewing Company
X-ORIGINAL-URL:https://sitemaps.gardinerbrewingcompany.com
X-WR-CALDESC:Events for Gardiner Brewing Company
REFRESH-INTERVAL;VALUE=DURATION:PT1H
X-Robots-Tag:noindex
X-PUBLISHED-TTL:PT1H
BEGIN:VTIMEZONE
TZID:America/New_York
BEGIN:DAYLIGHT
TZOFFSETFROM:-0500
TZOFFSETTO:-0400
TZNAME:EDT
DTSTART:20190310T070000
END:DAYLIGHT
BEGIN:STANDARD
TZOFFSETFROM:-0400
TZOFFSETTO:-0500
TZNAME:EST
DTSTART:20191103T060000
END:STANDARD
BEGIN:DAYLIGHT
TZOFFSETFROM:-0500
TZOFFSETTO:-0400
TZNAME:EDT
DTSTART:20200308T070000
END:DAYLIGHT
BEGIN:STANDARD
TZOFFSETFROM:-0400
TZOFFSETTO:-0500
TZNAME:EST
DTSTART:20201101T060000
END:STANDARD
BEGIN:DAYLIGHT
TZOFFSETFROM:-0500
TZOFFSETTO:-0400
TZNAME:EDT
DTSTART:20210314T070000
END:DAYLIGHT
BEGIN:STANDARD
TZOFFSETFROM:-0400
TZOFFSETTO:-0500
TZNAME:EST
DTSTART:20211107T060000
END:STANDARD
BEGIN:DAYLIGHT
TZOFFSETFROM:-0500
TZOFFSETTO:-0400
TZNAME:EDT
DTSTART:20220313T070000
END:DAYLIGHT
BEGIN:STANDARD
TZOFFSETFROM:-0400
TZOFFSETTO:-0500
TZNAME:EST
DTSTART:20221106T060000
END:STANDARD
END:VTIMEZONE
BEGIN:VEVENT
DTSTART;TZID=America/New_York:20210411T153000
DTEND;TZID=America/New_York:20210411T183000
DTSTAMP:20260424T235448
CREATED:20210313T125349Z
LAST-MODIFIED:20210313T125349Z
UID:731-1618155000-1618165800@sitemaps.gardinerbrewingcompany.com
SUMMARY:Bunker Boys
DESCRIPTION:A six man band from Coldenham NY\, the Bunker Boys are a melodious freight train of hillbilly havoc running all over the Hudson Valley. Rooted in Carter family style gospel singing\, these boys are set to lift spirits high and keep them there.
URL:https://sitemaps.gardinerbrewingcompany.com/event/bunker-boys-5/
LOCATION:The Barn at Gardiner Brewing Company\, 699 State Route 208\, Gardiner\, NY\, 12525\, United States
CATEGORIES:Live Music
END:VEVENT
BEGIN:VEVENT
DTSTART;TZID=America/New_York:20210410T153000
DTEND;TZID=America/New_York:20210410T183000
DTSTAMP:20260424T235448
CREATED:20210326T222620Z
LAST-MODIFIED:20210326T222620Z
UID:746-1618068600-1618079400@sitemaps.gardinerbrewingcompany.com
SUMMARY:The Grateful Duo
DESCRIPTION:Alex and Rob from Gratefully Yours giving us a day of Dead music. Come one\, come all\, listen to the music play!
URL:https://sitemaps.gardinerbrewingcompany.com/event/the-grateful-duo/
LOCATION:The Barn at Gardiner Brewing Company\, 699 State Route 208\, Gardiner\, NY\, 12525\, United States
CATEGORIES:Live Music
END:VEVENT
BEGIN:VEVENT
DTSTART;VALUE=DATE:20210404
DTEND;VALUE=DATE:20210405
DTSTAMP:20260424T235448
CREATED:20210227T165830Z
LAST-MODIFIED:20210227T165830Z
UID:665-1617494400-1617580799@sitemaps.gardinerbrewingcompany.com
SUMMARY:CLOSED for Easter Sunday
DESCRIPTION:We are closed for Easter Sunday.
URL:https://sitemaps.gardinerbrewingcompany.com/event/closed-for-easter-sunday/
LOCATION:The Barn at Gardiner Brewing Company\, 699 State Route 208\, Gardiner\, NY\, 12525\, United States
CATEGORIES:Private Event
END:VEVENT
BEGIN:VEVENT
DTSTART;TZID=America/New_York:20210403T153000
DTEND;TZID=America/New_York:20210403T193000
DTSTAMP:20260424T235448
CREATED:20210227T165746Z
LAST-MODIFIED:20210227T165746Z
UID:663-1617463800-1617478200@sitemaps.gardinerbrewingcompany.com
SUMMARY:Tilly Foster
DESCRIPTION:Bluegrass like you’ve never heard before. Tilly Foster‘s sound is a modern twist on Bluegrass and Americana. \nThe band was formed by Tim Fogarty (guitar) with long time friends\, Bryan Lynch (banjo)  and Mike Colucci (mandolin)\, both former members of Buckeye Rooster. The band was made complete with Cole McCormick (bass) and Vicky Triola (violin). Its shows are non stop fun\, high energy and excitement to be a part of. They are guaranteed to have the crowd singing and dancing through the final set. Like all great bands with presence\, the crowd will likely refuse to leave before Tilly Foster’s encore is complete!
URL:https://sitemaps.gardinerbrewingcompany.com/event/tilly-foster-2/
LOCATION:The Barn at Gardiner Brewing Company\, 699 State Route 208\, Gardiner\, NY\, 12525\, United States
CATEGORIES:Live Music
END:VEVENT
BEGIN:VEVENT
DTSTART;TZID=America/New_York:20210328T153000
DTEND;TZID=America/New_York:20210328T183000
DTSTAMP:20260424T235448
CREATED:20210313T125210Z
LAST-MODIFIED:20210313T125210Z
UID:729-1616945400-1616956200@sitemaps.gardinerbrewingcompany.com
SUMMARY:Oxford Station Band
DESCRIPTION:
URL:https://sitemaps.gardinerbrewingcompany.com/event/oxford-station-band-9/
LOCATION:The Barn at Gardiner Brewing Company\, 699 State Route 208\, Gardiner\, NY\, 12525\, United States
CATEGORIES:Live Music
END:VEVENT
BEGIN:VEVENT
DTSTART;TZID=America/New_York:20210327T153000
DTEND;TZID=America/New_York:20210327T183000
DTSTAMP:20260424T235448
CREATED:20210313T125138Z
LAST-MODIFIED:20210313T125138Z
UID:727-1616859000-1616869800@sitemaps.gardinerbrewingcompany.com
SUMMARY:The Classics
DESCRIPTION:A fan favorite – Andrew Jordan and his band are back in the Barn.
URL:https://sitemaps.gardinerbrewingcompany.com/event/the-classics-8/
LOCATION:The Barn at Gardiner Brewing Company\, 699 State Route 208\, Gardiner\, NY\, 12525\, United States
CATEGORIES:Live Music
END:VEVENT
BEGIN:VEVENT
DTSTART;TZID=America/New_York:20210321T153000
DTEND;TZID=America/New_York:20210321T193000
DTSTAMP:20260424T235448
CREATED:20210227T165537Z
LAST-MODIFIED:20210315T182509Z
UID:661-1616340600-1616355000@sitemaps.gardinerbrewingcompany.com
SUMMARY:Jerry Irizarry and The Lost Dogs
DESCRIPTION:Some familiar faces but a new band in The Barn!
URL:https://sitemaps.gardinerbrewingcompany.com/event/jerry-the-bulldog-4/
LOCATION:The Barn at Gardiner Brewing Company\, 699 State Route 208\, Gardiner\, NY\, 12525\, United States
CATEGORIES:Live Music
END:VEVENT
BEGIN:VEVENT
DTSTART;TZID=America/New_York:20210320T153000
DTEND;TZID=America/New_York:20210320T183000
DTSTAMP:20260424T235448
CREATED:20210227T160224Z
LAST-MODIFIED:20210227T160224Z
UID:659-1616254200-1616265000@sitemaps.gardinerbrewingcompany.com
SUMMARY:O Duo Vito
DESCRIPTION:A Gardiner Brewing Company first appearance! U Dou Vito \n“Singer/songwriter/musician Vito Petroccitto is magic. And we’re not just talking about the way he deftly casts alternating spells on his audiences\, moving them either to awe\, tears\, full-out belly laughs\, or all three at once. Armed with his gritty\, dirty\, swampy telecaster guitar\, or his beautiful Taylor acoustic\, his crazy-good vocal chords\, and more than a touch of genius\, Vito has somehow figured out how to do the work of ten men.  Vito is a true artist\, born of a true artist. He has lived\, breathed and (hardly) slept music all his life. Moreover\, he is a true entertainer. He is happiest with his telecaster strapped around his neck\, but his versatility lends the depth and staying power necessary to make his art a lifelong career. He takes on anything and everything—within the bounds of personal integrity\, of course—and what sets him apart is the way he dives in\, whole-hog\, always bringing his full-on passion\, remarkable and wide-ranging technique and skill\, boundless energy\, and genuine soul-smile to each and every endeavor. Vito Petroccitto is larger than life\, both literally and figuratively. If you don’t leave an encounter with him smiling your head off\, you may have no soul.”
URL:https://sitemaps.gardinerbrewingcompany.com/event/o-duo-vito/
LOCATION:The Barn at Gardiner Brewing Company\, 699 State Route 208\, Gardiner\, NY\, 12525\, United States
CATEGORIES:Live Music
END:VEVENT
BEGIN:VEVENT
DTSTART;TZID=America/New_York:20210314T153000
DTEND;TZID=America/New_York:20210314T183000
DTSTAMP:20260424T235448
CREATED:20210212T175726Z
LAST-MODIFIED:20210212T175726Z
UID:628-1615735800-1615746600@sitemaps.gardinerbrewingcompany.com
SUMMARY:Wild Irish Roses
DESCRIPTION:Irish family band for day 2 of the St. Patrick’s Day celebrations.
URL:https://sitemaps.gardinerbrewingcompany.com/event/wild-irish-roses-4/
LOCATION:The Barn at Gardiner Brewing Company\, 699 State Route 208\, Gardiner\, NY\, 12525\, United States
CATEGORIES:Live Music
END:VEVENT
BEGIN:VEVENT
DTSTART;TZID=America/New_York:20210313T153000
DTEND;TZID=America/New_York:20210313T183000
DTSTAMP:20260424T235448
CREATED:20210212T175633Z
LAST-MODIFIED:20210212T175633Z
UID:626-1615649400-1615660200@sitemaps.gardinerbrewingcompany.com
SUMMARY:Templars of Doom
DESCRIPTION:Irish punk rock to celebrate St. Patrick’s Day!
URL:https://sitemaps.gardinerbrewingcompany.com/event/templars-of-doom-4/
LOCATION:The Barn at Gardiner Brewing Company\, 699 State Route 208\, Gardiner\, NY\, 12525\, United States
CATEGORIES:Live Music
END:VEVENT
BEGIN:VEVENT
DTSTART;TZID=America/New_York:20210306T153000
DTEND;TZID=America/New_York:20210306T183000
DTSTAMP:20260424T235448
CREATED:20210227T155713Z
LAST-MODIFIED:20210227T155713Z
UID:653-1615044600-1615055400@sitemaps.gardinerbrewingcompany.com
SUMMARY:Four of a Kind
DESCRIPTION:Four of a Kind – local guys playing great sound.
URL:https://sitemaps.gardinerbrewingcompany.com/event/four-of-a-kind-10/
LOCATION:The Barn at Gardiner Brewing Company\, 699 State Route 208\, Gardiner\, NY\, 12525\, United States
CATEGORIES:Live Music
END:VEVENT
BEGIN:VEVENT
DTSTART;TZID=America/New_York:20210227T153000
DTEND;TZID=America/New_York:20210227T183000
DTSTAMP:20260424T235448
CREATED:20210212T175554Z
LAST-MODIFIED:20210212T175554Z
UID:624-1614439800-1614450600@sitemaps.gardinerbrewingcompany.com
SUMMARY:The Classics
DESCRIPTION:
URL:https://sitemaps.gardinerbrewingcompany.com/event/the-classics-7/
LOCATION:The Barn at Gardiner Brewing Company\, 699 State Route 208\, Gardiner\, NY\, 12525\, United States
CATEGORIES:Live Music
END:VEVENT
BEGIN:VEVENT
DTSTART;TZID=America/New_York:20210220T153000
DTEND;TZID=America/New_York:20210220T183000
DTSTAMP:20260424T235448
CREATED:20210212T175529Z
LAST-MODIFIED:20210212T175529Z
UID:622-1613835000-1613845800@sitemaps.gardinerbrewingcompany.com
SUMMARY:Oxford Station Band
DESCRIPTION:
URL:https://sitemaps.gardinerbrewingcompany.com/event/oxford-station-band-8/
LOCATION:The Barn at Gardiner Brewing Company\, 699 State Route 208\, Gardiner\, NY\, 12525\, United States
CATEGORIES:Live Music
END:VEVENT
BEGIN:VEVENT
DTSTART;TZID=America/New_York:20210213T153000
DTEND;TZID=America/New_York:20210213T183000
DTSTAMP:20260424T235448
CREATED:20210210T221416Z
LAST-MODIFIED:20210210T221416Z
UID:608-1613230200-1613241000@sitemaps.gardinerbrewingcompany.com
SUMMARY:Jerry the Bulldog
DESCRIPTION:jerrythebulldog.com \nThey’re back! We love these guys. They play everything from the Rolling Stones to the Dead to  Indoor and outdoor seating available.
URL:https://sitemaps.gardinerbrewingcompany.com/event/jerry-the-bulldog-3/
LOCATION:The Barn at Gardiner Brewing Company\, 699 State Route 208\, Gardiner\, NY\, 12525\, United States
CATEGORIES:Live Music
END:VEVENT
BEGIN:VEVENT
DTSTART;TZID=America/New_York:20210123T153000
DTEND;TZID=America/New_York:20210123T183000
DTSTAMP:20260424T235448
CREATED:20210121T195440Z
LAST-MODIFIED:20210121T195440Z
UID:597-1611415800-1611426600@sitemaps.gardinerbrewingcompany.com
SUMMARY:Four of a Kind
DESCRIPTION:Indoor and outdoor seating available. Can’t wait to rock it in the Barn!
URL:https://sitemaps.gardinerbrewingcompany.com/event/four-of-a-kind-9/
LOCATION:The Barn at Gardiner Brewing Company\, 699 State Route 208\, Gardiner\, NY\, 12525\, United States
CATEGORIES:Live Music
END:VEVENT
BEGIN:VEVENT
DTSTART;TZID=America/New_York:20210116T153000
DTEND;TZID=America/New_York:20210116T183000
DTSTAMP:20260424T235448
CREATED:20210115T205319Z
LAST-MODIFIED:20210115T205319Z
UID:589-1610811000-1610821800@sitemaps.gardinerbrewingcompany.com
SUMMARY:Oxford Station Band
DESCRIPTION:It feels great to have OSB be our first band of 2021! Come out and enjoy the tunes.
URL:https://sitemaps.gardinerbrewingcompany.com/event/oxford-station-band-7/
LOCATION:The Barn at Gardiner Brewing Company\, 699 State Route 208\, Gardiner\, NY\, 12525\, United States
CATEGORIES:Live Music
END:VEVENT
BEGIN:VEVENT
DTSTART;TZID=America/New_York:20201220T153000
DTEND;TZID=America/New_York:20201220T183000
DTSTAMP:20260424T235448
CREATED:20201205T205735Z
LAST-MODIFIED:20201205T205735Z
UID:571-1608478200-1608489000@sitemaps.gardinerbrewingcompany.com
SUMMARY:TJ and the Bipartisan Allstars
DESCRIPTION:Come check out this band’s first time in the Barn.
URL:https://sitemaps.gardinerbrewingcompany.com/event/tj-and-the-bipartisan-allstars/
LOCATION:The Barn at Gardiner Brewing Company\, 699 State Route 208\, Gardiner\, NY\, 12525\, United States
CATEGORIES:Live Music
END:VEVENT
BEGIN:VEVENT
DTSTART;TZID=America/New_York:20201219T160000
DTEND;TZID=America/New_York:20201219T190000
DTSTAMP:20260424T235448
CREATED:20200808T162048Z
LAST-MODIFIED:20200808T162048Z
UID:437-1608393600-1608404400@sitemaps.gardinerbrewingcompany.com
SUMMARY:Judith Tulloch Band
DESCRIPTION:Come and enjoy the songs of the season with a cold beer from our taps. We love celebrating with Judith and her band.
URL:https://sitemaps.gardinerbrewingcompany.com/event/judith-tulloch-band-9/
LOCATION:The Barn at Gardiner Brewing Company\, 699 State Route 208\, Gardiner\, NY\, 12525\, United States
CATEGORIES:Live Music
END:VEVENT
BEGIN:VEVENT
DTSTART;TZID=America/New_York:20201213T153000
DTEND;TZID=America/New_York:20201213T183000
DTSTAMP:20260424T235448
CREATED:20201210T172734Z
LAST-MODIFIED:20201210T172734Z
UID:576-1607873400-1607884200@sitemaps.gardinerbrewingcompany.com
SUMMARY:Bunker Boys
DESCRIPTION:The Bunker Boys are back in the Barn!
URL:https://sitemaps.gardinerbrewingcompany.com/event/bunker-boys-4/
LOCATION:The Barn at Gardiner Brewing Company\, 699 State Route 208\, Gardiner\, NY\, 12525\, United States
CATEGORIES:Live Music
END:VEVENT
BEGIN:VEVENT
DTSTART;TZID=America/New_York:20201212T153000
DTEND;TZID=America/New_York:20201212T183000
DTSTAMP:20260424T235448
CREATED:20201205T205551Z
LAST-MODIFIED:20201205T205551Z
UID:569-1607787000-1607797800@sitemaps.gardinerbrewingcompany.com
SUMMARY:Jerry the Bulldog
DESCRIPTION:We love this band! Come check out their great selection of music.
URL:https://sitemaps.gardinerbrewingcompany.com/event/jerry-the-bulldog-2/
LOCATION:The Barn at Gardiner Brewing Company\, 699 State Route 208\, Gardiner\, NY\, 12525\, United States
CATEGORIES:Live Music
END:VEVENT
BEGIN:VEVENT
DTSTART;TZID=America/New_York:20201205T153000
DTEND;TZID=America/New_York:20201205T183000
DTSTAMP:20260424T235448
CREATED:20201204T223145Z
LAST-MODIFIED:20201204T223145Z
UID:564-1607182200-1607193000@sitemaps.gardinerbrewingcompany.com
SUMMARY:The Classics
DESCRIPTION:Andrew Jordan and his band is back! Indoor and outdoor seating is available.
URL:https://sitemaps.gardinerbrewingcompany.com/event/the-classics-6/
LOCATION:The Barn at Gardiner Brewing Company\, 699 State Route 208\, Gardiner\, NY\, 12525\, United States
CATEGORIES:Live Music
END:VEVENT
BEGIN:VEVENT
DTSTART;TZID=America/New_York:20201121T160000
DTEND;TZID=America/New_York:20201121T183000
DTSTAMP:20260424T235448
CREATED:20201114T173217Z
LAST-MODIFIED:20201114T173217Z
UID:550-1605974400-1605983400@sitemaps.gardinerbrewingcompany.com
SUMMARY:Gridline
DESCRIPTION:
URL:https://sitemaps.gardinerbrewingcompany.com/event/gridline-3/
LOCATION:The Barn at Gardiner Brewing Company\, 699 State Route 208\, Gardiner\, NY\, 12525\, United States
CATEGORIES:Live Music
END:VEVENT
BEGIN:VEVENT
DTSTART;TZID=America/New_York:20201115T160000
DTEND;TZID=America/New_York:20201115T183000
DTSTAMP:20260424T235448
CREATED:20201114T173242Z
LAST-MODIFIED:20201114T173242Z
UID:552-1605456000-1605465000@sitemaps.gardinerbrewingcompany.com
SUMMARY:Four of a Kind
DESCRIPTION:
URL:https://sitemaps.gardinerbrewingcompany.com/event/four-of-a-kind-8/
LOCATION:The Barn at Gardiner Brewing Company\, 699 State Route 208\, Gardiner\, NY\, 12525\, United States
CATEGORIES:Live Music
END:VEVENT
BEGIN:VEVENT
DTSTART;TZID=America/New_York:20201114T160000
DTEND;TZID=America/New_York:20201114T190000
DTSTAMP:20260424T235448
CREATED:20200808T162003Z
LAST-MODIFIED:20200808T162003Z
UID:435-1605369600-1605380400@sitemaps.gardinerbrewingcompany.com
SUMMARY:Judith Tulloch Band
DESCRIPTION:Back again to the Barn! Dance\, listen\, and enjoy this local treasure.
URL:https://sitemaps.gardinerbrewingcompany.com/event/judith-tulloch-band-8/
LOCATION:The Barn at Gardiner Brewing Company\, 699 State Route 208\, Gardiner\, NY\, 12525\, United States
CATEGORIES:Live Music
END:VEVENT
BEGIN:VEVENT
DTSTART;TZID=America/New_York:20201108T160000
DTEND;TZID=America/New_York:20201108T190000
DTSTAMP:20260424T235448
CREATED:20200909T163547Z
LAST-MODIFIED:20200909T163547Z
UID:491-1604851200-1604862000@sitemaps.gardinerbrewingcompany.com
SUMMARY:Wild Irish Roses
DESCRIPTION:A local\, family band playing Irish music. It’s a true sight to see.
URL:https://sitemaps.gardinerbrewingcompany.com/event/wild-irish-roses-3/
LOCATION:The Barn at Gardiner Brewing Company\, 699 State Route 208\, Gardiner\, NY\, 12525\, United States
CATEGORIES:Live Music
END:VEVENT
BEGIN:VEVENT
DTSTART;TZID=America/New_York:20201107T160000
DTEND;TZID=America/New_York:20201107T190000
DTSTAMP:20260424T235448
CREATED:20201106T185644Z
LAST-MODIFIED:20201106T185644Z
UID:545-1604764800-1604775600@sitemaps.gardinerbrewingcompany.com
SUMMARY:Oxford Station Band
DESCRIPTION:
URL:https://sitemaps.gardinerbrewingcompany.com/event/oxford-station-band-6/
LOCATION:The Barn at Gardiner Brewing Company\, 699 State Route 208\, Gardiner\, NY\, 12525\, United States
CATEGORIES:Live Music
END:VEVENT
BEGIN:VEVENT
DTSTART;TZID=America/New_York:20201101T160000
DTEND;TZID=America/New_York:20201101T190000
DTSTAMP:20260424T235448
CREATED:20201024T120723Z
LAST-MODIFIED:20201024T120723Z
UID:536-1604246400-1604257200@sitemaps.gardinerbrewingcompany.com
SUMMARY:The Classics
DESCRIPTION:Catch The Classics on our stage to kick-off November.
URL:https://sitemaps.gardinerbrewingcompany.com/event/the-classics-5/
LOCATION:The Barn at Gardiner Brewing Company\, 699 State Route 208\, Gardiner\, NY\, 12525\, United States
CATEGORIES:Live Music
END:VEVENT
BEGIN:VEVENT
DTSTART;TZID=America/New_York:20201101T160000
DTEND;TZID=America/New_York:20201101T190000
DTSTAMP:20260424T235448
CREATED:20201016T134507Z
LAST-MODIFIED:20201016T134507Z
UID:527-1604246400-1604257200@sitemaps.gardinerbrewingcompany.com
SUMMARY:The Classics
DESCRIPTION:One of our favorite bands playing in The Barn! Indoor and outdoor seating available.
URL:https://sitemaps.gardinerbrewingcompany.com/event/the-classics-4/
LOCATION:The Barn at Gardiner Brewing Company\, 699 State Route 208\, Gardiner\, NY\, 12525\, United States
CATEGORIES:Live Music
END:VEVENT
BEGIN:VEVENT
DTSTART;TZID=America/New_York:20201025T160000
DTEND;TZID=America/New_York:20201025T190000
DTSTAMP:20260424T235448
CREATED:20200909T163351Z
LAST-MODIFIED:20200909T163351Z
UID:487-1603641600-1603652400@sitemaps.gardinerbrewingcompany.com
SUMMARY:NailedShutt
DESCRIPTION:A GBC first! Come check out Nailed Shut’s first time playing at the Barn. \n“Jams\, Grooves\, Assorted Rhythms and some good old Grateful Dead and classic rock with acoustic sets of Americana music!”
URL:https://sitemaps.gardinerbrewingcompany.com/event/nailedshutt/
LOCATION:The Barn at Gardiner Brewing Company\, 699 State Route 208\, Gardiner\, NY\, 12525\, United States
CATEGORIES:Live Music
END:VEVENT
BEGIN:VEVENT
DTSTART;TZID=America/New_York:20201024T160000
DTEND;TZID=America/New_York:20201024T190000
DTSTAMP:20260424T235448
CREATED:20200808T161757Z
LAST-MODIFIED:20200808T161757Z
UID:431-1603555200-1603566000@sitemaps.gardinerbrewingcompany.com
SUMMARY:Moonshine Creek Bluegrass Band
DESCRIPTION:We love a new band in the Barn! Come check them out. \n“Moonshine Creek Bluegrass Band is a high energy string band out of New York’s Hudson Valley region that keeps true to its bluegrass roots while expanding traditional boundaries\, with warm vocal harmonies\, tight picking and driving sound\, they will be sure to keep you moving!”
URL:https://sitemaps.gardinerbrewingcompany.com/event/moonshine-creek-bluegrass-band/
LOCATION:The Barn at Gardiner Brewing Company\, 699 State Route 208\, Gardiner\, NY\, 12525\, United States
CATEGORIES:Live Music
END:VEVENT
END:VCALENDAR