BEGIN:VCALENDAR
VERSION:2.0
PRODID:-//Gardiner Brewing Company - ECPv6.15.20//NONSGML v1.0//EN
CALSCALE:GREGORIAN
METHOD:PUBLISH
X-WR-CALNAME:Gardiner Brewing Company
X-ORIGINAL-URL:https://sitemaps.gardinerbrewingcompany.com
X-WR-CALDESC:Events for Gardiner Brewing Company
REFRESH-INTERVAL;VALUE=DURATION:PT1H
X-Robots-Tag:noindex
X-PUBLISHED-TTL:PT1H
BEGIN:VTIMEZONE
TZID:America/New_York
BEGIN:DAYLIGHT
TZOFFSETFROM:-0500
TZOFFSETTO:-0400
TZNAME:EDT
DTSTART:20180311T070000
END:DAYLIGHT
BEGIN:STANDARD
TZOFFSETFROM:-0400
TZOFFSETTO:-0500
TZNAME:EST
DTSTART:20181104T060000
END:STANDARD
BEGIN:DAYLIGHT
TZOFFSETFROM:-0500
TZOFFSETTO:-0400
TZNAME:EDT
DTSTART:20190310T070000
END:DAYLIGHT
BEGIN:STANDARD
TZOFFSETFROM:-0400
TZOFFSETTO:-0500
TZNAME:EST
DTSTART:20191103T060000
END:STANDARD
BEGIN:DAYLIGHT
TZOFFSETFROM:-0500
TZOFFSETTO:-0400
TZNAME:EDT
DTSTART:20200308T070000
END:DAYLIGHT
BEGIN:STANDARD
TZOFFSETFROM:-0400
TZOFFSETTO:-0500
TZNAME:EST
DTSTART:20201101T060000
END:STANDARD
BEGIN:DAYLIGHT
TZOFFSETFROM:-0500
TZOFFSETTO:-0400
TZNAME:EDT
DTSTART:20210314T070000
END:DAYLIGHT
BEGIN:STANDARD
TZOFFSETFROM:-0400
TZOFFSETTO:-0500
TZNAME:EST
DTSTART:20211107T060000
END:STANDARD
END:VTIMEZONE
BEGIN:VEVENT
DTSTART;TZID=America/New_York:20200321T160000
DTEND;TZID=America/New_York:20200321T190000
DTSTAMP:20260425T113432
CREATED:20200224T174252Z
LAST-MODIFIED:20200302T171436Z
UID:333-1584806400-1584817200@sitemaps.gardinerbrewingcompany.com
SUMMARY:Painted Blue Sky
DESCRIPTION:Here is a tight\, high energy jam band from Ulster County that plays southern and classic rock that engages an audience from the first notes they play. A  five piece band (two guitars\, bass\, drums and vocalist) to an eight piece band (two guitars\, keyboards\, harmonica\, bass\, drums\, percussion and vocalist) and anything in between. \n\
URL:https://sitemaps.gardinerbrewingcompany.com/event/painted-blue-sky/
LOCATION:The Barn at Gardiner Brewing Company\, 699 State Route 208\, Gardiner\, NY\, 12525\, United States
CATEGORIES:Live Music
END:VEVENT
BEGIN:VEVENT
DTSTART;TZID=America/New_York:20200315T160000
DTEND;TZID=America/New_York:20200315T190000
DTSTAMP:20260425T113432
CREATED:20200122T204118Z
LAST-MODIFIED:20200122T204118Z
UID:302-1584288000-1584298800@sitemaps.gardinerbrewingcompany.com
SUMMARY:Wild Irish Roses
DESCRIPTION:An Irish band for the ages! A family band that plays all your Irish favorites. \nErin go Bragh!
URL:https://sitemaps.gardinerbrewingcompany.com/event/wild-irish-roses-2/
LOCATION:The Barn at Gardiner Brewing Company\, 699 State Route 208\, Gardiner\, NY\, 12525\, United States
CATEGORIES:Live Music
END:VEVENT
BEGIN:VEVENT
DTSTART;TZID=America/New_York:20200314T150000
DTEND;TZID=America/New_York:20200314T190000
DTSTAMP:20260425T113432
CREATED:20200122T204007Z
LAST-MODIFIED:20200122T204007Z
UID:300-1584198000-1584212400@sitemaps.gardinerbrewingcompany.com
SUMMARY:Templars of Doom
DESCRIPTION:Starting St. Patrick’s Day right with a weekend full of Irish music! Come experience some Irish Punk in the Barn. It’s an experience you will never forget.
URL:https://sitemaps.gardinerbrewingcompany.com/event/templars-of-doom/
LOCATION:The Barn at Gardiner Brewing Company\, 699 State Route 208\, Gardiner\, NY\, 12525\, United States
CATEGORIES:Live Music
END:VEVENT
BEGIN:VEVENT
DTSTART;TZID=America/New_York:20200308T160000
DTEND;TZID=America/New_York:20200308T190000
DTSTAMP:20260425T113432
CREATED:20200224T173430Z
LAST-MODIFIED:20200302T171416Z
UID:331-1583683200-1583694000@sitemaps.gardinerbrewingcompany.com
SUMMARY:The Wood Bees
DESCRIPTION:Come see The Wood Bees perform their acoustic covers.  Their music is a wide variety of  upbeat\,  folk/country style.
URL:https://sitemaps.gardinerbrewingcompany.com/event/the-wood-bees-2/
LOCATION:The Barn at Gardiner Brewing Company\, 699 State Route 208\, Gardiner\, NY\, 12525\, United States
CATEGORIES:Live Music
END:VEVENT
BEGIN:VEVENT
DTSTART;TZID=America/New_York:20200307T160000
DTEND;TZID=America/New_York:20200307T190000
DTSTAMP:20260425T113432
CREATED:20200122T203852Z
LAST-MODIFIED:20200122T203852Z
UID:298-1583596800-1583607600@sitemaps.gardinerbrewingcompany.com
SUMMARY:Dylan Doyle
DESCRIPTION:Ring in March with Dylan Doyle! A local favorite who rips the guitar.
URL:https://sitemaps.gardinerbrewingcompany.com/event/dylan-doyle-2/
LOCATION:The Barn at Gardiner Brewing Company\, 699 State Route 208\, Gardiner\, NY\, 12525\, United States
CATEGORIES:Live Music
END:VEVENT
BEGIN:VEVENT
DTSTART;TZID=America/New_York:20200301T160000
DTEND;TZID=America/New_York:20200301T190000
DTSTAMP:20260425T113432
CREATED:20200122T202726Z
LAST-MODIFIED:20200224T172545Z
UID:284-1583078400-1583089200@sitemaps.gardinerbrewingcompany.com
SUMMARY:Bunker Boys
DESCRIPTION:Bunker Boys \n“The Bunker Boys are bringing the hillbilly havoc back to Gardiner! Good friend Ed Ackerly will be sitting in on banjo! Come on out and help us kick old man winter in the jingle jangles.”
URL:https://sitemaps.gardinerbrewingcompany.com/event/bunker-boys-2/
LOCATION:The Barn at Gardiner Brewing Company\, 699 State Route 208\, Gardiner\, NY\, 12525\, United States
CATEGORIES:Live Music
END:VEVENT
BEGIN:VEVENT
DTSTART;TZID=America/New_York:20200229T160000
DTEND;TZID=America/New_York:20200229T190000
DTSTAMP:20260425T113432
CREATED:20200122T203314Z
LAST-MODIFIED:20200122T203314Z
UID:296-1582992000-1583002800@sitemaps.gardinerbrewingcompany.com
SUMMARY:Diablo Station
DESCRIPTION:Come celebrate this leap year with Diablo Station in the Barn.
URL:https://sitemaps.gardinerbrewingcompany.com/event/diablo-station-3/
LOCATION:The Barn at Gardiner Brewing Company\, 699 State Route 208\, Gardiner\, NY\, 12525\, United States
CATEGORIES:Live Music
END:VEVENT
BEGIN:VEVENT
DTSTART;TZID=America/New_York:20200223T160000
DTEND;TZID=America/New_York:20200223T190000
DTSTAMP:20260425T113432
CREATED:20200122T203241Z
LAST-MODIFIED:20200122T203241Z
UID:294-1582473600-1582484400@sitemaps.gardinerbrewingcompany.com
SUMMARY:Eugene Tyler Band
DESCRIPTION:ETB playing in the Barn at GBC. \nA Barn first! See em here!
URL:https://sitemaps.gardinerbrewingcompany.com/event/eugene-tyler-band/
LOCATION:The Barn at Gardiner Brewing Company\, 699 State Route 208\, Gardiner\, NY\, 12525\, United States
CATEGORIES:Live Music
END:VEVENT
BEGIN:VEVENT
DTSTART;TZID=America/New_York:20200222T160000
DTEND;TZID=America/New_York:20200222T190000
DTSTAMP:20260425T113432
CREATED:20200122T203126Z
LAST-MODIFIED:20200206T163806Z
UID:292-1582387200-1582398000@sitemaps.gardinerbrewingcompany.com
SUMMARY:The Classics
DESCRIPTION:The return to the Barn!
URL:https://sitemaps.gardinerbrewingcompany.com/event/four-of-a-kind-3/
LOCATION:The Barn at Gardiner Brewing Company\, 699 State Route 208\, Gardiner\, NY\, 12525\, United States
CATEGORIES:Live Music
END:VEVENT
BEGIN:VEVENT
DTSTART;TZID=America/New_York:20200216T160000
DTEND;TZID=America/New_York:20200216T190000
DTSTAMP:20260425T113432
CREATED:20200122T203054Z
LAST-MODIFIED:20200122T203054Z
UID:290-1581868800-1581879600@sitemaps.gardinerbrewingcompany.com
SUMMARY:Seven Days Gone
DESCRIPTION:Hailing from Dutchess County\, “once known as Three O Five\, Seven Days Gone started with Joe and Rob back in 2003. We’ve been rocking the HV for years\, and plan to do it for years to come!” \nA debut in the Barn for Seven Days Gone.
URL:https://sitemaps.gardinerbrewingcompany.com/event/seven-days-gone/
LOCATION:The Barn at Gardiner Brewing Company\, 699 State Route 208\, Gardiner\, NY\, 12525\, United States
CATEGORIES:Live Music
END:VEVENT
BEGIN:VEVENT
DTSTART;TZID=America/New_York:20200215T150000
DTEND;TZID=America/New_York:20200215T190000
DTSTAMP:20260425T113432
CREATED:20200122T202950Z
LAST-MODIFIED:20200122T202950Z
UID:288-1581778800-1581793200@sitemaps.gardinerbrewingcompany.com
SUMMARY:Soul Purpose
DESCRIPTION:Brews and Grooves with Soul Purpose.
URL:https://sitemaps.gardinerbrewingcompany.com/event/soul-purpose-2/
LOCATION:The Barn at Gardiner Brewing Company\, 699 State Route 208\, Gardiner\, NY\, 12525\, United States
CATEGORIES:Live Music
END:VEVENT
BEGIN:VEVENT
DTSTART;TZID=America/New_York:20200209T160000
DTEND;TZID=America/New_York:20200209T190000
DTSTAMP:20260425T113432
CREATED:20200122T202857Z
LAST-MODIFIED:20200122T202857Z
UID:286-1581264000-1581274800@sitemaps.gardinerbrewingcompany.com
SUMMARY:Carrie Zazz Band
DESCRIPTION:Two of our favorites in the Barn! Come check out these beautiful voices.
URL:https://sitemaps.gardinerbrewingcompany.com/event/carrie-zazz-band/
LOCATION:The Barn at Gardiner Brewing Company\, 699 State Route 208\, Gardiner\, NY\, 12525\, United States
CATEGORIES:Live Music
END:VEVENT
BEGIN:VEVENT
DTSTART;TZID=America/New_York:20200202T160000
DTEND;TZID=America/New_York:20200202T190000
DTSTAMP:20260425T113432
CREATED:20200122T202637Z
LAST-MODIFIED:20200122T202637Z
UID:282-1580659200-1580670000@sitemaps.gardinerbrewingcompany.com
SUMMARY:Dylan Doyle
DESCRIPTION:A local favorite\, our friend Dylan Doyle rips it in the Barn! Who needs the Super Bowl when you have Dylan Doyle?
URL:https://sitemaps.gardinerbrewingcompany.com/event/dylan-doyle/
LOCATION:The Barn at Gardiner Brewing Company\, 699 State Route 208\, Gardiner\, NY\, 12525\, United States
CATEGORIES:Live Music
END:VEVENT
BEGIN:VEVENT
DTSTART;TZID=America/New_York:20200201T160000
DTEND;TZID=America/New_York:20200201T190000
DTSTAMP:20260425T113432
CREATED:20200122T202541Z
LAST-MODIFIED:20200122T202541Z
UID:280-1580572800-1580583600@sitemaps.gardinerbrewingcompany.com
SUMMARY:4 Gun Ridge
DESCRIPTION:4 Gun Ridge back in the Barn! \n“All original says it all. You’ve never heard a band that sounds like 4 Gun Ridge. It’s a genre defined but yet to be named. This band ROCKS. If you haven’t seen them live\, find them and go.”
URL:https://sitemaps.gardinerbrewingcompany.com/event/4-gun-ridge-2/
LOCATION:The Barn at Gardiner Brewing Company\, 699 State Route 208\, Gardiner\, NY\, 12525\, United States
CATEGORIES:Live Music
END:VEVENT
BEGIN:VEVENT
DTSTART;VALUE=DATE:20200125
DTEND;VALUE=DATE:20200127
DTSTAMP:20260425T113432
CREATED:20191025T150912Z
LAST-MODIFIED:20191025T150912Z
UID:266-1579910400-1580083199@sitemaps.gardinerbrewingcompany.com
SUMMARY:CLOSED - WINTER BREAK
DESCRIPTION:
URL:https://sitemaps.gardinerbrewingcompany.com/event/closed-winter-break-5/
LOCATION:The Barn at Gardiner Brewing Company\, 699 State Route 208\, Gardiner\, NY\, 12525\, United States
END:VEVENT
BEGIN:VEVENT
DTSTART;VALUE=DATE:20200118
DTEND;VALUE=DATE:20200120
DTSTAMP:20260425T113432
CREATED:20191025T150851Z
LAST-MODIFIED:20191025T150851Z
UID:264-1579305600-1579478399@sitemaps.gardinerbrewingcompany.com
SUMMARY:CLOSED - WINTER BREAK
DESCRIPTION:
URL:https://sitemaps.gardinerbrewingcompany.com/event/closed-winter-break-4/
LOCATION:The Barn at Gardiner Brewing Company\, 699 State Route 208\, Gardiner\, NY\, 12525\, United States
END:VEVENT
BEGIN:VEVENT
DTSTART;VALUE=DATE:20200111
DTEND;VALUE=DATE:20200113
DTSTAMP:20260425T113432
CREATED:20191025T150829Z
LAST-MODIFIED:20191025T150829Z
UID:262-1578700800-1578873599@sitemaps.gardinerbrewingcompany.com
SUMMARY:CLOSED - WINTER BREAK
DESCRIPTION:
URL:https://sitemaps.gardinerbrewingcompany.com/event/closed-winter-break-3/
LOCATION:The Barn at Gardiner Brewing Company\, 699 State Route 208\, Gardiner\, NY\, 12525\, United States
END:VEVENT
BEGIN:VEVENT
DTSTART;VALUE=DATE:20200104
DTEND;VALUE=DATE:20200106
DTSTAMP:20260425T113432
CREATED:20190903T195151Z
LAST-MODIFIED:20191025T151016Z
UID:226-1578096000-1578268799@sitemaps.gardinerbrewingcompany.com
SUMMARY:CLOSED - WINTER BREAK
DESCRIPTION:
URL:https://sitemaps.gardinerbrewingcompany.com/event/closed-winter-break-2/
LOCATION:The Barn at Gardiner Brewing Company\, 699 State Route 208\, Gardiner\, NY\, 12525\, United States
END:VEVENT
BEGIN:VEVENT
DTSTART;VALUE=DATE:20191228
DTEND;VALUE=DATE:20191230
DTSTAMP:20260425T113432
CREATED:20190903T195037Z
LAST-MODIFIED:20191025T151026Z
UID:224-1577491200-1577663999@sitemaps.gardinerbrewingcompany.com
SUMMARY:CLOSED - WINTER BREAK
DESCRIPTION:
URL:https://sitemaps.gardinerbrewingcompany.com/event/closed-winter-break/
LOCATION:The Barn at Gardiner Brewing Company\, 699 State Route 208\, Gardiner\, NY\, 12525\, United States
END:VEVENT
BEGIN:VEVENT
DTSTART;TZID=America/New_York:20191222T160000
DTEND;TZID=America/New_York:20191222T190000
DTSTAMP:20260425T113432
CREATED:20191025T150500Z
LAST-MODIFIED:20191025T150929Z
UID:260-1577030400-1577041200@sitemaps.gardinerbrewingcompany.com
SUMMARY:Dan Brother Band
DESCRIPTION:Dan Brother rocks the house! Don’t miss this Hudson Valley native\, our last band before we close for Winter Break.
URL:https://sitemaps.gardinerbrewingcompany.com/event/dan-brother-band-2/
LOCATION:The Barn at Gardiner Brewing Company\, 699 State Route 208\, Gardiner\, NY\, 12525\, United States
CATEGORIES:Live Music
END:VEVENT
BEGIN:VEVENT
DTSTART;TZID=America/New_York:20191221T160000
DTEND;TZID=America/New_York:20191221T190000
DTSTAMP:20260425T113432
CREATED:20190903T194227Z
LAST-MODIFIED:20191025T150739Z
UID:216-1576944000-1576954800@sitemaps.gardinerbrewingcompany.com
SUMMARY:Judith Tulloch Band
DESCRIPTION:All your favorite Christmas classics in the Barn. Join us as we celebrate the end of another year before we close for the holidays! \nhttp://www.judithtulloch.com/Judith_Tulloch_Band/Home.html
URL:https://sitemaps.gardinerbrewingcompany.com/event/judith-tulloch-band-3/
LOCATION:The Barn at Gardiner Brewing Company\, 699 State Route 208\, Gardiner\, NY\, 12525\, United States
CATEGORIES:Live Music
END:VEVENT
BEGIN:VEVENT
DTSTART;TZID=America/New_York:20191215T160000
DTEND;TZID=America/New_York:20191215T190000
DTSTAMP:20260425T113432
CREATED:20191025T150344Z
LAST-MODIFIED:20191025T150344Z
UID:258-1576425600-1576436400@sitemaps.gardinerbrewingcompany.com
SUMMARY:Diablo Station
DESCRIPTION:A musical compilation of the Orange County bands Sugarloaf Station and Blanco Diablos.\n\n\n\n@DiabloStation
URL:https://sitemaps.gardinerbrewingcompany.com/event/diablo-station-2/
LOCATION:The Barn at Gardiner Brewing Company\, 699 State Route 208\, Gardiner\, NY\, 12525\, United States
CATEGORIES:Live Music
END:VEVENT
BEGIN:VEVENT
DTSTART;TZID=America/New_York:20191214T150000
DTEND;TZID=America/New_York:20191214T190000
DTSTAMP:20260425T113432
CREATED:20191025T150234Z
LAST-MODIFIED:20191025T150234Z
UID:256-1576335600-1576350000@sitemaps.gardinerbrewingcompany.com
SUMMARY:Brass Queens
DESCRIPTION:All-female group hailing out of NYC! A Barn first! Brass instruments sound great in the Barn\, don’t miss it. \n@brassqueensnyc
URL:https://sitemaps.gardinerbrewingcompany.com/event/brass-queens/
LOCATION:The Barn at Gardiner Brewing Company\, 699 State Route 208\, Gardiner\, NY\, 12525\, United States
CATEGORIES:Live Music
END:VEVENT
BEGIN:VEVENT
DTSTART;TZID=America/New_York:20191208T160000
DTEND;TZID=America/New_York:20191208T190000
DTSTAMP:20260425T113432
CREATED:20191025T145252Z
LAST-MODIFIED:20191025T145252Z
UID:242-1575820800-1575831600@sitemaps.gardinerbrewingcompany.com
SUMMARY:Potato Radio
DESCRIPTION:This is a Barn classic! These three became our friends through GBC and decided to come back to the music world in our brewery. They drink with us\, they sing with us\, what can get better than that?
URL:https://sitemaps.gardinerbrewingcompany.com/event/potato-radio-2/
LOCATION:The Barn at Gardiner Brewing Company\, 699 State Route 208\, Gardiner\, NY\, 12525\, United States
CATEGORIES:Live Music
END:VEVENT
BEGIN:VEVENT
DTSTART;TZID=America/New_York:20191207T160000
DTEND;TZID=America/New_York:20191207T190000
DTSTAMP:20260425T113432
CREATED:20191025T145019Z
LAST-MODIFIED:20191028T150801Z
UID:240-1575734400-1575745200@sitemaps.gardinerbrewingcompany.com
SUMMARY:Jack Spann
DESCRIPTION:You won’t want to miss this. Jack Spann rocks the barn on his keys\, splitting his set between some funky originals and great covers. He’s worked with countless greats in the music industry\, it’s a treat to have him in the Barn. \nhttp://www.jackspann.com/
URL:https://sitemaps.gardinerbrewingcompany.com/event/jack-spann/
LOCATION:The Barn at Gardiner Brewing Company\, 699 State Route 208\, Gardiner\, NY\, 12525\, United States
CATEGORIES:Live Music
END:VEVENT
BEGIN:VEVENT
DTSTART;TZID=America/New_York:20191201T160000
DTEND;TZID=America/New_York:20191201T190000
DTSTAMP:20260425T113432
CREATED:20191022T184344Z
LAST-MODIFIED:20191025T150728Z
UID:236-1575216000-1575226800@sitemaps.gardinerbrewingcompany.com
SUMMARY:The Classics
DESCRIPTION:The Barn. The Classics. Have you ever heard of a better combination? \n@TheClassicsBoogie
URL:https://sitemaps.gardinerbrewingcompany.com/event/the-classics-3/
LOCATION:The Barn at Gardiner Brewing Company\, 699 State Route 208\, Gardiner\, NY\, 12525\, United States
CATEGORIES:Live Music
END:VEVENT
BEGIN:VEVENT
DTSTART;TZID=America/New_York:20191130T160000
DTEND;TZID=America/New_York:20191130T190000
DTSTAMP:20260425T113432
CREATED:20191028T150916Z
LAST-MODIFIED:20191028T150920Z
UID:274-1575129600-1575140400@sitemaps.gardinerbrewingcompany.com
SUMMARY:Hillbilly Parade - Acoustic
DESCRIPTION:A Barn first! \n“In a town somewhere outside of a town just east of a town that was north of there was a band that you’re dying to hear – the Hillbilly Parade. The Hillbilly Parade is a dance pop country party band. With their witty stage humor\, ridiculous props\, and down-home costumes\, they will have you boot-scootin’ boogying\, laughing and singing along to all of the most popular county hits – old and new! With a family tree making a straight line back to the Hatfields & McCoys\, the Hillbilly Parade will bring out your true hillbilly!” \n@hillbillyparadeband
URL:https://sitemaps.gardinerbrewingcompany.com/event/hillbilly-parade-acoustic/
LOCATION:The Barn at Gardiner Brewing Company\, 699 State Route 208\, Gardiner\, NY\, 12525\, United States
CATEGORIES:Live Music
END:VEVENT
BEGIN:VEVENT
DTSTART;TZID=America/New_York:20191124T160000
DTEND;TZID=America/New_York:20191124T190000
DTSTAMP:20260425T113432
CREATED:20190903T194852Z
LAST-MODIFIED:20191025T150722Z
UID:220-1574611200-1574622000@sitemaps.gardinerbrewingcompany.com
SUMMARY:The Wood Bees
DESCRIPTION:“The Wood Bees perform acoustic covers\, both slow and upbeat\, with folk/country style vocal harmonies.” \n@thewoodbees
URL:https://sitemaps.gardinerbrewingcompany.com/event/the-wood-bees/
LOCATION:The Barn at Gardiner Brewing Company\, 699 State Route 208\, Gardiner\, NY\, 12525\, United States
CATEGORIES:Live Music
END:VEVENT
BEGIN:VEVENT
DTSTART;TZID=America/New_York:20191123T160000
DTEND;TZID=America/New_York:20191123T190000
DTSTAMP:20260425T113432
CREATED:20190820T175853Z
LAST-MODIFIED:20191031T183803Z
UID:206-1574524800-1574535600@sitemaps.gardinerbrewingcompany.com
SUMMARY:Oxford Station Band
DESCRIPTION:So nice\, we had to book them more than twice! Come see a Barn favorite.
URL:https://sitemaps.gardinerbrewingcompany.com/event/judith-tulloch-band-2/
LOCATION:The Barn at Gardiner Brewing Company\, 699 State Route 208\, Gardiner\, NY\, 12525\, United States
CATEGORIES:Live Music
END:VEVENT
BEGIN:VEVENT
DTSTART;TZID=America/New_York:20191117T160000
DTEND;TZID=America/New_York:20191117T190000
DTSTAMP:20260425T113432
CREATED:20190820T175750Z
LAST-MODIFIED:20191025T150716Z
UID:203-1574006400-1574017200@sitemaps.gardinerbrewingcompany.com
SUMMARY:Smokin' Buddie Steve
DESCRIPTION:A man and his guitar. His name says it all\, this music gets hot!
URL:https://sitemaps.gardinerbrewingcompany.com/event/smokin-buddie-steve/
LOCATION:The Barn at Gardiner Brewing Company\, 699 State Route 208\, Gardiner\, NY\, 12525\, United States
CATEGORIES:Live Music
END:VEVENT
END:VCALENDAR