BEGIN:VCALENDAR
VERSION:2.0
PRODID:-//Gardiner Brewing Company - ECPv6.15.20//NONSGML v1.0//EN
CALSCALE:GREGORIAN
METHOD:PUBLISH
X-WR-CALNAME:Gardiner Brewing Company
X-ORIGINAL-URL:https://sitemaps.gardinerbrewingcompany.com
X-WR-CALDESC:Events for Gardiner Brewing Company
REFRESH-INTERVAL;VALUE=DURATION:PT1H
X-Robots-Tag:noindex
X-PUBLISHED-TTL:PT1H
BEGIN:VTIMEZONE
TZID:America/New_York
BEGIN:DAYLIGHT
TZOFFSETFROM:-0500
TZOFFSETTO:-0400
TZNAME:EDT
DTSTART:20200308T070000
END:DAYLIGHT
BEGIN:STANDARD
TZOFFSETFROM:-0400
TZOFFSETTO:-0500
TZNAME:EST
DTSTART:20201101T060000
END:STANDARD
BEGIN:DAYLIGHT
TZOFFSETFROM:-0500
TZOFFSETTO:-0400
TZNAME:EDT
DTSTART:20210314T070000
END:DAYLIGHT
BEGIN:STANDARD
TZOFFSETFROM:-0400
TZOFFSETTO:-0500
TZNAME:EST
DTSTART:20211107T060000
END:STANDARD
BEGIN:DAYLIGHT
TZOFFSETFROM:-0500
TZOFFSETTO:-0400
TZNAME:EDT
DTSTART:20220313T070000
END:DAYLIGHT
BEGIN:STANDARD
TZOFFSETFROM:-0400
TZOFFSETTO:-0500
TZNAME:EST
DTSTART:20221106T060000
END:STANDARD
END:VTIMEZONE
BEGIN:VEVENT
DTSTART;TZID=America/New_York:20210829T153000
DTEND;TZID=America/New_York:20210829T183000
DTSTAMP:20260425T082748
CREATED:20210330T203558Z
LAST-MODIFIED:20210330T203558Z
UID:790-1630251000-1630261800@sitemaps.gardinerbrewingcompany.com
SUMMARY:Oxford Station Band
DESCRIPTION:
URL:https://sitemaps.gardinerbrewingcompany.com/event/oxford-station-band-12/
LOCATION:The Barn at Gardiner Brewing Company\, 699 State Route 208\, Gardiner\, NY\, 12525\, United States
CATEGORIES:Live Music
END:VEVENT
BEGIN:VEVENT
DTSTART;TZID=America/New_York:20210828T153000
DTEND;TZID=America/New_York:20210828T183000
DTSTAMP:20260425T082748
CREATED:20210227T170500Z
LAST-MODIFIED:20210227T170500Z
UID:671-1630164600-1630175400@sitemaps.gardinerbrewingcompany.com
SUMMARY:Tilly Foster
DESCRIPTION:Bluegrass like you’ve never heard before. Tilly Foster‘s sound is a modern twist on Bluegrass and Americana. \nThe band was formed by Tim Fogarty (guitar) with long time friends\, Bryan Lynch (banjo)  and Mike Colucci (mandolin)\, both former members of Buckeye Rooster. The band was made complete with Cole McCormick (bass) and Vicky Triola (violin). Its shows are non stop fun\, high energy and excitement to be a part of. They are guaranteed to have the crowd singing and dancing through the final set. Like all great bands with presence\, the crowd will likely refuse to leave before Tilly Foster’s encore is complete!
URL:https://sitemaps.gardinerbrewingcompany.com/event/tilly-foster-4/
LOCATION:The Barn at Gardiner Brewing Company\, 699 State Route 208\, Gardiner\, NY\, 12525\, United States
CATEGORIES:Live Music
END:VEVENT
BEGIN:VEVENT
DTSTART;TZID=America/New_York:20210822T153000
DTEND;TZID=America/New_York:20210822T183000
DTSTAMP:20260425T082748
CREATED:20210330T203351Z
LAST-MODIFIED:20210817T153350Z
UID:786-1629646200-1629657000@sitemaps.gardinerbrewingcompany.com
SUMMARY:Emily Beck Band
DESCRIPTION:A GBC debut! \n“Emily’s music is Alternative Indie Soul with influences of Blues and Rock.\n​She strives to write music that’s comforting\, understanding\, and can bring the audience on a journey with her.\nShe hopes to make music that can help the audience heal\, not feel alone\, and come out with a better understanding of themselves.” \nhttps://emilybeck.bandcamp.com/music
URL:https://sitemaps.gardinerbrewingcompany.com/event/bush-brothers-band/
LOCATION:The Barn at Gardiner Brewing Company\, 699 State Route 208\, Gardiner\, NY\, 12525\, United States
CATEGORIES:Live Music
END:VEVENT
BEGIN:VEVENT
DTSTART;TZID=America/New_York:20210821T153000
DTEND;TZID=America/New_York:20210821T183000
DTSTAMP:20260425T082748
CREATED:20210227T170851Z
LAST-MODIFIED:20210817T153619Z
UID:679-1629559800-1629570600@sitemaps.gardinerbrewingcompany.com
SUMMARY:John Irizarry and the Lost Dogs
DESCRIPTION:
URL:https://sitemaps.gardinerbrewingcompany.com/event/john-irizarry-and-the-lost-dogs-6/
LOCATION:The Barn at Gardiner Brewing Company\, 699 State Route 208\, Gardiner\, NY\, 12525\, United States
CATEGORIES:Live Music
END:VEVENT
BEGIN:VEVENT
DTSTART;TZID=America/New_York:20210815T153000
DTEND;TZID=America/New_York:20210815T183000
DTSTAMP:20260425T082748
CREATED:20210330T202206Z
LAST-MODIFIED:20210330T202206Z
UID:774-1629041400-1629052200@sitemaps.gardinerbrewingcompany.com
SUMMARY:The Classics
DESCRIPTION:The Classics is a three-piece band that plays Funk\, Soul\, and R&B from the 60s to the present.\n\n\nThey bring heart and soul to the Barn.
URL:https://sitemaps.gardinerbrewingcompany.com/event/the-classics-11/
LOCATION:The Barn at Gardiner Brewing Company\, 699 State Route 208\, Gardiner\, NY\, 12525\, United States
CATEGORIES:Live Music
END:VEVENT
BEGIN:VEVENT
DTSTART;TZID=America/New_York:20210814T153000
DTEND;TZID=America/New_York:20210814T183000
DTSTAMP:20260425T082748
CREATED:20210330T203126Z
LAST-MODIFIED:20210330T203126Z
UID:782-1628955000-1628965800@sitemaps.gardinerbrewingcompany.com
SUMMARY:NailedShutt
DESCRIPTION:“Jams\, Grooves\, Assorted Rhythms and some good old Grateful Dead and classic rock with acoustic sets of Americana music!”
URL:https://sitemaps.gardinerbrewingcompany.com/event/nailedshutt-2/
LOCATION:The Barn at Gardiner Brewing Company\, 699 State Route 208\, Gardiner\, NY\, 12525\, United States
CATEGORIES:Live Music
END:VEVENT
BEGIN:VEVENT
DTSTART;TZID=America/New_York:20210808T153000
DTEND;TZID=America/New_York:20210808T183000
DTSTAMP:20260425T082748
CREATED:20210330T203901Z
LAST-MODIFIED:20210330T203901Z
UID:796-1628436600-1628447400@sitemaps.gardinerbrewingcompany.com
SUMMARY:Bunker Boys
DESCRIPTION:A six man band from Coldenham NY\, the Bunker Boys are a melodious freight train of hillbilly havoc running all over the Hudson Valley. Rooted in Carter family style gospel singing\, these boys are set to lift spirits high and keep them there.
URL:https://sitemaps.gardinerbrewingcompany.com/event/bunker-boys-7/
LOCATION:The Barn at Gardiner Brewing Company\, 699 State Route 208\, Gardiner\, NY\, 12525\, United States
CATEGORIES:Live Music
END:VEVENT
BEGIN:VEVENT
DTSTART;TZID=America/New_York:20210807T153000
DTEND;TZID=America/New_York:20210807T183000
DTSTAMP:20260425T082748
CREATED:20210227T171431Z
LAST-MODIFIED:20210227T171431Z
UID:687-1628350200-1628361000@sitemaps.gardinerbrewingcompany.com
SUMMARY:Judith Tulloch Band
DESCRIPTION:Judith Tulloch Band brings a classic feel to the Barn. \nPop\, jazz\, & world music. With vocals\, guitar\, flutes\, bass\, & percussion. Judith and her band have warmed up the stage as an opening act for Michael McDonald\, Maria Muldaur\, Pete Seeger\, Paul Winter\, Janet Hamill & Moving Star\, Patti Smith\, Levon Helm\, Lucy Kaplansky\, Bo Diddley\, Tom Chapin\, and many others. The band performs at all types of venues ranging from large concert halls\, to clubs\, cafes\, restaurants\, art galleries\, cultural events\, wedding ceremonies\, corporate events\, and special benefits for those in need. Music that has been described as world-pop-fusion with a jazzy edge.
URL:https://sitemaps.gardinerbrewingcompany.com/event/judith-tulloch-band-13/
LOCATION:The Barn at Gardiner Brewing Company\, 699 State Route 208\, Gardiner\, NY\, 12525\, United States
CATEGORIES:Live Music
END:VEVENT
BEGIN:VEVENT
DTSTART;TZID=America/New_York:20210801T153000
DTEND;TZID=America/New_York:20210801T183000
DTSTAMP:20260425T082748
CREATED:20210227T174013Z
LAST-MODIFIED:20210227T174013Z
UID:702-1627831800-1627842600@sitemaps.gardinerbrewingcompany.com
SUMMARY:Hillbilly Parade
DESCRIPTION:What else would you hear in Gartucky other than Hillbilly Parade? \n“In a town somewhere outside of a town just east of a town that was north of there was a band that you’re dying to hear – the Hillbilly Parade. The Hillbilly Parade is a dance pop country party band. With their witty stage humor\, ridiculous props\, and down-home costumes\, they will have you boot-scootin’ boogying\, laughing and singing along to all of the most popular county hits – old and new! With a family tree making a straight line back to the Hatfields & McCoys\, the Hillbilly Parade will bring out your true hillbilly!”
URL:https://sitemaps.gardinerbrewingcompany.com/event/hillbilly-parade-3/
LOCATION:The Barn at Gardiner Brewing Company\, 699 State Route 208\, Gardiner\, NY\, 12525\, United States
CATEGORIES:Live Music
END:VEVENT
BEGIN:VEVENT
DTSTART;TZID=America/New_York:20210731T153000
DTEND;TZID=America/New_York:20210731T183000
DTSTAMP:20260425T082748
CREATED:20210330T201217Z
LAST-MODIFIED:20210330T201217Z
UID:760-1627745400-1627756200@sitemaps.gardinerbrewingcompany.com
SUMMARY:O Duo Vito
DESCRIPTION:“Singer/songwriter/musician Vito Petroccitto is magic. And we’re not just talking about the way he deftly casts alternating spells on his audiences\, moving them either to awe\, tears\, full-out belly laughs\, or all three at once. Armed with his gritty\, dirty\, swampy telecaster guitar\, or his beautiful Taylor acoustic\, his crazy-good vocal chords\, and more than a touch of genius\, Vito has somehow figured out how to do the work of ten men.  Vito is a true artist\, born of a true artist. He has lived\, breathed and (hardly) slept music all his life. Moreover\, he is a true entertainer. He is happiest with his telecaster strapped around his neck\, but his versatility lends the depth and staying power necessary to make his art a lifelong career. He takes on anything and everything—within the bounds of personal integrity\, of course—and what sets him apart is the way he dives in\, whole-hog\, always bringing his full-on passion\, remarkable and wide-ranging technique and skill\, boundless energy\, and genuine soul-smile to each and every endeavor. Vito Petroccitto is larger than life\, both literally and figuratively. If you don’t leave an encounter with him smiling your head off\, you may have no soul.”
URL:https://sitemaps.gardinerbrewingcompany.com/event/o-duo-vito-3/
LOCATION:The Barn at Gardiner Brewing Company\, 699 State Route 208\, Gardiner\, NY\, 12525\, United States
CATEGORIES:Live Music
END:VEVENT
BEGIN:VEVENT
DTSTART;TZID=America/New_York:20210725T153000
DTEND;TZID=America/New_York:20210725T183000
DTSTAMP:20260425T082748
CREATED:20210330T201430Z
LAST-MODIFIED:20210330T201430Z
UID:764-1627227000-1627237800@sitemaps.gardinerbrewingcompany.com
SUMMARY:Dylan Doyle Band
DESCRIPTION:A local favorite! Dylan Doyle rocks the Hudson Valley.\nhttps://www.dylandoyleband.com/ \n 
URL:https://sitemaps.gardinerbrewingcompany.com/event/dylan-doyle-band-4/
LOCATION:The Barn at Gardiner Brewing Company\, 699 State Route 208\, Gardiner\, NY\, 12525\, United States
CATEGORIES:Live Music
END:VEVENT
BEGIN:VEVENT
DTSTART;TZID=America/New_York:20210724T153000
DTEND;TZID=America/New_York:20210724T183000
DTSTAMP:20260425T082748
CREATED:20210330T202651Z
LAST-MODIFIED:20210330T202651Z
UID:780-1627140600-1627151400@sitemaps.gardinerbrewingcompany.com
SUMMARY:Oxford Station Band
DESCRIPTION:A local favorite who have become friends of all of us in The Barn. Delicious harmonies with beautiful lead vocals!
URL:https://sitemaps.gardinerbrewingcompany.com/event/oxford-station-band-11/
LOCATION:The Barn at Gardiner Brewing Company\, 699 State Route 208\, Gardiner\, NY\, 12525\, United States
CATEGORIES:Live Music
END:VEVENT
BEGIN:VEVENT
DTSTART;TZID=America/New_York:20210718T153000
DTEND;TZID=America/New_York:20210718T183000
DTSTAMP:20260425T082748
CREATED:20210330T202553Z
LAST-MODIFIED:20210330T202553Z
UID:778-1626622200-1626633000@sitemaps.gardinerbrewingcompany.com
SUMMARY:Eugene Tyler Band
DESCRIPTION:One of the best bluegrass duos around. Come watch em play their hearts out! \neugenetylerband.com
URL:https://sitemaps.gardinerbrewingcompany.com/event/eugene-tyler-band-6/
LOCATION:The Barn at Gardiner Brewing Company\, 699 State Route 208\, Gardiner\, NY\, 12525\, United States
CATEGORIES:Live Music
END:VEVENT
BEGIN:VEVENT
DTSTART;TZID=America/New_York:20210717T153000
DTEND;TZID=America/New_York:20210717T183000
DTSTAMP:20260425T082748
CREATED:20210330T202422Z
LAST-MODIFIED:20210330T202422Z
UID:776-1626535800-1626546600@sitemaps.gardinerbrewingcompany.com
SUMMARY:Brasskill
DESCRIPTION:This is one band that you don’t want to miss. \n“Brasskill is a lively 15-piece party brass band whose mission is to get your party out on the dance floor. Bringing funky decibels to parties\, festivals\, parades and other merry gatherings in the Hudson Valley and surrounding areas\, Brasskill’s high-energy live performances feature a driving percussion section\, shiny\, melodic horns\, innovative band choreography\, LED lights\, and the finest thrift store sparkly attire that one can find. The band’s wide-ranging repertoire includes music from the New Orleans second line tradition\, punk and pop covers\, international grooves\, as well as original compositions and arrangements.”
URL:https://sitemaps.gardinerbrewingcompany.com/event/brasskill-2/
LOCATION:The Barn at Gardiner Brewing Company\, 699 State Route 208\, Gardiner\, NY\, 12525\, United States
CATEGORIES:Live Music
END:VEVENT
BEGIN:VEVENT
DTSTART;TZID=America/New_York:20210711T153000
DTEND;TZID=America/New_York:20210711T183000
DTSTAMP:20260425T082748
CREATED:20210330T202116Z
LAST-MODIFIED:20210426T185816Z
UID:772-1626017400-1626028200@sitemaps.gardinerbrewingcompany.com
SUMMARY:Wild Irish Roses
DESCRIPTION:
URL:https://sitemaps.gardinerbrewingcompany.com/event/the-classics-10/
LOCATION:The Barn at Gardiner Brewing Company\, 699 State Route 208\, Gardiner\, NY\, 12525\, United States
CATEGORIES:Live Music
END:VEVENT
BEGIN:VEVENT
DTSTART;TZID=America/New_York:20210710T153000
DTEND;TZID=America/New_York:20210710T183000
DTSTAMP:20260425T082748
CREATED:20210227T170805Z
LAST-MODIFIED:20210414T130943Z
UID:677-1625931000-1625941800@sitemaps.gardinerbrewingcompany.com
SUMMARY:John Irizarry and the Lost Dogs
DESCRIPTION:Jerry the Bulldog are a favorite in the Barn. \nFormed by acclaimed veteran Singer-Songwriter/Guitarist John Irizarry of Small Town Sheiks\, Guitarist Kane Armistead\, from the festival jam band\, Half Jester\, along with session musicians Bassist Randy Sutter and Drummer Larry Neumann. \nThey came out of the box with their debut single\, an Americana rocker called\, “The Idle Hour”.  The song begins\, “There’s a bar inside my Heaven they call The Idle Hour…..” \, and that’s where the story starts. \n“The Idle Hour” and more music by Jerry the Bulldog available to buy or stream at iTunes\, Amazon\, Spotify\, Pandora and elsewhere worldwide.\nPlease Support Independent Music!
URL:https://sitemaps.gardinerbrewingcompany.com/event/john-irizarry-and-the-lost-dogs-5/
LOCATION:The Barn at Gardiner Brewing Company\, 699 State Route 208\, Gardiner\, NY\, 12525\, United States
CATEGORIES:Live Music
END:VEVENT
BEGIN:VEVENT
DTSTART;TZID=America/New_York:20210704T153000
DTEND;TZID=America/New_York:20210704T183000
DTSTAMP:20260425T082748
CREATED:20210330T202002Z
LAST-MODIFIED:20210330T202002Z
UID:770-1625412600-1625423400@sitemaps.gardinerbrewingcompany.com
SUMMARY:Moonshine Creek Bluegrass Band
DESCRIPTION:“Moonshine Creek Bluegrass Band is a high energy string band out of New York’s Hudson Valley region that keeps true to its bluegrass roots while expanding traditional boundaries\, with warm vocal harmonies\, tight picking and driving sound\, they will be sure to keep you moving!”
URL:https://sitemaps.gardinerbrewingcompany.com/event/moonshine-creek-bluegrass-band-2/
LOCATION:The Barn at Gardiner Brewing Company\, 699 State Route 208\, Gardiner\, NY\, 12525\, United States
CATEGORIES:Live Music
END:VEVENT
BEGIN:VEVENT
DTSTART;VALUE=DATE:20210703
DTEND;VALUE=DATE:20210704
DTSTAMP:20260425T082748
CREATED:20210212T175839Z
LAST-MODIFIED:20210227T165926Z
UID:630-1625270400-1625356799@sitemaps.gardinerbrewingcompany.com
SUMMARY:Closed for a Very Gartucky Wedding
DESCRIPTION:See you on Sunday!
URL:https://sitemaps.gardinerbrewingcompany.com/event/closed-for-wedding/
LOCATION:The Barn at Gardiner Brewing Company\, 699 State Route 208\, Gardiner\, NY\, 12525\, United States
CATEGORIES:Private Event
END:VEVENT
BEGIN:VEVENT
DTSTART;TZID=America/New_York:20210627T153000
DTEND;TZID=America/New_York:20210627T183000
DTSTAMP:20260425T082748
CREATED:20210227T173933Z
LAST-MODIFIED:20210227T173933Z
UID:700-1624807800-1624818600@sitemaps.gardinerbrewingcompany.com
SUMMARY:Hillbilly Parade
DESCRIPTION:What else would you hear in Gartucky other than Hillbilly Parade? \n“In a town somewhere outside of a town just east of a town that was north of there was a band that you’re dying to hear – the Hillbilly Parade. The Hillbilly Parade is a dance pop country party band. With their witty stage humor\, ridiculous props\, and down-home costumes\, they will have you boot-scootin’ boogying\, laughing and singing along to all of the most popular county hits – old and new! With a family tree making a straight line back to the Hatfields & McCoys\, the Hillbilly Parade will bring out your true hillbilly!”
URL:https://sitemaps.gardinerbrewingcompany.com/event/hillbilly-parade-2/
LOCATION:The Barn at Gardiner Brewing Company\, 699 State Route 208\, Gardiner\, NY\, 12525\, United States
CATEGORIES:Live Music
END:VEVENT
BEGIN:VEVENT
DTSTART;TZID=America/New_York:20210626T153000
DTEND;TZID=America/New_York:20210626T183000
DTSTAMP:20260425T082748
CREATED:20210227T171359Z
LAST-MODIFIED:20210227T171359Z
UID:685-1624721400-1624732200@sitemaps.gardinerbrewingcompany.com
SUMMARY:Judith Tulloch Band
DESCRIPTION:Judith Tulloch Band brings a classic feel to the Barn. \nPop\, jazz\, & world music. With vocals\, guitar\, flutes\, bass\, & percussion. Judith and her band have warmed up the stage as an opening act for Michael McDonald\, Maria Muldaur\, Pete Seeger\, Paul Winter\, Janet Hamill & Moving Star\, Patti Smith\, Levon Helm\, Lucy Kaplansky\, Bo Diddley\, Tom Chapin\, and many others. The band performs at all types of venues ranging from large concert halls\, to clubs\, cafes\, restaurants\, art galleries\, cultural events\, wedding ceremonies\, corporate events\, and special benefits for those in need. Music that has been described as world-pop-fusion with a jazzy edge.
URL:https://sitemaps.gardinerbrewingcompany.com/event/judith-tulloch-band-12/
LOCATION:The Barn at Gardiner Brewing Company\, 699 State Route 208\, Gardiner\, NY\, 12525\, United States
CATEGORIES:Live Music
END:VEVENT
BEGIN:VEVENT
DTSTART;TZID=America/New_York:20210620T153000
DTEND;TZID=America/New_York:20210620T183000
DTSTAMP:20260425T082748
CREATED:20210330T201809Z
LAST-MODIFIED:20210330T201809Z
UID:768-1624203000-1624213800@sitemaps.gardinerbrewingcompany.com
SUMMARY:Sons of Hudson
DESCRIPTION:We love our local bands\, including Sons of Hudson from Orange County\, NY.
URL:https://sitemaps.gardinerbrewingcompany.com/event/sons-of-hudson-3/
LOCATION:The Barn at Gardiner Brewing Company\, 699 State Route 208\, Gardiner\, NY\, 12525\, United States
CATEGORIES:Live Music
END:VEVENT
BEGIN:VEVENT
DTSTART;TZID=America/New_York:20210619T153000
DTEND;TZID=America/New_York:20210619T183000
DTSTAMP:20260425T082748
CREATED:20210426T185727Z
LAST-MODIFIED:20210426T185727Z
UID:826-1624116600-1624127400@sitemaps.gardinerbrewingcompany.com
SUMMARY:Four of a Kind
DESCRIPTION:
URL:https://sitemaps.gardinerbrewingcompany.com/event/four-of-a-kind-13/
LOCATION:The Barn at Gardiner Brewing Company\, 699 State Route 208\, Gardiner\, NY\, 12525\, United States
CATEGORIES:Live Music
END:VEVENT
BEGIN:VEVENT
DTSTART;TZID=America/New_York:20210613T153000
DTEND;TZID=America/New_York:20210613T183000
DTSTAMP:20260425T082748
CREATED:20210330T201144Z
LAST-MODIFIED:20210505T132350Z
UID:758-1623598200-1623609000@sitemaps.gardinerbrewingcompany.com
SUMMARY:Little Rock
DESCRIPTION:Featuring Vito Petroccitto\, Mark Dann\, Eric Parker\, Jeff Schechter \nFirst of the “Rogue Pop Up” Series in the Hudson Valley
URL:https://sitemaps.gardinerbrewingcompany.com/event/o-duo-vito-2/
LOCATION:The Barn at Gardiner Brewing Company\, 699 State Route 208\, Gardiner\, NY\, 12525\, United States
CATEGORIES:Live Music
END:VEVENT
BEGIN:VEVENT
DTSTART;TZID=America/New_York:20210612T153000
DTEND;TZID=America/New_York:20210612T183000
DTSTAMP:20260425T082748
CREATED:20210326T223638Z
LAST-MODIFIED:20210326T223638Z
UID:754-1623511800-1623522600@sitemaps.gardinerbrewingcompany.com
SUMMARY:Oxford Station Band
DESCRIPTION:
URL:https://sitemaps.gardinerbrewingcompany.com/event/oxford-station-band-10/
LOCATION:The Barn at Gardiner Brewing Company\, 699 State Route 208\, Gardiner\, NY\, 12525\, United States
CATEGORIES:Live Music
END:VEVENT
BEGIN:VEVENT
DTSTART;TZID=America/New_York:20210606T153000
DTEND;TZID=America/New_York:20210606T183000
DTSTAMP:20260425T082748
CREATED:20210313T125658Z
LAST-MODIFIED:20210313T125658Z
UID:735-1622993400-1623004200@sitemaps.gardinerbrewingcompany.com
SUMMARY:Bunker Boys
DESCRIPTION:A six man band from Coldenham NY\, the Bunker Boys are a melodious freight train of hillbilly havoc running all over the Hudson Valley. Rooted in Carter family style gospel singing\, these boys are set to lift spirits high and keep them there.
URL:https://sitemaps.gardinerbrewingcompany.com/event/bunker-boys-6/
LOCATION:The Barn at Gardiner Brewing Company\, 699 State Route 208\, Gardiner\, NY\, 12525\, United States
CATEGORIES:Live Music
END:VEVENT
BEGIN:VEVENT
DTSTART;TZID=America/New_York:20210605T153000
DTEND;TZID=America/New_York:20210605T183000
DTSTAMP:20260425T082748
CREATED:20210227T174352Z
LAST-MODIFIED:20210227T174352Z
UID:706-1622907000-1622917800@sitemaps.gardinerbrewingcompany.com
SUMMARY:Soul Purpose
DESCRIPTION:Soul Purpose brings a beautiful sound to the Barn. \n“Recently named the “Best Local Band in the Hudson Valley” by readers of Hudson Valley Magazine\, Soul Purpose is a seven-piece band fueled by a shared love of Soul\, New Orleans Funk. Swing\, R&B and Jazz music. Based in New York’s Hudson Valley\, Soul Purpose has been entertaining fans with their “soulful sounds\, brazen horn section and warm vocals”\, (Kingston After Dark).”
URL:https://sitemaps.gardinerbrewingcompany.com/event/soul-purpose-3/
LOCATION:The Barn at Gardiner Brewing Company\, 699 State Route 208\, Gardiner\, NY\, 12525\, United States
CATEGORIES:Live Music
END:VEVENT
BEGIN:VEVENT
DTSTART;TZID=America/New_York:20210530T153000
DTEND;TZID=America/New_York:20210530T183000
DTSTAMP:20260425T082748
CREATED:20210227T170731Z
LAST-MODIFIED:20210414T130933Z
UID:675-1622388600-1622399400@sitemaps.gardinerbrewingcompany.com
SUMMARY:John Irizarry and the Lost Dogs
DESCRIPTION:Jerry the Bulldog are a favorite in the Barn. \nFormed by acclaimed veteran Singer-Songwriter/Guitarist John Irizarry of Small Town Sheiks\, Guitarist Kane Armistead\, from the festival jam band\, Half Jester\, along with session musicians Bassist Randy Sutter and Drummer Larry Neumann. \nThey came out of the box with their debut single\, an Americana rocker called\, “The Idle Hour”.  The song begins\, “There’s a bar inside my Heaven they call The Idle Hour…..” \, and that’s where the story starts. \n“The Idle Hour” and more music by Jerry the Bulldog available to buy or stream at iTunes\, Amazon\, Spotify\, Pandora and elsewhere worldwide.\nPlease Support Independent Music!
URL:https://sitemaps.gardinerbrewingcompany.com/event/john-irizarry-and-the-lost-dogs-3/
LOCATION:The Barn at Gardiner Brewing Company\, 699 State Route 208\, Gardiner\, NY\, 12525\, United States
CATEGORIES:Live Music
END:VEVENT
BEGIN:VEVENT
DTSTART;TZID=America/New_York:20210529T153000
DTEND;TZID=America/New_York:20210529T183000
DTSTAMP:20260425T082748
CREATED:20210227T155818Z
LAST-MODIFIED:20210514T151029Z
UID:657-1622302200-1622313000@sitemaps.gardinerbrewingcompany.com
SUMMARY:The Lost Cowboys
DESCRIPTION:The Lost Cowboys is a six-piece\, fun and lively country-western band that continues to entertain crowds throughout the Hudson Valley on both sides of the river. They play original tunes and covers by such artists as Hank Williams (all three)\, Willie Nelson\, Waylon Jennings\, and Marshall Tucker — creating the perfect atmosphere for dancing\, partying\, or just great listening.
URL:https://sitemaps.gardinerbrewingcompany.com/event/four-of-a-kind-12/
LOCATION:The Barn at Gardiner Brewing Company\, 699 State Route 208\, Gardiner\, NY\, 12525\, United States
CATEGORIES:Live Music
END:VEVENT
BEGIN:VEVENT
DTSTART;TZID=America/New_York:20210523T153000
DTEND;TZID=America/New_York:20210523T183000
DTSTAMP:20260425T082748
CREATED:20210326T223428Z
LAST-MODIFIED:20210326T223428Z
UID:752-1621783800-1621794600@sitemaps.gardinerbrewingcompany.com
SUMMARY:Eugene Tyler Band
DESCRIPTION:One of the best bluegrass duos around. Come watch em play their hearts out! \neugenetylerband.com
URL:https://sitemaps.gardinerbrewingcompany.com/event/eugene-tyler-band-5/
LOCATION:The Barn at Gardiner Brewing Company\, 699 State Route 208\, Gardiner\, NY\, 12525\, United States
CATEGORIES:Live Music
END:VEVENT
BEGIN:VEVENT
DTSTART;TZID=America/New_York:20210522T153000
DTEND;TZID=America/New_York:20210522T183000
DTSTAMP:20260425T082748
CREATED:20210227T171222Z
LAST-MODIFIED:20210227T171222Z
UID:683-1621697400-1621708200@sitemaps.gardinerbrewingcompany.com
SUMMARY:Judith Tulloch Band
DESCRIPTION:Judith Tulloch Band brings a classic feel to the Barn. \nPop\, jazz\, & world music. With vocals\, guitar\, flutes\, bass\, & percussion. Judith and her band have warmed up the stage as an opening act for Michael McDonald\, Maria Muldaur\, Pete Seeger\, Paul Winter\, Janet Hamill & Moving Star\, Patti Smith\, Levon Helm\, Lucy Kaplansky\, Bo Diddley\, Tom Chapin\, and many others. The band performs at all types of venues ranging from large concert halls\, to clubs\, cafes\, restaurants\, art galleries\, cultural events\, wedding ceremonies\, corporate events\, and special benefits for those in need. Music that has been described as world-pop-fusion with a jazzy edge.
URL:https://sitemaps.gardinerbrewingcompany.com/event/judith-tulloch-band-11/
LOCATION:The Barn at Gardiner Brewing Company\, 699 State Route 208\, Gardiner\, NY\, 12525\, United States
CATEGORIES:Live Music
END:VEVENT
END:VCALENDAR