BEGIN:VCALENDAR
VERSION:2.0
PRODID:-//Gardiner Brewing Company - ECPv6.15.20//NONSGML v1.0//EN
CALSCALE:GREGORIAN
METHOD:PUBLISH
X-WR-CALNAME:Gardiner Brewing Company
X-ORIGINAL-URL:https://sitemaps.gardinerbrewingcompany.com
X-WR-CALDESC:Events for Gardiner Brewing Company
REFRESH-INTERVAL;VALUE=DURATION:PT1H
X-Robots-Tag:noindex
X-PUBLISHED-TTL:PT1H
BEGIN:VTIMEZONE
TZID:America/New_York
BEGIN:DAYLIGHT
TZOFFSETFROM:-0500
TZOFFSETTO:-0400
TZNAME:EDT
DTSTART:20210314T070000
END:DAYLIGHT
BEGIN:STANDARD
TZOFFSETFROM:-0400
TZOFFSETTO:-0500
TZNAME:EST
DTSTART:20211107T060000
END:STANDARD
BEGIN:DAYLIGHT
TZOFFSETFROM:-0500
TZOFFSETTO:-0400
TZNAME:EDT
DTSTART:20220313T070000
END:DAYLIGHT
BEGIN:STANDARD
TZOFFSETFROM:-0400
TZOFFSETTO:-0500
TZNAME:EST
DTSTART:20221106T060000
END:STANDARD
BEGIN:DAYLIGHT
TZOFFSETFROM:-0500
TZOFFSETTO:-0400
TZNAME:EDT
DTSTART:20230312T070000
END:DAYLIGHT
BEGIN:STANDARD
TZOFFSETFROM:-0400
TZOFFSETTO:-0500
TZNAME:EST
DTSTART:20231105T060000
END:STANDARD
END:VTIMEZONE
BEGIN:VEVENT
DTSTART;TZID=America/New_York:20220820T153000
DTEND;TZID=America/New_York:20220820T183000
DTSTAMP:20260425T084414
CREATED:20220603T205927Z
LAST-MODIFIED:20220603T205927Z
UID:1365-1661009400-1661020200@sitemaps.gardinerbrewingcompany.com
SUMMARY:Soul Purpose
DESCRIPTION:With a distinctive take on New Orleans Funk\, classic and contemporary Soul and Swing\, Soul Purpose is a “smokin’ band whose joyous renditions of R&B\, Soul and Swing will lift your heart\, gathering the boisterous energy of a dancing crowd and channeling it into a melodic explosion.” – The Huguenot Herald.\nSoul Purpose enthralls from the first note with powerhouse vocals\, bold horns\, lush keyboards\, and blistering guitarwork with the rhythmic reference and underlying pulse for the band provided by expertly played bass and percussion. Formed in New Paltz\, New York over two decades ago and recently named “Best Local Band” by the readers of Hudson Valley Magazine\, the band has played at numerous venues from intimate concerts\, larger festival stages and benefits. Soul Purpose has headlined at the famed Daryl’s House Club\, Pawling\, NY\, iconic Towne Crier Cafe\, Beacon\, NY\, historic Colony\, Woodstock\, NY and renowned Falcon\, Marlboro\, NY. The band has opened for such prominent artists as Grammy Award Nominee and Blues Music Award Nominee\, Shemekia Copeland; Grammy Award Nominee Singer/Songwriter Blues album\, Slam Allen and the Chris O’Leary Band.\nLead singer Sara Espinosa is joined by Dr. Lori Morris\, alto and tenor saxophone\, percussion and vocals; Rich De Crosta\, trumpet\, flugelhorn\, percussion and vocals; Cue Gerhards\, guitar and vocals; Francis Ralston\, bass and background vocals\, and Jerry Teters\, drums and vocals. Together\, they create a vibe that is described by a recent concertgoer as\, “Needle pushing the\nend & bouncing – a 10 +on a scale of 10 with the poor needle trying to break the stopper!” \nhttps://www.soulpurposehudsonvalley.com/\nhttps://www.facebook.com/soulpurposehudsonvalley\nhttps://www.instagram.com/soulpurposehudsonvalley/ \nPress / booking contact: soulpurposebandbooking@gmail.com or Sara Espinosa\, 206.849.2890
URL:https://sitemaps.gardinerbrewingcompany.com/event/soul-purpose-7/
LOCATION:The Barn at Gardiner Brewing Company\, 699 State Route 208\, Gardiner\, NY\, 12525\, United States
CATEGORIES:Live Music
END:VEVENT
BEGIN:VEVENT
DTSTART;TZID=America/New_York:20220814T153000
DTEND;TZID=America/New_York:20220814T183000
DTSTAMP:20260425T084414
CREATED:20220603T205741Z
LAST-MODIFIED:20220603T205848Z
UID:1363-1660491000-1660501800@sitemaps.gardinerbrewingcompany.com
SUMMARY:The Other Band
DESCRIPTION:The Other Band enjoyed a successful career from 1987-2001\, where we became one of the most sought-after bar bands in the Hudson Valley. After Receiving radio airplay and accolades from the press for our 1990 studio release\, we played relentlessly\, including venues large and small\, with some personnel changes\, until we disbanded in early 2001.\n\nIn the summer of 2011\, after more than 10 years apart\, The Other Band reunited with original members James Ratner\, Rob Friedland and Dave Mucci. We enlisted Sax player Greg Fiske to round out the new line up. And so… we are back! In 2014\, we were rejoined by our drummer in the late ’90’s\, Gary Pellegrino. In Sept 2015\, our original keyboardist\, Dana Gabrielsen\, rejoined The Other Band\, helping us to continue our growth and improve our sound and versatility. After 4 years since our reunion tour\, or re-energized fan base and list of clubs and venues continues to grow!
URL:https://sitemaps.gardinerbrewingcompany.com/event/the-other-band/
LOCATION:The Barn at Gardiner Brewing Company\, 699 State Route 208\, Gardiner\, NY\, 12525\, United States
CATEGORIES:Live Music
END:VEVENT
BEGIN:VEVENT
DTSTART;TZID=America/New_York:20220813T153000
DTEND;TZID=America/New_York:20220813T183000
DTSTAMP:20260425T084414
CREATED:20220603T205506Z
LAST-MODIFIED:20220621T133942Z
UID:1359-1660404600-1660415400@sitemaps.gardinerbrewingcompany.com
SUMMARY:Judith Tulloch Band
DESCRIPTION:Pop\, jazz\, & world music. With vocals\, guitar\, flute\, bass\, & percussion. Judith and her band have warmed up the stage as an opening act for Michael McDonald\, Maria Muldaur\, Pete Seeger\, Paul Winter\, Janet Hamill & Moving Star\, Patti Smith\, Levon Helm\, Lucy Kaplansky\, Bo Diddley\, Tom Chapin\, and many others. The band performs at all types of venues ranging from concert halls\, to clubs\, cafes\, restaurants\, art galleries\, cultural events\, wedding ceremonies\, cocktail hour\, and special benefits. Music that has been described as world-pop-fusion with a jazzy edge.
URL:https://sitemaps.gardinerbrewingcompany.com/event/judith-tulloch-band-20/
LOCATION:The Barn at Gardiner Brewing Company\, 699 State Route 208\, Gardiner\, NY\, 12525\, United States
CATEGORIES:Live Music
END:VEVENT
BEGIN:VEVENT
DTSTART;TZID=America/New_York:20220807T153000
DTEND;TZID=America/New_York:20220807T183000
DTSTAMP:20260425T084414
CREATED:20220603T205626Z
LAST-MODIFIED:20220803T200239Z
UID:1361-1659886200-1659897000@sitemaps.gardinerbrewingcompany.com
SUMMARY:Oxford Station Band
DESCRIPTION:
URL:https://sitemaps.gardinerbrewingcompany.com/event/moonshine-creek/
LOCATION:The Barn at Gardiner Brewing Company\, 699 State Route 208\, Gardiner\, NY\, 12525\, United States
CATEGORIES:Live Music
END:VEVENT
BEGIN:VEVENT
DTSTART;TZID=America/New_York:20220806T153000
DTEND;TZID=America/New_York:20220806T183000
DTSTAMP:20260425T084414
CREATED:20220727T190946Z
LAST-MODIFIED:20220727T191432Z
UID:1477-1659799800-1659810600@sitemaps.gardinerbrewingcompany.com
SUMMARY:7he 7eam
DESCRIPTION:7he 7eam is a rap\, rock and pop band from New York. Formed in 2016 by Big Bad Baragon\, 7he 7eam has made their mark mostly on the live circuit\, having had performed at a wide variety of events including college parties\, fashion shows and fundraisers. Influenced by artists such as The Beatles\, Lil Wayne\, Lupe Fiasco and Big Daddy Kane\, 7he 7eam features a unique blend of musical styles. Sporting matching outfits and instruments on stage\, 7he 7eam branched out into fashion and sells their merchandise at shows and online.
URL:https://sitemaps.gardinerbrewingcompany.com/event/7he-7eam/
LOCATION:The Barn at Gardiner Brewing Company\, 699 State Route 208\, Gardiner\, NY\, 12525\, United States
CATEGORIES:Live Music
END:VEVENT
BEGIN:VEVENT
DTSTART;TZID=America/New_York:20220731T153000
DTEND;TZID=America/New_York:20220731T183000
DTSTAMP:20260425T084414
CREATED:20220406T171416Z
LAST-MODIFIED:20220406T171416Z
UID:1260-1659281400-1659292200@sitemaps.gardinerbrewingcompany.com
SUMMARY:Brasskill
DESCRIPTION:Brasskill is a lively 14-piece party brass band whose mission is your party out on dance floor. Bringing funky decibels to parties\, festivals\, parades and other merry gatherings in Hudson Valley and surrounding areas\, Brasskill’s high-energy live performances feature driving percussion section\, shiny\, melodic horns\, innovative band choreography\, LED lights\, and the finest thrift store sparkly attire that one can find. The band’s wide-ranging repertoire includes music from the New Orleans second line tradition\, punk and pop covers\, international grooves\, as well as original compositions and arrangements.
URL:https://sitemaps.gardinerbrewingcompany.com/event/brasskill-3/
LOCATION:The Barn at Gardiner Brewing Company\, 699 State Route 208\, Gardiner\, NY\, 12525\, United States
CATEGORIES:Live Music
END:VEVENT
BEGIN:VEVENT
DTSTART;TZID=America/New_York:20220730T153000
DTEND;TZID=America/New_York:20220730T183000
DTSTAMP:20260425T084414
CREATED:20220303T180433Z
LAST-MODIFIED:20220601T135312Z
UID:1224-1659195000-1659205800@sitemaps.gardinerbrewingcompany.com
SUMMARY:Johnny and the Rev Dogs
DESCRIPTION:
URL:https://sitemaps.gardinerbrewingcompany.com/event/johnny-and-the-rev-dogs-3/
LOCATION:The Barn at Gardiner Brewing Company\, 699 State Route 208\, Gardiner\, NY\, 12525\, United States
CATEGORIES:Live Music
END:VEVENT
BEGIN:VEVENT
DTSTART;TZID=America/New_York:20220724T153000
DTEND;TZID=America/New_York:20220724T183000
DTSTAMP:20260425T084414
CREATED:20220303T180238Z
LAST-MODIFIED:20220603T205338Z
UID:1216-1658676600-1658687400@sitemaps.gardinerbrewingcompany.com
SUMMARY:Dylan Doyle Band
DESCRIPTION:Southern born\, Northern raised \, Dylan Doyle has been steeped in everything from Bob Dylan\, Wes Montgomery\, and Bill Withers to John Prine\, Jimi Hendrix\, and The Band.  From this comes a unique musical interpretation that lies somewhere within the delta of Roots\, Rock\, and Jazz\, giving him a style that defies classification. \nTouring nationally since age 15\, Dylan became a seasoned professional at a very young age.  He has played with such notable musicians Rob Stoner (Bob Dylan\, Don Mclean)\, John Platania (Van Morrison\, Natalie Merchant)\, Ben Cauley (Otis Redding) and Bill Payne (Little Feat).  Stoner called Dylan one of the most prodigious players he has known with abundant natural talent.  John Platania has referred to Dylan as “The Future.”  Ben Cauley\, after playing with Dylan in Memphis said\, “Dylan Doyle sounds like a young Jimi Hendrix.”  In the words of Bill Payne upon sharing the stage\, “Music is a conversation.  Dylan spoke beautifully and was listening to the musicians around him.  His play was imaginative and original.” \nAttesting to Dylan’s versatility\, Dylan has played the King Biscuit Blues Festival three consecutive years as well headlining the Grateful Garcia Gathering\, the largest Grateful Dead festival in the Midwest.  
URL:https://sitemaps.gardinerbrewingcompany.com/event/dylan-doyle-band-7/
LOCATION:The Barn at Gardiner Brewing Company\, 699 State Route 208\, Gardiner\, NY\, 12525\, United States
CATEGORIES:Live Music
END:VEVENT
BEGIN:VEVENT
DTSTART;TZID=America/New_York:20220723T153000
DTEND;TZID=America/New_York:20220723T183000
DTSTAMP:20260425T084414
CREATED:20220411T133704Z
LAST-MODIFIED:20220411T133704Z
UID:1265-1658590200-1658601000@sitemaps.gardinerbrewingcompany.com
SUMMARY:Bourbon Sprawl
DESCRIPTION:Brooklyn Sprawl serves the country-underserved market of New York City and the greater tri-state area with classic country songs to make you weep in your beer or scoot a boot. We play the faves from Merle Haggard\, Johnny Cash\, Willie Nelson\, George Jones\, Steve Earle\, Roger Miller\, Justin Townes Earle\, Tom T. Hall and more.
URL:https://sitemaps.gardinerbrewingcompany.com/event/bourbon-sprawl/
LOCATION:The Barn at Gardiner Brewing Company\, 699 State Route 208\, Gardiner\, NY\, 12525\, United States
CATEGORIES:Live Music
END:VEVENT
BEGIN:VEVENT
DTSTART;TZID=America/New_York:20220717T153000
DTEND;TZID=America/New_York:20220717T183000
DTSTAMP:20260425T084414
CREATED:20220303T180217Z
LAST-MODIFIED:20220303T180217Z
UID:1214-1658071800-1658082600@sitemaps.gardinerbrewingcompany.com
SUMMARY:Sons of Hudson
DESCRIPTION:
URL:https://sitemaps.gardinerbrewingcompany.com/event/sons-of-hudson-8/
LOCATION:The Barn at Gardiner Brewing Company\, 699 State Route 208\, Gardiner\, NY\, 12525\, United States
CATEGORIES:Live Music
END:VEVENT
BEGIN:VEVENT
DTSTART;TZID=America/New_York:20220716T153000
DTEND;TZID=America/New_York:20220716T183000
DTSTAMP:20260425T084414
CREATED:20220303T180407Z
LAST-MODIFIED:20220303T180407Z
UID:1222-1657985400-1657996200@sitemaps.gardinerbrewingcompany.com
SUMMARY:Little Rock Band
DESCRIPTION:
URL:https://sitemaps.gardinerbrewingcompany.com/event/little-rock-band/
LOCATION:The Barn at Gardiner Brewing Company\, 699 State Route 208\, Gardiner\, NY\, 12525\, United States
CATEGORIES:Live Music
END:VEVENT
BEGIN:VEVENT
DTSTART;TZID=America/New_York:20220710T153000
DTEND;TZID=America/New_York:20220710T183000
DTSTAMP:20260425T084414
CREATED:20220303T180154Z
LAST-MODIFIED:20220603T204739Z
UID:1212-1657467000-1657477800@sitemaps.gardinerbrewingcompany.com
SUMMARY:Lost Cowboys
DESCRIPTION:We are a rockin’ ensemble of seasoned musicians playing original tunes and authentic covers of such artists as Willie Nelson\, Waylon Jennings\, Merle Haggard\, Hank Williams\, and Marshall Tucker. We treat our audiences to a hard-drivin’ and sweet sounding’ honky-tonk experience. \nOur music has been entertaining loyal fans throughout the Hudson Valley and Catskills\, creating the perfect atmosphere for dancing\, partying\, or just great listening.
URL:https://sitemaps.gardinerbrewingcompany.com/event/lost-cowboys-2/
LOCATION:The Barn at Gardiner Brewing Company\, 699 State Route 208\, Gardiner\, NY\, 12525\, United States
CATEGORIES:Live Music
END:VEVENT
BEGIN:VEVENT
DTSTART;TZID=America/New_York:20220709T153000
DTEND;TZID=America/New_York:20220709T183000
DTSTAMP:20260425T084414
CREATED:20220303T180347Z
LAST-MODIFIED:20220603T204303Z
UID:1220-1657380600-1657391400@sitemaps.gardinerbrewingcompany.com
SUMMARY:Eugene Tyler Band
DESCRIPTION:Eugene Tyler Band are just three mama’s boys with anxiety problems trying to find catharsis in high-energy\, irreverent songs. Eugene Gardner (vocals/guitar/mandolin)\, Daniel Tyler (guitar/banjo)\, and Marc Jaffee (upright bass/vocals) all grew up within a couple of miles of each other in downstate New York\, and since 2015 they’ve been on the road\, performing at landmark clubs like Sony Hall and the Knitting Factory and bluegrass festivals like Ossippee Valley and Thomas Point Beach\, building a dedicated fanbase stretching from Colorado to Maine.
URL:https://sitemaps.gardinerbrewingcompany.com/event/eugene-tyler-band-10/
LOCATION:The Barn at Gardiner Brewing Company\, 699 State Route 208\, Gardiner\, NY\, 12525\, United States
CATEGORIES:Live Music
END:VEVENT
BEGIN:VEVENT
DTSTART;TZID=America/New_York:20220703T153000
DTEND;TZID=America/New_York:20220703T183000
DTSTAMP:20260425T084414
CREATED:20220603T204201Z
LAST-MODIFIED:20220603T204201Z
UID:1350-1656862200-1656873000@sitemaps.gardinerbrewingcompany.com
SUMMARY:The Classics
DESCRIPTION:The Classics are a power trio playing all of your favorite funk\, soul\, and reggae jams from the 70’s until now. All members have an extensive background in jazz which allows them to create unique arrangements and revitalize songs while paying homage to the original artists. Prepare to be inspired by this rhythmically tight and full sounding band. Be sure to catch them at local venues throughout the Hudson Valley every weekend!
URL:https://sitemaps.gardinerbrewingcompany.com/event/the-classics-16/
LOCATION:The Barn at Gardiner Brewing Company\, 699 State Route 208\, Gardiner\, NY\, 12525\, United States
CATEGORIES:Live Music
END:VEVENT
BEGIN:VEVENT
DTSTART;TZID=America/New_York:20220702T153000
DTEND;TZID=America/New_York:20220702T183000
DTSTAMP:20260425T084414
CREATED:20220303T180324Z
LAST-MODIFIED:20220303T180324Z
UID:1218-1656775800-1656786600@sitemaps.gardinerbrewingcompany.com
SUMMARY:Oxford Station Band
DESCRIPTION:
URL:https://sitemaps.gardinerbrewingcompany.com/event/oxford-station-band-15/
LOCATION:The Barn at Gardiner Brewing Company\, 699 State Route 208\, Gardiner\, NY\, 12525\, United States
CATEGORIES:Live Music
END:VEVENT
BEGIN:VEVENT
DTSTART;TZID=America/New_York:20220626T153000
DTEND;TZID=America/New_York:20220626T183000
DTSTAMP:20260425T084414
CREATED:20220303T180033Z
LAST-MODIFIED:20220603T205118Z
UID:1206-1656257400-1656268200@sitemaps.gardinerbrewingcompany.com
SUMMARY:What?
DESCRIPTION:Facebook page \nWebsite \nWhat? is a funk septet hailing out of the Hudson Valley of New York. Although commonly confused with the international sensation known as ‘The Who\,’ What? has been pioneering their own path to success despite being put on second base by Russ Abbott in 1938. The band found their roots in 2016 when Ryan Perrone and Dan Steen met while studying at SUNY New Paltz.
URL:https://sitemaps.gardinerbrewingcompany.com/event/what-3/
LOCATION:The Barn at Gardiner Brewing Company\, 699 State Route 208\, Gardiner\, NY\, 12525\, United States
CATEGORIES:Live Music
END:VEVENT
BEGIN:VEVENT
DTSTART;TZID=America/New_York:20220625T153000
DTEND;TZID=America/New_York:20220625T183000
DTSTAMP:20260425T084414
CREATED:20220303T180121Z
LAST-MODIFIED:20220603T204759Z
UID:1210-1656171000-1656181800@sitemaps.gardinerbrewingcompany.com
SUMMARY:Hillbilly Parade
DESCRIPTION:Hillbilly Parade is a Pop-Rock Country party band. Established in 2014\, Hillbilly Parade has become one of the most sought after Top 40 Country Cover Bands in the Hudson Valley\, playing more than 250 shows a year including private parties and weddings. Most known for their witty stage humor\, line dancing\, and high energy tuneful sets\, Hillbilly Parade is sure to get any crowds attention. Hillbilly Parade isn’t just your regular cover band. They’ve walked on stage before notable acts like Rodney Atkins\, Eric Paslay\, and Jerrod Nieman. With a collective 30 plus years of experience in music; both live performance and professional training\, Hillbilly Parade strives to be more than just “background music”.
URL:https://sitemaps.gardinerbrewingcompany.com/event/hillbilly-parade-6/
LOCATION:The Barn at Gardiner Brewing Company\, 699 State Route 208\, Gardiner\, NY\, 12525\, United States
CATEGORIES:Live Music
END:VEVENT
BEGIN:VEVENT
DTSTART;TZID=America/New_York:20220619T153000
DTEND;TZID=America/New_York:20220619T183000
DTSTAMP:20260425T084414
CREATED:20220608T174831Z
LAST-MODIFIED:20220608T174831Z
UID:1425-1655652600-1655663400@sitemaps.gardinerbrewingcompany.com
SUMMARY:Bluegrass Wranglers
DESCRIPTION:“Bill Monroe meets Roy Rogers in a wildfire”\nThis is a fun band playing both kinds of music\, Country & Western\nVirtuoso musicianship along with storytelling set them apart.\nEducational and entertaining made in the USA.\n\nWebsite
URL:https://sitemaps.gardinerbrewingcompany.com/event/bluegrass-wranglers/
LOCATION:The Barn at Gardiner Brewing Company\, 699 State Route 208\, Gardiner\, NY\, 12525\, United States
CATEGORIES:Live Music
END:VEVENT
BEGIN:VEVENT
DTSTART;TZID=America/New_York:20220618T153000
DTEND;TZID=America/New_York:20220618T183000
DTSTAMP:20260425T084414
CREATED:20220610T135001Z
LAST-MODIFIED:20220610T135001Z
UID:1427-1655566200-1655577000@sitemaps.gardinerbrewingcompany.com
SUMMARY:Sidemen Blues Band
DESCRIPTION:Snapper and Ken have been playing the blues since the late ’60’s. We started our journey during high school in Cornwall\, NY. After graduation we set off on our own paths and lost contact for 35 years or so. We reconnected again around 2009 (thank you Facebook) and began planning. Eventually Ken moved back to the Hudson Valley and it was game on. Enlisting the help of Avery (Ken’s son) on drums and Matt Dowden on bass the Sidemen began to take form. It’s a really interesting mix of musicians. Two players in their 60’s and two players in their 20’s. Lots of fun\, energy and learning in every direction.
URL:https://sitemaps.gardinerbrewingcompany.com/event/sidemen-blues-band/
LOCATION:The Barn at Gardiner Brewing Company\, 699 State Route 208\, Gardiner\, NY\, 12525\, United States
CATEGORIES:Live Music
END:VEVENT
BEGIN:VEVENT
DTSTART;TZID=America/New_York:20220612T153000
DTEND;TZID=America/New_York:20220612T183000
DTSTAMP:20260425T084414
CREATED:20220520T214622Z
LAST-MODIFIED:20220608T135236Z
UID:1323-1655047800-1655058600@sitemaps.gardinerbrewingcompany.com
SUMMARY:Gratefully Yours
DESCRIPTION:Hudson Valley’s premiere Grateful Dead cover band! Gratefully Yours
URL:https://sitemaps.gardinerbrewingcompany.com/event/grateful-duo-3/
LOCATION:The Barn at Gardiner Brewing Company\, 699 State Route 208\, Gardiner\, NY\, 12525\, United States
CATEGORIES:Live Music
END:VEVENT
BEGIN:VEVENT
DTSTART;TZID=America/New_York:20220611T153000
DTEND;TZID=America/New_York:20220611T183000
DTSTAMP:20260425T084414
CREATED:20220424T174907Z
LAST-MODIFIED:20220424T174907Z
UID:1284-1654961400-1654972200@sitemaps.gardinerbrewingcompany.com
SUMMARY:Little Creek Band
DESCRIPTION:A local favorite back on stage at GBC!
URL:https://sitemaps.gardinerbrewingcompany.com/event/little-creek-band-3/
LOCATION:The Barn at Gardiner Brewing Company\, 699 State Route 208\, Gardiner\, NY\, 12525\, United States
CATEGORIES:Live Music
END:VEVENT
BEGIN:VEVENT
DTSTART;TZID=America/New_York:20220605T153000
DTEND;TZID=America/New_York:20220605T183000
DTSTAMP:20260425T084414
CREATED:20220303T180013Z
LAST-MODIFIED:20220603T204828Z
UID:1204-1654443000-1654453800@sitemaps.gardinerbrewingcompany.com
SUMMARY:That 70's Project
DESCRIPTION:
URL:https://sitemaps.gardinerbrewingcompany.com/event/that-70s-project/
LOCATION:The Barn at Gardiner Brewing Company\, 699 State Route 208\, Gardiner\, NY\, 12525\, United States
CATEGORIES:Live Music
END:VEVENT
BEGIN:VEVENT
DTSTART;TZID=America/New_York:20220604T153000
DTEND;TZID=America/New_York:20220604T183000
DTSTAMP:20260425T084414
CREATED:20220303T180058Z
LAST-MODIFIED:20220601T135258Z
UID:1208-1654356600-1654367400@sitemaps.gardinerbrewingcompany.com
SUMMARY:Johnny and the Rev Dogs
DESCRIPTION:
URL:https://sitemaps.gardinerbrewingcompany.com/event/johnny-and-the-rev-dogs-2/
LOCATION:The Barn at Gardiner Brewing Company\, 699 State Route 208\, Gardiner\, NY\, 12525\, United States
CATEGORIES:Live Music
END:VEVENT
BEGIN:VEVENT
DTSTART;TZID=America/New_York:20220529T153000
DTEND;TZID=America/New_York:20220529T183000
DTSTAMP:20260425T084414
CREATED:20220303T175842Z
LAST-MODIFIED:20220303T175842Z
UID:1196-1653838200-1653849000@sitemaps.gardinerbrewingcompany.com
SUMMARY:Sons of Hudson
DESCRIPTION:
URL:https://sitemaps.gardinerbrewingcompany.com/event/sons-of-hudson-7/
LOCATION:The Barn at Gardiner Brewing Company\, 699 State Route 208\, Gardiner\, NY\, 12525\, United States
CATEGORIES:Live Music
END:VEVENT
BEGIN:VEVENT
DTSTART;TZID=America/New_York:20220528T153000
DTEND;TZID=America/New_York:20220528T183000
DTSTAMP:20260425T084414
CREATED:20220303T175946Z
LAST-MODIFIED:20220419T132100Z
UID:1202-1653751800-1653762600@sitemaps.gardinerbrewingcompany.com
SUMMARY:Soul Purpose
DESCRIPTION:With a distinctive take on New Orleans Funk\, classic and contemporary Soul and Swing\, Soul Purpose is a “smokin’ band whose joyous renditions of R&B\, Soul and Swing will lift your heart\, gathering the boisterous energy of a dancing crowd and channeling it into a melodic explosion.” – The Huguenot Herald.\nSoul Purpose enthralls from the first note with powerhouse vocals\, bold horns\, lush keyboards\, and blistering guitarwork with the rhythmic reference and underlying pulse for the band provided by expertly played bass and percussion. Formed in New Paltz\, New York over two decades ago and recently named “Best Local Band” by the readers of Hudson Valley Magazine\, the band has played at numerous venues from intimate concerts\, larger festival stages and benefits. Soul Purpose has headlined at the famed Daryl’s House Club\, Pawling\, NY\, iconic Towne Crier Cafe\, Beacon\, NY\, historic Colony\, Woodstock\, NY and renowned Falcon\, Marlboro\, NY. The band has opened for such prominent artists as Grammy Award Nominee and Blues Music Award Nominee\, Shemekia Copeland; Grammy Award Nominee Singer/Songwriter Blues album\, Slam Allen and the Chris O’Leary Band.\nLead singer Sara Espinosa is joined by Dr. Lori Morris\, alto and tenor saxophone\, percussion and vocals; Rich De Crosta\, trumpet\, flugelhorn\, percussion and vocals; Cue Gerhards\, guitar and vocals; Francis Ralston\, bass and background vocals\, and Jerry Teters\, drums and vocals. Together\, they create a vibe that is described by a recent concertgoer as\, “Needle pushing the\nend & bouncing – a 10 +on a scale of 10 with the poor needle trying to break the stopper!” \nhttps://www.soulpurposehudsonvalley.com/\nhttps://www.facebook.com/soulpurposehudsonvalley\nhttps://www.instagram.com/soulpurposehudsonvalley/ \nPress / booking contact: soulpurposebandbooking@gmail.com or Sara Espinosa\, 206.849.2890
URL:https://sitemaps.gardinerbrewingcompany.com/event/soul-purpose-5/
LOCATION:The Barn at Gardiner Brewing Company\, 699 State Route 208\, Gardiner\, NY\, 12525\, United States
CATEGORIES:Live Music
END:VEVENT
BEGIN:VEVENT
DTSTART;TZID=America/New_York:20220522T153000
DTEND;TZID=America/New_York:20220522T183000
DTSTAMP:20260425T084414
CREATED:20220303T175817Z
LAST-MODIFIED:20220303T175817Z
UID:1194-1653233400-1653244200@sitemaps.gardinerbrewingcompany.com
SUMMARY:Eugene Tyler Band
DESCRIPTION:
URL:https://sitemaps.gardinerbrewingcompany.com/event/eugene-tyler-band-9/
LOCATION:The Barn at Gardiner Brewing Company\, 699 State Route 208\, Gardiner\, NY\, 12525\, United States
CATEGORIES:Live Music
END:VEVENT
BEGIN:VEVENT
DTSTART;TZID=America/New_York:20220521T153000
DTEND;TZID=America/New_York:20220521T183000
DTSTAMP:20260425T084414
CREATED:20220426T223944Z
LAST-MODIFIED:20220426T223944Z
UID:1286-1653147000-1653157800@sitemaps.gardinerbrewingcompany.com
SUMMARY:The Vibe
DESCRIPTION:
URL:https://sitemaps.gardinerbrewingcompany.com/event/the-vibe-2/
LOCATION:The Barn at Gardiner Brewing Company\, 699 State Route 208\, Gardiner\, NY\, 12525\, United States
CATEGORIES:Live Music
END:VEVENT
BEGIN:VEVENT
DTSTART;TZID=America/New_York:20220515T153000
DTEND;TZID=America/New_York:20220515T183000
DTSTAMP:20260425T084414
CREATED:20220321T210425Z
LAST-MODIFIED:20220411T143500Z
UID:1246-1652628600-1652639400@sitemaps.gardinerbrewingcompany.com
SUMMARY:Barrelhouse Blues Band
DESCRIPTION:The Barrelhouse Blues Band is bringing the best Blues and Classic Rock to its live show!
URL:https://sitemaps.gardinerbrewingcompany.com/event/the-vibe/
LOCATION:The Barn at Gardiner Brewing Company\, 699 State Route 208\, Gardiner\, NY\, 12525\, United States
CATEGORIES:Live Music
END:VEVENT
BEGIN:VEVENT
DTSTART;TZID=America/New_York:20220514T153000
DTEND;TZID=America/New_York:20220514T183000
DTSTAMP:20260425T084414
CREATED:20220303T175926Z
LAST-MODIFIED:20220303T175926Z
UID:1200-1652542200-1652553000@sitemaps.gardinerbrewingcompany.com
SUMMARY:Judith Tulloch Band
DESCRIPTION:
URL:https://sitemaps.gardinerbrewingcompany.com/event/judith-tulloch-band-19/
LOCATION:The Barn at Gardiner Brewing Company\, 699 State Route 208\, Gardiner\, NY\, 12525\, United States
CATEGORIES:Live Music
END:VEVENT
BEGIN:VEVENT
DTSTART;TZID=America/New_York:20220508T153000
DTEND;TZID=America/New_York:20220508T183000
DTSTAMP:20260425T084414
CREATED:20220303T174808Z
LAST-MODIFIED:20220303T174808Z
UID:1166-1652023800-1652034600@sitemaps.gardinerbrewingcompany.com
SUMMARY:Art Thief
DESCRIPTION:Originating from the lush backdrop of mountains that the Hudson Valley refers to as New Paltz\, Art thief is a Sci-Fi Rock and Roll band that puts entertainment over everything. Approaching music with the zen philosophy of opposites attracting\, they bring a punk rock energy to the bandstand while honing it in with a respect for the language that jazz and popular music has brought to our ears. Or is it that they are bringing a jazz vocabulary to the bandstand\, and honing that language in by bringing a punk rock energy to the stage? \nRegardless\, Art Thief has a consistent goal of bringing the best party and listening experience they can to wherever they perform\, while challenging themselves to push boundaries at every opportunity presented.
URL:https://sitemaps.gardinerbrewingcompany.com/event/art-thief/
LOCATION:The Barn at Gardiner Brewing Company\, 699 State Route 208\, Gardiner\, NY\, 12525\, United States
CATEGORIES:Live Music
END:VEVENT
END:VCALENDAR