BEGIN:VCALENDAR
VERSION:2.0
PRODID:-//Gardiner Brewing Company - ECPv6.15.20//NONSGML v1.0//EN
CALSCALE:GREGORIAN
METHOD:PUBLISH
X-ORIGINAL-URL:https://sitemaps.gardinerbrewingcompany.com
X-WR-CALDESC:Events for Gardiner Brewing Company
REFRESH-INTERVAL;VALUE=DURATION:PT1H
X-Robots-Tag:noindex
X-PUBLISHED-TTL:PT1H
BEGIN:VTIMEZONE
TZID:America/New_York
BEGIN:DAYLIGHT
TZOFFSETFROM:-0500
TZOFFSETTO:-0400
TZNAME:EDT
DTSTART:20230312T070000
END:DAYLIGHT
BEGIN:STANDARD
TZOFFSETFROM:-0400
TZOFFSETTO:-0500
TZNAME:EST
DTSTART:20231105T060000
END:STANDARD
BEGIN:DAYLIGHT
TZOFFSETFROM:-0500
TZOFFSETTO:-0400
TZNAME:EDT
DTSTART:20240310T070000
END:DAYLIGHT
BEGIN:STANDARD
TZOFFSETFROM:-0400
TZOFFSETTO:-0500
TZNAME:EST
DTSTART:20241103T060000
END:STANDARD
BEGIN:DAYLIGHT
TZOFFSETFROM:-0500
TZOFFSETTO:-0400
TZNAME:EDT
DTSTART:20250309T070000
END:DAYLIGHT
BEGIN:STANDARD
TZOFFSETFROM:-0400
TZOFFSETTO:-0500
TZNAME:EST
DTSTART:20251102T060000
END:STANDARD
BEGIN:DAYLIGHT
TZOFFSETFROM:-0500
TZOFFSETTO:-0400
TZNAME:EDT
DTSTART:20260308T070000
END:DAYLIGHT
BEGIN:STANDARD
TZOFFSETFROM:-0400
TZOFFSETTO:-0500
TZNAME:EST
DTSTART:20261101T060000
END:STANDARD
END:VTIMEZONE
BEGIN:VEVENT
DTSTART;VALUE=DATE:20241228
DTEND;VALUE=DATE:20250201
DTSTAMP:20260424T205429
CREATED:20240829T164820Z
LAST-MODIFIED:20240829T164820Z
UID:2329-1735344000-1738367999@sitemaps.gardinerbrewingcompany.com
SUMMARY:WINTER BREAK - SEE YOU IN FEBRUARY!
DESCRIPTION:
URL:https://sitemaps.gardinerbrewingcompany.com/event/winter-break-see-you-in-february/
LOCATION:The Barn at Gardiner Brewing Company\, 699 State Route 208\, Gardiner\, NY\, 12525\, United States
END:VEVENT
BEGIN:VEVENT
DTSTART;TZID=America/New_York:20250201T153000
DTEND;TZID=America/New_York:20250201T183000
DTSTAMP:20260424T205429
CREATED:20250129T183059Z
LAST-MODIFIED:20250129T183214Z
UID:2359-1738423800-1738434600@sitemaps.gardinerbrewingcompany.com
SUMMARY:Blu Crush
DESCRIPTION:BluCrush is our Crazy-Fun High-Energy 4 piece party band.
URL:https://sitemaps.gardinerbrewingcompany.com/event/blu-crush/
LOCATION:The Barn at Gardiner Brewing Company\, 699 State Route 208\, Gardiner\, NY\, 12525\, United States
CATEGORIES:Live Music
END:VEVENT
BEGIN:VEVENT
DTSTART;TZID=America/New_York:20250202T153000
DTEND;TZID=America/New_York:20250202T183000
DTSTAMP:20260424T205429
CREATED:20250129T183311Z
LAST-MODIFIED:20250129T183311Z
UID:2362-1738510200-1738521000@sitemaps.gardinerbrewingcompany.com
SUMMARY:Cruise Control
DESCRIPTION:Cruise Control plays music that you can rock\, sing\, dance\, and party to.
URL:https://sitemaps.gardinerbrewingcompany.com/event/cruise-control/
LOCATION:The Barn at Gardiner Brewing Company\, 699 State Route 208\, Gardiner\, NY\, 12525\, United States
CATEGORIES:Live Music
END:VEVENT
BEGIN:VEVENT
DTSTART;TZID=America/New_York:20250208T153000
DTEND;TZID=America/New_York:20250208T183000
DTSTAMP:20260424T205429
CREATED:20250129T183333Z
LAST-MODIFIED:20250129T183333Z
UID:2364-1739028600-1739039400@sitemaps.gardinerbrewingcompany.com
SUMMARY:Oxford Station Band
DESCRIPTION:
URL:https://sitemaps.gardinerbrewingcompany.com/event/oxford-station-band-27/
LOCATION:The Barn at Gardiner Brewing Company\, 699 State Route 208\, Gardiner\, NY\, 12525\, United States
CATEGORIES:Live Music
END:VEVENT
BEGIN:VEVENT
DTSTART;TZID=America/New_York:20250209T153000
DTEND;TZID=America/New_York:20250209T183000
DTSTAMP:20260424T205429
CREATED:20250129T183448Z
LAST-MODIFIED:20250129T183502Z
UID:2366-1739115000-1739125800@sitemaps.gardinerbrewingcompany.com
SUMMARY:Midnite Image Band
DESCRIPTION:MIB is a variety Dance/Party Bands from New York’s Hudson Valley and your choice for Live Entertainment! MIB performs a great selection of Rock’n’Roll\, Classic Rock\, Southern Rock\, Disco\, Pop\, Motown\, 80’s\, 90’s and Today!
URL:https://sitemaps.gardinerbrewingcompany.com/event/midnite-image-band-3/
LOCATION:The Barn at Gardiner Brewing Company\, 699 State Route 208\, Gardiner\, NY\, 12525\, United States
CATEGORIES:Live Music
END:VEVENT
BEGIN:VEVENT
DTSTART;TZID=America/New_York:20250215T153000
DTEND;TZID=America/New_York:20250215T183000
DTSTAMP:20260424T205429
CREATED:20250129T183622Z
LAST-MODIFIED:20250129T183622Z
UID:2369-1739633400-1739644200@sitemaps.gardinerbrewingcompany.com
SUMMARY:Blue Plate Special
DESCRIPTION:“Opting to concentrate mostly on live performance\, the New Jersey-based Blue Plate Special have delivered only four albums in their 15 years together. But their bluegrass-\, country-\, folk-\, and swing-influenced music sounds just as compelling on record as it does on stage.”
URL:https://sitemaps.gardinerbrewingcompany.com/event/blue-plate-special-2/
LOCATION:The Barn at Gardiner Brewing Company\, 699 State Route 208\, Gardiner\, NY\, 12525\, United States
CATEGORIES:Live Music
END:VEVENT
BEGIN:VEVENT
DTSTART;TZID=America/New_York:20250216T153000
DTEND;TZID=America/New_York:20250216T183000
DTSTAMP:20260424T205429
CREATED:20250129T183649Z
LAST-MODIFIED:20250129T183649Z
UID:2371-1739719800-1739730600@sitemaps.gardinerbrewingcompany.com
SUMMARY:Jordan Stoner and Crash Test Silverados
DESCRIPTION:
URL:https://sitemaps.gardinerbrewingcompany.com/event/jordan-stoner-and-crash-test-silverados-4/
LOCATION:The Barn at Gardiner Brewing Company\, 699 State Route 208\, Gardiner\, NY\, 12525\, United States
CATEGORIES:Live Music
END:VEVENT
BEGIN:VEVENT
DTSTART;TZID=America/New_York:20250222T153000
DTEND;TZID=America/New_York:20250222T183000
DTSTAMP:20260424T205429
CREATED:20250129T183714Z
LAST-MODIFIED:20250129T183714Z
UID:2373-1740238200-1740249000@sitemaps.gardinerbrewingcompany.com
SUMMARY:Bunker Boys
DESCRIPTION:
URL:https://sitemaps.gardinerbrewingcompany.com/event/bunker-boys-10/
LOCATION:The Barn at Gardiner Brewing Company\, 699 State Route 208\, Gardiner\, NY\, 12525\, United States
CATEGORIES:Live Music
END:VEVENT
BEGIN:VEVENT
DTSTART;TZID=America/New_York:20250223T153000
DTEND;TZID=America/New_York:20250223T183000
DTSTAMP:20260424T205429
CREATED:20250129T183733Z
LAST-MODIFIED:20250129T183733Z
UID:2375-1740324600-1740335400@sitemaps.gardinerbrewingcompany.com
SUMMARY:The Tonebenders
DESCRIPTION:
URL:https://sitemaps.gardinerbrewingcompany.com/event/the-tonebenders-7/
LOCATION:The Barn at Gardiner Brewing Company\, 699 State Route 208\, Gardiner\, NY\, 12525\, United States
CATEGORIES:Live Music
END:VEVENT
BEGIN:VEVENT
DTSTART;TZID=America/New_York:20250301T153000
DTEND;TZID=America/New_York:20250301T183000
DTSTAMP:20260424T205429
CREATED:20250301T145844Z
LAST-MODIFIED:20250301T145844Z
UID:2379-1740843000-1740853800@sitemaps.gardinerbrewingcompany.com
SUMMARY:The Tonebenders
DESCRIPTION:
URL:https://sitemaps.gardinerbrewingcompany.com/event/the-tonebenders-8/
LOCATION:The Barn at Gardiner Brewing Company\, 699 State Route 208\, Gardiner\, NY\, 12525\, United States
CATEGORIES:Live Music
END:VEVENT
BEGIN:VEVENT
DTSTART;TZID=America/New_York:20250302T153000
DTEND;TZID=America/New_York:20250302T183000
DTSTAMP:20260424T205429
CREATED:20250301T145915Z
LAST-MODIFIED:20250301T145915Z
UID:2381-1740929400-1740940200@sitemaps.gardinerbrewingcompany.com
SUMMARY:The Clique
DESCRIPTION:
URL:https://sitemaps.gardinerbrewingcompany.com/event/the-clique/
LOCATION:The Barn at Gardiner Brewing Company\, 699 State Route 208\, Gardiner\, NY\, 12525\, United States
CATEGORIES:Live Music
END:VEVENT
BEGIN:VEVENT
DTSTART;TZID=America/New_York:20250308T153000
DTEND;TZID=America/New_York:20250308T183000
DTSTAMP:20260424T205429
CREATED:20250301T151018Z
LAST-MODIFIED:20250301T151018Z
UID:2383-1741447800-1741458600@sitemaps.gardinerbrewingcompany.com
SUMMARY:Rivals NY
DESCRIPTION:
URL:https://sitemaps.gardinerbrewingcompany.com/event/rivals-ny-3/
LOCATION:NY
CATEGORIES:Live Music
END:VEVENT
BEGIN:VEVENT
DTSTART;TZID=America/New_York:20250309T153000
DTEND;TZID=America/New_York:20250309T183000
DTSTAMP:20260424T205429
CREATED:20250301T151048Z
LAST-MODIFIED:20250301T151048Z
UID:2385-1741534200-1741545000@sitemaps.gardinerbrewingcompany.com
SUMMARY:Groove Collection
DESCRIPTION:
URL:https://sitemaps.gardinerbrewingcompany.com/event/groove-collection/
LOCATION:The Barn at Gardiner Brewing Company\, 699 State Route 208\, Gardiner\, NY\, 12525\, United States
CATEGORIES:Live Music
END:VEVENT
BEGIN:VEVENT
DTSTART;TZID=America/New_York:20250315T153000
DTEND;TZID=America/New_York:20250315T183000
DTSTAMP:20260424T205429
CREATED:20250301T151113Z
LAST-MODIFIED:20250301T151113Z
UID:2387-1742052600-1742063400@sitemaps.gardinerbrewingcompany.com
SUMMARY:Sons of Hudson
DESCRIPTION:
URL:https://sitemaps.gardinerbrewingcompany.com/event/sons-of-hudson-15/
LOCATION:The Barn at Gardiner Brewing Company\, 699 State Route 208\, Gardiner\, NY\, 12525\, United States
CATEGORIES:Live Music
END:VEVENT
BEGIN:VEVENT
DTSTART;TZID=America/New_York:20250316T153000
DTEND;TZID=America/New_York:20250316T183000
DTSTAMP:20260424T205429
CREATED:20250301T151158Z
LAST-MODIFIED:20250301T151158Z
UID:2389-1742139000-1742149800@sitemaps.gardinerbrewingcompany.com
SUMMARY:The Hudson Quinns
DESCRIPTION:Come celebrate St Paddy’s with traditional Irish music at GBC.
URL:https://sitemaps.gardinerbrewingcompany.com/event/the-hudson-quinns-2/
LOCATION:The Barn at Gardiner Brewing Company\, 699 State Route 208\, Gardiner\, NY\, 12525\, United States
CATEGORIES:Live Music
END:VEVENT
BEGIN:VEVENT
DTSTART;TZID=America/New_York:20250322T153000
DTEND;TZID=America/New_York:20250322T183000
DTSTAMP:20260424T205429
CREATED:20250301T151232Z
LAST-MODIFIED:20250301T151232Z
UID:2391-1742657400-1742668200@sitemaps.gardinerbrewingcompany.com
SUMMARY:Oh Duo Vito
DESCRIPTION:
URL:https://sitemaps.gardinerbrewingcompany.com/event/oh-duo-vito/
LOCATION:The Barn at Gardiner Brewing Company\, 699 State Route 208\, Gardiner\, NY\, 12525\, United States
CATEGORIES:Live Music
END:VEVENT
BEGIN:VEVENT
DTSTART;TZID=America/New_York:20250323T153000
DTEND;TZID=America/New_York:20250323T183000
DTSTAMP:20260424T205429
CREATED:20250301T151303Z
LAST-MODIFIED:20250301T151303Z
UID:2393-1742743800-1742754600@sitemaps.gardinerbrewingcompany.com
SUMMARY:90 Proof Band
DESCRIPTION:
URL:https://sitemaps.gardinerbrewingcompany.com/event/90-proof-band-4/
LOCATION:The Barn at Gardiner Brewing Company\, 699 State Route 208\, Gardiner\, NY\, 12525\, United States
CATEGORIES:Live Music
END:VEVENT
BEGIN:VEVENT
DTSTART;TZID=America/New_York:20250329T153000
DTEND;TZID=America/New_York:20250329T183000
DTSTAMP:20260424T205429
CREATED:20250301T151338Z
LAST-MODIFIED:20250301T151338Z
UID:2395-1743262200-1743273000@sitemaps.gardinerbrewingcompany.com
SUMMARY:SoulSense
DESCRIPTION:
URL:https://sitemaps.gardinerbrewingcompany.com/event/soulsense/
LOCATION:The Barn at Gardiner Brewing Company\, 699 State Route 208\, Gardiner\, NY\, 12525\, United States
CATEGORIES:Live Music
END:VEVENT
BEGIN:VEVENT
DTSTART;TZID=America/New_York:20250330T153000
DTEND;TZID=America/New_York:20250330T183000
DTSTAMP:20260424T205429
CREATED:20250301T151400Z
LAST-MODIFIED:20250301T151400Z
UID:2397-1743348600-1743359400@sitemaps.gardinerbrewingcompany.com
SUMMARY:The Classics
DESCRIPTION:
URL:https://sitemaps.gardinerbrewingcompany.com/event/the-classics-26/
LOCATION:The Barn at Gardiner Brewing Company\, 699 State Route 208\, Gardiner\, NY\, 12525\, United States
CATEGORIES:Live Music
END:VEVENT
BEGIN:VEVENT
DTSTART;TZID=America/New_York:20250412T153000
DTEND;TZID=America/New_York:20250412T183000
DTSTAMP:20260424T205429
CREATED:20250406T162237Z
LAST-MODIFIED:20250406T162237Z
UID:2403-1744471800-1744482600@sitemaps.gardinerbrewingcompany.com
SUMMARY:Downstate Duo
DESCRIPTION:
URL:https://sitemaps.gardinerbrewingcompany.com/event/downstate-duo/
LOCATION:The Barn at Gardiner Brewing Company\, 699 State Route 208\, Gardiner\, NY\, 12525\, United States
CATEGORIES:Live Music
END:VEVENT
BEGIN:VEVENT
DTSTART;TZID=America/New_York:20250413T153000
DTEND;TZID=America/New_York:20250413T183000
DTSTAMP:20260424T205429
CREATED:20250406T162303Z
LAST-MODIFIED:20250406T162303Z
UID:2405-1744558200-1744569000@sitemaps.gardinerbrewingcompany.com
SUMMARY:Identity Crisis
DESCRIPTION:
URL:https://sitemaps.gardinerbrewingcompany.com/event/identity-crisis-2/
LOCATION:The Barn at Gardiner Brewing Company\, 699 State Route 208\, Gardiner\, NY\, 12525\, United States
CATEGORIES:Live Music
END:VEVENT
BEGIN:VEVENT
DTSTART;TZID=America/New_York:20250419T153000
DTEND;TZID=America/New_York:20250419T183000
DTSTAMP:20260424T205429
CREATED:20250406T162335Z
LAST-MODIFIED:20250406T162335Z
UID:2407-1745076600-1745087400@sitemaps.gardinerbrewingcompany.com
SUMMARY:Jose Lopez and Chosen Style
DESCRIPTION:
URL:https://sitemaps.gardinerbrewingcompany.com/event/jose-lopez-and-chosen-style-7/
LOCATION:The Barn at Gardiner Brewing Company\, 699 State Route 208\, Gardiner\, NY\, 12525\, United States
END:VEVENT
BEGIN:VEVENT
DTSTART;TZID=America/New_York:20250420T150000
DTEND;TZID=America/New_York:20250420T190000
DTSTAMP:20260424T205429
CREATED:20250406T162357Z
LAST-MODIFIED:20250406T162357Z
UID:2409-1745161200-1745175600@sitemaps.gardinerbrewingcompany.com
SUMMARY:CLOSED FOR EASTER
DESCRIPTION:
URL:https://sitemaps.gardinerbrewingcompany.com/event/closed-for-easter-2/
LOCATION:The Barn at Gardiner Brewing Company\, 699 State Route 208\, Gardiner\, NY\, 12525\, United States
END:VEVENT
BEGIN:VEVENT
DTSTART;TZID=America/New_York:20250426T153000
DTEND;TZID=America/New_York:20250426T183000
DTSTAMP:20260424T205429
CREATED:20250406T162420Z
LAST-MODIFIED:20250406T162420Z
UID:2411-1745681400-1745692200@sitemaps.gardinerbrewingcompany.com
SUMMARY:Flirtin' With Disaster
DESCRIPTION:
URL:https://sitemaps.gardinerbrewingcompany.com/event/flirtin-with-disaster/
LOCATION:The Barn at Gardiner Brewing Company\, 699 State Route 208\, Gardiner\, NY\, 12525\, United States
CATEGORIES:Live Music
END:VEVENT
BEGIN:VEVENT
DTSTART;TZID=America/New_York:20250427T153000
DTEND;TZID=America/New_York:20250427T183000
DTSTAMP:20260424T205429
CREATED:20250406T162441Z
LAST-MODIFIED:20250406T162441Z
UID:2413-1745767800-1745778600@sitemaps.gardinerbrewingcompany.com
SUMMARY:Dog Party
DESCRIPTION:
URL:https://sitemaps.gardinerbrewingcompany.com/event/dog-party/
LOCATION:The Barn at Gardiner Brewing Company\, 699 State Route 208\, Gardiner\, NY\, 12525\, United States
CATEGORIES:Live Music
END:VEVENT
BEGIN:VEVENT
DTSTART;TZID=America/New_York:20250503T153000
DTEND;TZID=America/New_York:20250503T183000
DTSTAMP:20260424T205429
CREATED:20250406T162514Z
LAST-MODIFIED:20250417T233151Z
UID:2415-1746286200-1746297000@sitemaps.gardinerbrewingcompany.com
SUMMARY:Vinyl Biscuit
DESCRIPTION:
URL:https://sitemaps.gardinerbrewingcompany.com/event/groove-collection-2/
LOCATION:The Barn at Gardiner Brewing Company\, 699 State Route 208\, Gardiner\, NY\, 12525\, United States
CATEGORIES:Live Music
END:VEVENT
BEGIN:VEVENT
DTSTART;TZID=America/New_York:20250504T153000
DTEND;TZID=America/New_York:20250504T183000
DTSTAMP:20260424T205429
CREATED:20250406T162535Z
LAST-MODIFIED:20250406T162535Z
UID:2417-1746372600-1746383400@sitemaps.gardinerbrewingcompany.com
SUMMARY:Dylan Doyle Band
DESCRIPTION:
URL:https://sitemaps.gardinerbrewingcompany.com/event/dylan-doyle-band-8/
LOCATION:The Barn at Gardiner Brewing Company\, 699 State Route 208\, Gardiner\, NY\, 12525\, United States
CATEGORIES:Live Music
END:VEVENT
BEGIN:VEVENT
DTSTART;TZID=America/New_York:20250510T153000
DTEND;TZID=America/New_York:20250510T183000
DTSTAMP:20260424T205429
CREATED:20250406T162604Z
LAST-MODIFIED:20250406T162604Z
UID:2419-1746891000-1746901800@sitemaps.gardinerbrewingcompany.com
SUMMARY:Rivals NY
DESCRIPTION:
URL:https://sitemaps.gardinerbrewingcompany.com/event/rivals-ny-4/
LOCATION:NY
CATEGORIES:Live Music
END:VEVENT
BEGIN:VEVENT
DTSTART;TZID=America/New_York:20250511T150000
DTEND;TZID=America/New_York:20250511T190000
DTSTAMP:20260424T205429
CREATED:20250406T162626Z
LAST-MODIFIED:20250406T162626Z
UID:2421-1746975600-1746990000@sitemaps.gardinerbrewingcompany.com
SUMMARY:CLOSED FOR MOTHER'S DAY
DESCRIPTION:
URL:https://sitemaps.gardinerbrewingcompany.com/event/closed-for-mothers-day/
LOCATION:The Barn at Gardiner Brewing Company\, 699 State Route 208\, Gardiner\, NY\, 12525\, United States
END:VEVENT
BEGIN:VEVENT
DTSTART;TZID=America/New_York:20250517T153000
DTEND;TZID=America/New_York:20250517T183000
DTSTAMP:20260424T205429
CREATED:20250406T162645Z
LAST-MODIFIED:20250406T162649Z
UID:2423-1747495800-1747506600@sitemaps.gardinerbrewingcompany.com
SUMMARY:The Classics
DESCRIPTION:
URL:https://sitemaps.gardinerbrewingcompany.com/event/the-classics-27/
LOCATION:The Barn at Gardiner Brewing Company\, 699 State Route 208\, Gardiner\, NY\, 12525\, United States
CATEGORIES:Live Music
END:VEVENT
END:VCALENDAR