BEGIN:VCALENDAR
VERSION:2.0
PRODID:-//Gardiner Brewing Company - ECPv6.15.20//NONSGML v1.0//EN
CALSCALE:GREGORIAN
METHOD:PUBLISH
X-WR-CALNAME:Gardiner Brewing Company
X-ORIGINAL-URL:https://sitemaps.gardinerbrewingcompany.com
X-WR-CALDESC:Events for Gardiner Brewing Company
REFRESH-INTERVAL;VALUE=DURATION:PT1H
X-Robots-Tag:noindex
X-PUBLISHED-TTL:PT1H
BEGIN:VTIMEZONE
TZID:America/New_York
BEGIN:DAYLIGHT
TZOFFSETFROM:-0500
TZOFFSETTO:-0400
TZNAME:EDT
DTSTART:20240310T070000
END:DAYLIGHT
BEGIN:STANDARD
TZOFFSETFROM:-0400
TZOFFSETTO:-0500
TZNAME:EST
DTSTART:20241103T060000
END:STANDARD
BEGIN:DAYLIGHT
TZOFFSETFROM:-0500
TZOFFSETTO:-0400
TZNAME:EDT
DTSTART:20250309T070000
END:DAYLIGHT
BEGIN:STANDARD
TZOFFSETFROM:-0400
TZOFFSETTO:-0500
TZNAME:EST
DTSTART:20251102T060000
END:STANDARD
BEGIN:DAYLIGHT
TZOFFSETFROM:-0500
TZOFFSETTO:-0400
TZNAME:EDT
DTSTART:20260308T070000
END:DAYLIGHT
BEGIN:STANDARD
TZOFFSETFROM:-0400
TZOFFSETTO:-0500
TZNAME:EST
DTSTART:20261101T060000
END:STANDARD
END:VTIMEZONE
BEGIN:VEVENT
DTSTART;TZID=America/New_York:20251026T153000
DTEND;TZID=America/New_York:20251026T183000
DTSTAMP:20260424T070534
CREATED:20250406T164555Z
LAST-MODIFIED:20250406T164555Z
UID:2503-1761492600-1761503400@sitemaps.gardinerbrewingcompany.com
SUMMARY:The Classics
DESCRIPTION:
URL:https://sitemaps.gardinerbrewingcompany.com/event/the-classics-30/
LOCATION:The Barn at Gardiner Brewing Company\, 699 State Route 208\, Gardiner\, NY\, 12525\, United States
CATEGORIES:Live Music
END:VEVENT
BEGIN:VEVENT
DTSTART;TZID=America/New_York:20251025T153000
DTEND;TZID=America/New_York:20251025T183000
DTSTAMP:20260424T070534
CREATED:20250406T164533Z
LAST-MODIFIED:20250406T164533Z
UID:2501-1761406200-1761417000@sitemaps.gardinerbrewingcompany.com
SUMMARY:Gratefully Yours
DESCRIPTION:
URL:https://sitemaps.gardinerbrewingcompany.com/event/gratefully-yours-3/
LOCATION:The Barn at Gardiner Brewing Company\, 699 State Route 208\, Gardiner\, NY\, 12525\, United States
CATEGORIES:Live Music
END:VEVENT
BEGIN:VEVENT
DTSTART;TZID=America/New_York:20251019T153000
DTEND;TZID=America/New_York:20251019T183000
DTSTAMP:20260424T070534
CREATED:20251004T132121Z
LAST-MODIFIED:20251004T132121Z
UID:2572-1760887800-1760898600@sitemaps.gardinerbrewingcompany.com
SUMMARY:Midnite Image Band
DESCRIPTION:
URL:https://sitemaps.gardinerbrewingcompany.com/event/midnite-image-band-6/
LOCATION:The Barn at Gardiner Brewing Company\, 699 State Route 208\, Gardiner\, NY\, 12525\, United States
CATEGORIES:Live Music
END:VEVENT
BEGIN:VEVENT
DTSTART;TZID=America/New_York:20251018T153000
DTEND;TZID=America/New_York:20251018T183000
DTSTAMP:20260424T070534
CREATED:20250406T164510Z
LAST-MODIFIED:20250406T164510Z
UID:2499-1760801400-1760812200@sitemaps.gardinerbrewingcompany.com
SUMMARY:Soul Purpose
DESCRIPTION:
URL:https://sitemaps.gardinerbrewingcompany.com/event/soul-purpose-15/
LOCATION:The Barn at Gardiner Brewing Company\, 699 State Route 208\, Gardiner\, NY\, 12525\, United States
CATEGORIES:Live Music
END:VEVENT
BEGIN:VEVENT
DTSTART;TZID=America/New_York:20251013T133000
DTEND;TZID=America/New_York:20251013T163000
DTSTAMP:20260424T070534
CREATED:20251004T132050Z
LAST-MODIFIED:20251004T132050Z
UID:2570-1760362200-1760373000@sitemaps.gardinerbrewingcompany.com
SUMMARY:What? - Open 1-5!
DESCRIPTION:
URL:https://sitemaps.gardinerbrewingcompany.com/event/what-open-1-5/
LOCATION:NY
CATEGORIES:Live Music
END:VEVENT
BEGIN:VEVENT
DTSTART;TZID=America/New_York:20251012T153000
DTEND;TZID=America/New_York:20251012T183000
DTSTAMP:20260424T070534
CREATED:20251004T132015Z
LAST-MODIFIED:20251004T132015Z
UID:2568-1760283000-1760293800@sitemaps.gardinerbrewingcompany.com
SUMMARY:Corey MacCrae Quartet
DESCRIPTION:
URL:https://sitemaps.gardinerbrewingcompany.com/event/corey-maccrae-quartet/
LOCATION:The Barn at Gardiner Brewing Company\, 699 State Route 208\, Gardiner\, NY\, 12525\, United States
CATEGORIES:Live Music
END:VEVENT
BEGIN:VEVENT
DTSTART;TZID=America/New_York:20251011T153000
DTEND;TZID=America/New_York:20251011T183000
DTSTAMP:20260424T070534
CREATED:20251004T131930Z
LAST-MODIFIED:20251004T131930Z
UID:2566-1760196600-1760207400@sitemaps.gardinerbrewingcompany.com
SUMMARY:The Sugar Beets
DESCRIPTION:
URL:https://sitemaps.gardinerbrewingcompany.com/event/the-sugar-beets/
LOCATION:The Barn at Gardiner Brewing Company\, 699 State Route 208\, Gardiner\, NY\, 12525\, United States
CATEGORIES:Live Music
END:VEVENT
BEGIN:VEVENT
DTSTART;TZID=America/New_York:20251005T153000
DTEND;TZID=America/New_York:20251005T183000
DTSTAMP:20260424T070534
CREATED:20250406T164448Z
LAST-MODIFIED:20250406T164448Z
UID:2497-1759678200-1759689000@sitemaps.gardinerbrewingcompany.com
SUMMARY:Sons of Hudson
DESCRIPTION:
URL:https://sitemaps.gardinerbrewingcompany.com/event/sons-of-hudson-17/
LOCATION:The Barn at Gardiner Brewing Company\, 699 State Route 208\, Gardiner\, NY\, 12525\, United States
CATEGORIES:Live Music
END:VEVENT
BEGIN:VEVENT
DTSTART;TZID=America/New_York:20251004T153000
DTEND;TZID=America/New_York:20251004T183000
DTSTAMP:20260424T070534
CREATED:20251004T131839Z
LAST-MODIFIED:20251004T131839Z
UID:2564-1759591800-1759602600@sitemaps.gardinerbrewingcompany.com
SUMMARY:Jose Lopez and Chosen Style
DESCRIPTION:
URL:https://sitemaps.gardinerbrewingcompany.com/event/jose-lopez-and-chosen-style-8/
LOCATION:The Barn at Gardiner Brewing Company\, 699 State Route 208\, Gardiner\, NY\, 12525\, United States
CATEGORIES:Live Music
END:VEVENT
BEGIN:VEVENT
DTSTART;TZID=America/New_York:20250927T153000
DTEND;TZID=America/New_York:20250927T183000
DTSTAMP:20260424T070534
CREATED:20250406T164418Z
LAST-MODIFIED:20250406T164418Z
UID:2495-1758987000-1758997800@sitemaps.gardinerbrewingcompany.com
SUMMARY:Bittersweet Descent
DESCRIPTION:
URL:https://sitemaps.gardinerbrewingcompany.com/event/bittersweet-descent/
LOCATION:The Barn at Gardiner Brewing Company\, 699 State Route 208\, Gardiner\, NY\, 12525\, United States
CATEGORIES:Live Music
END:VEVENT
BEGIN:VEVENT
DTSTART;TZID=America/New_York:20250921T153000
DTEND;TZID=America/New_York:20250921T183000
DTSTAMP:20260424T070534
CREATED:20250406T164341Z
LAST-MODIFIED:20250920T031228Z
UID:2493-1758468600-1758479400@sitemaps.gardinerbrewingcompany.com
SUMMARY:SoulSense
DESCRIPTION:
URL:https://sitemaps.gardinerbrewingcompany.com/event/90-proof-band-6/
LOCATION:The Barn at Gardiner Brewing Company\, 699 State Route 208\, Gardiner\, NY\, 12525\, United States
CATEGORIES:Live Music
END:VEVENT
BEGIN:VEVENT
DTSTART;TZID=America/New_York:20250913T153000
DTEND;TZID=America/New_York:20250913T183000
DTSTAMP:20260424T070534
CREATED:20250406T164249Z
LAST-MODIFIED:20250406T164249Z
UID:2489-1757777400-1757788200@sitemaps.gardinerbrewingcompany.com
SUMMARY:Jordan Stoner and the Crash Test Silverados
DESCRIPTION:
URL:https://sitemaps.gardinerbrewingcompany.com/event/jordan-stoner-and-the-crash-test-silverados-9/
LOCATION:The Barn at Gardiner Brewing Company\, 699 State Route 208\, Gardiner\, NY\, 12525\, United States
CATEGORIES:Live Music
END:VEVENT
BEGIN:VEVENT
DTSTART;TZID=America/New_York:20250906T153000
DTEND;TZID=America/New_York:20250906T183000
DTSTAMP:20260424T070534
CREATED:20250406T164202Z
LAST-MODIFIED:20250406T164202Z
UID:2485-1757172600-1757183400@sitemaps.gardinerbrewingcompany.com
SUMMARY:The Bunker Boys
DESCRIPTION:
URL:https://sitemaps.gardinerbrewingcompany.com/event/the-bunker-boys-3/
LOCATION:The Barn at Gardiner Brewing Company\, 699 State Route 208\, Gardiner\, NY\, 12525\, United States
CATEGORIES:Live Music
END:VEVENT
BEGIN:VEVENT
DTSTART;TZID=America/New_York:20250830T153000
DTEND;TZID=America/New_York:20250830T183000
DTSTAMP:20260424T070534
CREATED:20250406T164115Z
LAST-MODIFIED:20250406T164115Z
UID:2481-1756567800-1756578600@sitemaps.gardinerbrewingcompany.com
SUMMARY:Reny and the Strange
DESCRIPTION:
URL:https://sitemaps.gardinerbrewingcompany.com/event/reny-and-the-strange/
LOCATION:The Barn at Gardiner Brewing Company\, 699 State Route 208\, Gardiner\, NY\, 12525\, United States
CATEGORIES:Live Music
END:VEVENT
BEGIN:VEVENT
DTSTART;TZID=America/New_York:20250824T153000
DTEND;TZID=America/New_York:20250824T183000
DTSTAMP:20260424T070534
CREATED:20250406T164027Z
LAST-MODIFIED:20250406T164027Z
UID:2479-1756049400-1756060200@sitemaps.gardinerbrewingcompany.com
SUMMARY:The Bush Brothers
DESCRIPTION:
URL:https://sitemaps.gardinerbrewingcompany.com/event/the-bush-brothers-7/
LOCATION:The Barn at Gardiner Brewing Company\, 699 State Route 208\, Gardiner\, NY\, 12525\, United States
CATEGORIES:Live Music
END:VEVENT
BEGIN:VEVENT
DTSTART;TZID=America/New_York:20250823T153000
DTEND;TZID=America/New_York:20250823T183000
DTSTAMP:20260424T070534
CREATED:20250406T163959Z
LAST-MODIFIED:20250406T163959Z
UID:2477-1755963000-1755973800@sitemaps.gardinerbrewingcompany.com
SUMMARY:The Classics
DESCRIPTION:
URL:https://sitemaps.gardinerbrewingcompany.com/event/the-classics-29/
LOCATION:The Barn at Gardiner Brewing Company\, 699 State Route 208\, Gardiner\, NY\, 12525\, United States
CATEGORIES:Live Music
END:VEVENT
BEGIN:VEVENT
DTSTART;TZID=America/New_York:20250817T153000
DTEND;TZID=America/New_York:20250817T183000
DTSTAMP:20260424T070534
CREATED:20250406T163925Z
LAST-MODIFIED:20250406T163925Z
UID:2475-1755444600-1755455400@sitemaps.gardinerbrewingcompany.com
SUMMARY:First Round
DESCRIPTION:
URL:https://sitemaps.gardinerbrewingcompany.com/event/first-round-6/
LOCATION:The Barn at Gardiner Brewing Company\, 699 State Route 208\, Gardiner\, NY\, 12525\, United States
CATEGORIES:Live Music
END:VEVENT
BEGIN:VEVENT
DTSTART;TZID=America/New_York:20250816T153000
DTEND;TZID=America/New_York:20250816T183000
DTSTAMP:20260424T070534
CREATED:20250406T163902Z
LAST-MODIFIED:20250406T163902Z
UID:2473-1755358200-1755369000@sitemaps.gardinerbrewingcompany.com
SUMMARY:Rivals NY
DESCRIPTION:
URL:https://sitemaps.gardinerbrewingcompany.com/event/rivals-ny-5/
LOCATION:The Barn at Gardiner Brewing Company\, 699 State Route 208\, Gardiner\, NY\, 12525\, United States
CATEGORIES:Live Music
END:VEVENT
BEGIN:VEVENT
DTSTART;TZID=America/New_York:20250810T153000
DTEND;TZID=America/New_York:20250810T183000
DTSTAMP:20260424T070534
CREATED:20250406T163835Z
LAST-MODIFIED:20250406T163835Z
UID:2471-1754839800-1754850600@sitemaps.gardinerbrewingcompany.com
SUMMARY:Midnite Image Band
DESCRIPTION:
URL:https://sitemaps.gardinerbrewingcompany.com/event/midnite-image-band-5/
LOCATION:The Barn at Gardiner Brewing Company\, 699 State Route 208\, Gardiner\, NY\, 12525\, United States
CATEGORIES:Live Music
END:VEVENT
BEGIN:VEVENT
DTSTART;TZID=America/New_York:20250809T153000
DTEND;TZID=America/New_York:20250809T183000
DTSTAMP:20260424T070534
CREATED:20250406T163808Z
LAST-MODIFIED:20250406T163808Z
UID:2469-1754753400-1754764200@sitemaps.gardinerbrewingcompany.com
SUMMARY:BluCrush
DESCRIPTION:
URL:https://sitemaps.gardinerbrewingcompany.com/event/blucrush-3/
LOCATION:The Barn at Gardiner Brewing Company\, 699 State Route 208\, Gardiner\, NY\, 12525\, United States
CATEGORIES:Live Music
END:VEVENT
BEGIN:VEVENT
DTSTART;TZID=America/New_York:20250802T153000
DTEND;TZID=America/New_York:20250802T183000
DTSTAMP:20260424T070534
CREATED:20250406T163723Z
LAST-MODIFIED:20250406T163723Z
UID:2465-1754148600-1754159400@sitemaps.gardinerbrewingcompany.com
SUMMARY:Identity Crisis
DESCRIPTION:
URL:https://sitemaps.gardinerbrewingcompany.com/event/identity-crisis-3/
LOCATION:The Barn at Gardiner Brewing Company\, 699 State Route 208\, Gardiner\, NY\, 12525\, United States
CATEGORIES:Live Music
END:VEVENT
BEGIN:VEVENT
DTSTART;TZID=America/New_York:20250727T153000
DTEND;TZID=America/New_York:20250727T183000
DTSTAMP:20260424T070534
CREATED:20250406T163647Z
LAST-MODIFIED:20250406T163647Z
UID:2463-1753630200-1753641000@sitemaps.gardinerbrewingcompany.com
SUMMARY:The Tonebenders
DESCRIPTION:
URL:https://sitemaps.gardinerbrewingcompany.com/event/the-tonebenders-9/
LOCATION:The Barn at Gardiner Brewing Company\, 699 State Route 208\, Gardiner\, NY\, 12525\, United States
CATEGORIES:Live Music
END:VEVENT
BEGIN:VEVENT
DTSTART;TZID=America/New_York:20250726T153000
DTEND;TZID=America/New_York:20250726T183000
DTSTAMP:20260424T070534
CREATED:20250406T163625Z
LAST-MODIFIED:20250406T163625Z
UID:2461-1753543800-1753554600@sitemaps.gardinerbrewingcompany.com
SUMMARY:The Alex Jornov Band
DESCRIPTION:
URL:https://sitemaps.gardinerbrewingcompany.com/event/the-alex-jornov-band/
LOCATION:The Barn at Gardiner Brewing Company\, 699 State Route 208\, Gardiner\, NY\, 12525\, United States
CATEGORIES:Live Music
END:VEVENT
BEGIN:VEVENT
DTSTART;TZID=America/New_York:20250720T153000
DTEND;TZID=America/New_York:20250720T183000
DTSTAMP:20260424T070534
CREATED:20250406T163545Z
LAST-MODIFIED:20250406T163545Z
UID:2459-1753025400-1753036200@sitemaps.gardinerbrewingcompany.com
SUMMARY:Sons of Hudson
DESCRIPTION:
URL:https://sitemaps.gardinerbrewingcompany.com/event/sons-of-hudson-16/
LOCATION:The Barn at Gardiner Brewing Company\, 699 State Route 208\, Gardiner\, NY\, 12525\, United States
CATEGORIES:Live Music
END:VEVENT
BEGIN:VEVENT
DTSTART;TZID=America/New_York:20250719T153000
DTEND;TZID=America/New_York:20250719T183000
DTSTAMP:20260424T070534
CREATED:20250406T163523Z
LAST-MODIFIED:20250406T163523Z
UID:2457-1752939000-1752949800@sitemaps.gardinerbrewingcompany.com
SUMMARY:Painted Blue Sky
DESCRIPTION:
URL:https://sitemaps.gardinerbrewingcompany.com/event/painted-blue-sky-3/
LOCATION:The Barn at Gardiner Brewing Company\, 699 State Route 208\, Gardiner\, NY\, 12525\, United States
CATEGORIES:Live Music
END:VEVENT
BEGIN:VEVENT
DTSTART;TZID=America/New_York:20250712T153000
DTEND;TZID=America/New_York:20250712T183000
DTSTAMP:20260424T070534
CREATED:20250406T163432Z
LAST-MODIFIED:20250602T154531Z
UID:2453-1752334200-1752345000@sitemaps.gardinerbrewingcompany.com
SUMMARY:Vinyl Biscuit
DESCRIPTION:
URL:https://sitemaps.gardinerbrewingcompany.com/event/groove-collection-3/
LOCATION:The Barn at Gardiner Brewing Company\, 699 State Route 208\, Gardiner\, NY\, 12525\, United States
CATEGORIES:Live Music
END:VEVENT
BEGIN:VEVENT
DTSTART;TZID=America/New_York:20250706T153000
DTEND;TZID=America/New_York:20250706T183000
DTSTAMP:20260424T070534
CREATED:20250406T163412Z
LAST-MODIFIED:20250406T163412Z
UID:2451-1751815800-1751826600@sitemaps.gardinerbrewingcompany.com
SUMMARY:The Classics
DESCRIPTION:
URL:https://sitemaps.gardinerbrewingcompany.com/event/the-classics-28/
LOCATION:The Barn at Gardiner Brewing Company\, 699 State Route 208\, Gardiner\, NY\, 12525\, United States
CATEGORIES:Live Music
END:VEVENT
BEGIN:VEVENT
DTSTART;TZID=America/New_York:20250705T153000
DTEND;TZID=America/New_York:20250705T183000
DTSTAMP:20260424T070534
CREATED:20250406T163354Z
LAST-MODIFIED:20250406T163354Z
UID:2449-1751729400-1751740200@sitemaps.gardinerbrewingcompany.com
SUMMARY:Pour La Terre
DESCRIPTION:
URL:https://sitemaps.gardinerbrewingcompany.com/event/pour-la-terre/
LOCATION:The Barn at Gardiner Brewing Company\, 699 State Route 208\, Gardiner\, NY\, 12525\, United States
CATEGORIES:Live Music
END:VEVENT
BEGIN:VEVENT
DTSTART;TZID=America/New_York:20250629T153000
DTEND;TZID=America/New_York:20250629T183000
DTSTAMP:20260424T070534
CREATED:20250406T163255Z
LAST-MODIFIED:20250406T163255Z
UID:2447-1751211000-1751221800@sitemaps.gardinerbrewingcompany.com
SUMMARY:90 Proof Band
DESCRIPTION:
URL:https://sitemaps.gardinerbrewingcompany.com/event/90-proof-band-5/
LOCATION:The Barn at Gardiner Brewing Company\, 699 State Route 208\, Gardiner\, NY\, 12525\, United States
CATEGORIES:Live Music
END:VEVENT
BEGIN:VEVENT
DTSTART;TZID=America/New_York:20250628T153000
DTEND;TZID=America/New_York:20250628T183000
DTSTAMP:20260424T070534
CREATED:20250406T163234Z
LAST-MODIFIED:20250406T163234Z
UID:2445-1751124600-1751135400@sitemaps.gardinerbrewingcompany.com
SUMMARY:The Rev Dogs
DESCRIPTION:
URL:https://sitemaps.gardinerbrewingcompany.com/event/the-rev-dogs-3/
LOCATION:The Barn at Gardiner Brewing Company\, 699 State Route 208\, Gardiner\, NY\, 12525\, United States
CATEGORIES:Live Music
END:VEVENT
END:VCALENDAR