BEGIN:VCALENDAR
VERSION:2.0
PRODID:-//Gardiner Brewing Company - ECPv6.15.20//NONSGML v1.0//EN
CALSCALE:GREGORIAN
METHOD:PUBLISH
X-ORIGINAL-URL:https://sitemaps.gardinerbrewingcompany.com
X-WR-CALDESC:Events for Gardiner Brewing Company
REFRESH-INTERVAL;VALUE=DURATION:PT1H
X-Robots-Tag:noindex
X-PUBLISHED-TTL:PT1H
BEGIN:VTIMEZONE
TZID:America/New_York
BEGIN:DAYLIGHT
TZOFFSETFROM:-0500
TZOFFSETTO:-0400
TZNAME:EDT
DTSTART:20180311T070000
END:DAYLIGHT
BEGIN:STANDARD
TZOFFSETFROM:-0400
TZOFFSETTO:-0500
TZNAME:EST
DTSTART:20181104T060000
END:STANDARD
BEGIN:DAYLIGHT
TZOFFSETFROM:-0500
TZOFFSETTO:-0400
TZNAME:EDT
DTSTART:20190310T070000
END:DAYLIGHT
BEGIN:STANDARD
TZOFFSETFROM:-0400
TZOFFSETTO:-0500
TZNAME:EST
DTSTART:20191103T060000
END:STANDARD
BEGIN:DAYLIGHT
TZOFFSETFROM:-0500
TZOFFSETTO:-0400
TZNAME:EDT
DTSTART:20200308T070000
END:DAYLIGHT
BEGIN:STANDARD
TZOFFSETFROM:-0400
TZOFFSETTO:-0500
TZNAME:EST
DTSTART:20201101T060000
END:STANDARD
BEGIN:DAYLIGHT
TZOFFSETFROM:-0500
TZOFFSETTO:-0400
TZNAME:EDT
DTSTART:20210314T070000
END:DAYLIGHT
BEGIN:STANDARD
TZOFFSETFROM:-0400
TZOFFSETTO:-0500
TZNAME:EST
DTSTART:20211107T060000
END:STANDARD
BEGIN:DAYLIGHT
TZOFFSETFROM:-0500
TZOFFSETTO:-0400
TZNAME:EDT
DTSTART:20220313T070000
END:DAYLIGHT
BEGIN:STANDARD
TZOFFSETFROM:-0400
TZOFFSETTO:-0500
TZNAME:EST
DTSTART:20221106T060000
END:STANDARD
END:VTIMEZONE
BEGIN:VEVENT
DTSTART;VALUE=DATE:20210703
DTEND;VALUE=DATE:20210704
DTSTAMP:20260419T213242
CREATED:20210212T175839Z
LAST-MODIFIED:20210227T165926Z
UID:630-1625270400-1625356799@sitemaps.gardinerbrewingcompany.com
SUMMARY:Closed for a Very Gartucky Wedding
DESCRIPTION:See you on Sunday!
URL:https://sitemaps.gardinerbrewingcompany.com/event/closed-for-wedding/
LOCATION:The Barn at Gardiner Brewing Company\, 699 State Route 208\, Gardiner\, NY\, 12525\, United States
CATEGORIES:Private Event
END:VEVENT
BEGIN:VEVENT
DTSTART;VALUE=DATE:20210404
DTEND;VALUE=DATE:20210405
DTSTAMP:20260419T213242
CREATED:20210227T165830Z
LAST-MODIFIED:20210227T165830Z
UID:665-1617494400-1617580799@sitemaps.gardinerbrewingcompany.com
SUMMARY:CLOSED for Easter Sunday
DESCRIPTION:We are closed for Easter Sunday.
URL:https://sitemaps.gardinerbrewingcompany.com/event/closed-for-easter-sunday/
LOCATION:The Barn at Gardiner Brewing Company\, 699 State Route 208\, Gardiner\, NY\, 12525\, United States
CATEGORIES:Private Event
END:VEVENT
BEGIN:VEVENT
DTSTART;VALUE=DATE:20191004
DTEND;VALUE=DATE:20191005
DTSTAMP:20260419T213242
CREATED:20191004T154909Z
LAST-MODIFIED:20191025T150631Z
UID:231-1570147200-1570233599@sitemaps.gardinerbrewingcompany.com
SUMMARY:Private Event
DESCRIPTION:Host your party\, wedding\, shower\, any celebration in the Barn!
URL:https://sitemaps.gardinerbrewingcompany.com/event/private-event-2/
LOCATION:The Barn at Gardiner Brewing Company\, 699 State Route 208\, Gardiner\, NY\, 12525\, United States
CATEGORIES:Private Event
END:VEVENT
BEGIN:VEVENT
DTSTART;TZID=America/New_York:20190823T180000
DTEND;TZID=America/New_York:20190823T210000
DTSTAMP:20260419T213242
CREATED:20190820T174235Z
LAST-MODIFIED:20191025T150549Z
UID:184-1566583200-1566594000@sitemaps.gardinerbrewingcompany.com
SUMMARY:Private Event
DESCRIPTION:Private Event in the Barn. \nContact gardinerbrewingcompany@gmail.com today to book your private event\, wedding\, baby shower\, bridal shower\, birthday party!
URL:https://sitemaps.gardinerbrewingcompany.com/event/private-event/
LOCATION:The Barn at Gardiner Brewing Company\, 699 State Route 208\, Gardiner\, NY\, 12525\, United States
CATEGORIES:Private Event
END:VEVENT
END:VCALENDAR