BEGIN:VCALENDAR
VERSION:2.0
PRODID:-//Gardiner Brewing Company - ECPv6.15.20//NONSGML v1.0//EN
CALSCALE:GREGORIAN
METHOD:PUBLISH
X-WR-CALNAME:Gardiner Brewing Company
X-ORIGINAL-URL:https://sitemaps.gardinerbrewingcompany.com
X-WR-CALDESC:Events for Gardiner Brewing Company
REFRESH-INTERVAL;VALUE=DURATION:PT1H
X-Robots-Tag:noindex
X-PUBLISHED-TTL:PT1H
BEGIN:VTIMEZONE
TZID:America/New_York
BEGIN:DAYLIGHT
TZOFFSETFROM:-0500
TZOFFSETTO:-0400
TZNAME:EDT
DTSTART:20200308T070000
END:DAYLIGHT
BEGIN:STANDARD
TZOFFSETFROM:-0400
TZOFFSETTO:-0500
TZNAME:EST
DTSTART:20201101T060000
END:STANDARD
BEGIN:DAYLIGHT
TZOFFSETFROM:-0500
TZOFFSETTO:-0400
TZNAME:EDT
DTSTART:20210314T070000
END:DAYLIGHT
BEGIN:STANDARD
TZOFFSETFROM:-0400
TZOFFSETTO:-0500
TZNAME:EST
DTSTART:20211107T060000
END:STANDARD
BEGIN:DAYLIGHT
TZOFFSETFROM:-0500
TZOFFSETTO:-0400
TZNAME:EDT
DTSTART:20220313T070000
END:DAYLIGHT
BEGIN:STANDARD
TZOFFSETFROM:-0400
TZOFFSETTO:-0500
TZNAME:EST
DTSTART:20221106T060000
END:STANDARD
END:VTIMEZONE
BEGIN:VEVENT
DTSTART;TZID=America/New_York:20211030T153000
DTEND;TZID=America/New_York:20211030T183000
DTSTAMP:20260419T191548
CREATED:20210227T171535Z
LAST-MODIFIED:20210227T171535Z
UID:691-1635607800-1635618600@sitemaps.gardinerbrewingcompany.com
SUMMARY:Judith Tulloch Band
DESCRIPTION:Judith Tulloch Band brings a classic feel to the Barn. \nPop\, jazz\, & world music. With vocals\, guitar\, flutes\, bass\, & percussion. Judith and her band have warmed up the stage as an opening act for Michael McDonald\, Maria Muldaur\, Pete Seeger\, Paul Winter\, Janet Hamill & Moving Star\, Patti Smith\, Levon Helm\, Lucy Kaplansky\, Bo Diddley\, Tom Chapin\, and many others. The band performs at all types of venues ranging from large concert halls\, to clubs\, cafes\, restaurants\, art galleries\, cultural events\, wedding ceremonies\, corporate events\, and special benefits for those in need. Music that has been described as world-pop-fusion with a jazzy edge.
URL:https://sitemaps.gardinerbrewingcompany.com/event/judith-tulloch-band-15/
LOCATION:The Barn at Gardiner Brewing Company\, 699 State Route 208\, Gardiner\, NY\, 12525\, United States
CATEGORIES:Live Music
END:VEVENT
BEGIN:VEVENT
DTSTART;TZID=America/New_York:20211024T153000
DTEND;TZID=America/New_York:20211024T183000
DTSTAMP:20260419T191548
CREATED:20210330T203209Z
LAST-MODIFIED:20210330T203209Z
UID:784-1635089400-1635100200@sitemaps.gardinerbrewingcompany.com
SUMMARY:NailedShutt
DESCRIPTION:“Jams\, Grooves\, Assorted Rhythms and some good old Grateful Dead and classic rock with acoustic sets of Americana music!”
URL:https://sitemaps.gardinerbrewingcompany.com/event/nailedshutt-3/
LOCATION:The Barn at Gardiner Brewing Company\, 699 State Route 208\, Gardiner\, NY\, 12525\, United States
CATEGORIES:Live Music
END:VEVENT
BEGIN:VEVENT
DTSTART;TZID=America/New_York:20211023T153000
DTEND;TZID=America/New_York:20211023T183000
DTSTAMP:20260419T191548
CREATED:20210828T154746Z
LAST-MODIFIED:20210828T154746Z
UID:989-1635003000-1635013800@sitemaps.gardinerbrewingcompany.com
SUMMARY:Homegrown
DESCRIPTION:
URL:https://sitemaps.gardinerbrewingcompany.com/event/homegrown/
LOCATION:The Barn at Gardiner Brewing Company\, 699 State Route 208\, Gardiner\, NY\, 12525\, United States
CATEGORIES:Live Music
END:VEVENT
BEGIN:VEVENT
DTSTART;TZID=America/New_York:20211017T153000
DTEND;TZID=America/New_York:20211017T183000
DTSTAMP:20260419T191548
CREATED:20210828T154133Z
LAST-MODIFIED:20210828T154133Z
UID:981-1634484600-1634495400@sitemaps.gardinerbrewingcompany.com
SUMMARY:Grease Trap
DESCRIPTION:A New York-based quartet that tastefully blends American roots with contemporary musical styles.
URL:https://sitemaps.gardinerbrewingcompany.com/event/grease-trap/
LOCATION:The Barn at Gardiner Brewing Company\, 699 State Route 208\, Gardiner\, NY\, 12525\, United States
CATEGORIES:Live Music
END:VEVENT
BEGIN:VEVENT
DTSTART;TZID=America/New_York:20211016T153000
DTEND;TZID=America/New_York:20211016T183000
DTSTAMP:20260419T191548
CREATED:20210330T203755Z
LAST-MODIFIED:20210330T203755Z
UID:794-1634398200-1634409000@sitemaps.gardinerbrewingcompany.com
SUMMARY:Eugene Tyler Band
DESCRIPTION:One of the best bluegrass duos around. Come watch em play their hearts out! eugenetylerband.com
URL:https://sitemaps.gardinerbrewingcompany.com/event/eugene-tyler-band-8/
LOCATION:The Barn at Gardiner Brewing Company\, 699 State Route 208\, Gardiner\, NY\, 12525\, United States
CATEGORIES:Live Music
END:VEVENT
BEGIN:VEVENT
DTSTART;TZID=America/New_York:20211010T153000
DTEND;TZID=America/New_York:20211010T183000
DTSTAMP:20260419T191548
CREATED:20210924T234234Z
LAST-MODIFIED:20210924T234234Z
UID:1032-1633879800-1633890600@sitemaps.gardinerbrewingcompany.com
SUMMARY:Wyld Blu
DESCRIPTION:Alana Wyld & Wyld Blu serve up their blues with a generous side order of rhythm\, heart and soul. The menu is rich\, reflecting a variety of influences from classic and Texas blues\, rock\, boogie\, R&B – even splashes of country flavor. From smooth blues grooves to full throttle overdrive\, Wyld’s uncompromising passion as a songwriter\, musician and performer is the heart of “Wyld style”
URL:https://sitemaps.gardinerbrewingcompany.com/event/wyld-blu/
LOCATION:The Barn at Gardiner Brewing Company\, 699 State Route 208\, Gardiner\, NY\, 12525\, United States
CATEGORIES:Live Music
END:VEVENT
BEGIN:VEVENT
DTSTART;TZID=America/New_York:20211009T153000
DTEND;TZID=America/New_York:20211009T183000
DTSTAMP:20260419T191548
CREATED:20210924T234109Z
LAST-MODIFIED:20210924T234109Z
UID:1030-1633793400-1633804200@sitemaps.gardinerbrewingcompany.com
SUMMARY:Soul City
DESCRIPTION:
URL:https://sitemaps.gardinerbrewingcompany.com/event/soul-city/
LOCATION:The Barn at Gardiner Brewing Company\, 699 State Route 208\, Gardiner\, NY\, 12525\, United States
CATEGORIES:Live Music
END:VEVENT
BEGIN:VEVENT
DTSTART;TZID=America/New_York:20211003T153000
DTEND;TZID=America/New_York:20211003T183000
DTSTAMP:20260419T191548
CREATED:20210426T190004Z
LAST-MODIFIED:20210426T190004Z
UID:831-1633275000-1633285800@sitemaps.gardinerbrewingcompany.com
SUMMARY:The Classics
DESCRIPTION:
URL:https://sitemaps.gardinerbrewingcompany.com/event/the-classics-12/
LOCATION:The Barn at Gardiner Brewing Company\, 699 State Route 208\, Gardiner\, NY\, 12525\, United States
CATEGORIES:Live Music
END:VEVENT
BEGIN:VEVENT
DTSTART;TZID=America/New_York:20211002T153000
DTEND;TZID=America/New_York:20211002T183000
DTSTAMP:20260419T191548
CREATED:20210828T154401Z
LAST-MODIFIED:20210828T154401Z
UID:985-1633188600-1633199400@sitemaps.gardinerbrewingcompany.com
SUMMARY:Ricky Stein
DESCRIPTION:Ricky Stein’s music vies for equal footing between two of his strongest influences: traditional roots-rock/Americana and progressive indie-rock. A reverence for music history combined with the desire to create something different and new drives the Austin-born\, NYC-based singer/songwriter to make music that reflects the spirit of his hometown\, both past and present.
URL:https://sitemaps.gardinerbrewingcompany.com/event/ricky-stein/
LOCATION:The Barn at Gardiner Brewing Company\, 699 State Route 208\, Gardiner\, NY\, 12525\, United States
CATEGORIES:Live Music
END:VEVENT
BEGIN:VEVENT
DTSTART;TZID=America/New_York:20210926T153000
DTEND;TZID=America/New_York:20210926T183000
DTSTAMP:20260419T191548
CREATED:20210227T174424Z
LAST-MODIFIED:20210227T174424Z
UID:708-1632670200-1632681000@sitemaps.gardinerbrewingcompany.com
SUMMARY:Soul Purpose
DESCRIPTION:Soul Purpose brings a beautiful sound to the Barn. \n“Recently named the “Best Local Band in the Hudson Valley” by readers of Hudson Valley Magazine\, Soul Purpose is a seven-piece band fueled by a shared love of Soul\, New Orleans Funk. Swing\, R&B and Jazz music. Based in New York’s Hudson Valley\, Soul Purpose has been entertaining fans with their “soulful sounds\, brazen horn section and warm vocals”\, (Kingston After Dark).”
URL:https://sitemaps.gardinerbrewingcompany.com/event/soul-purpose-4/
LOCATION:The Barn at Gardiner Brewing Company\, 699 State Route 208\, Gardiner\, NY\, 12525\, United States
CATEGORIES:Live Music
END:VEVENT
BEGIN:VEVENT
DTSTART;TZID=America/New_York:20210925T153000
DTEND;TZID=America/New_York:20210925T183000
DTSTAMP:20260419T191548
CREATED:20210527T153105Z
LAST-MODIFIED:20210828T160954Z
UID:855-1632583800-1632594600@sitemaps.gardinerbrewingcompany.com
SUMMARY:Little Creek Band
DESCRIPTION:Not only is the Little Creek Band one of the Hudson Valley’s most sought after groups\, one of the members also happens to be our maltster. Come spend the day with one of the best sounds around! And drink beer with malt that came from Dennis’ malt house. It doesn’t get more local than that.
URL:https://sitemaps.gardinerbrewingcompany.com/event/little-creek-band-2/
LOCATION:NY
CATEGORIES:Live Music
END:VEVENT
BEGIN:VEVENT
DTSTART;TZID=America/New_York:20210919T153000
DTEND;TZID=America/New_York:20210919T183000
DTSTAMP:20260419T191548
CREATED:20210330T201300Z
LAST-MODIFIED:20210903T184425Z
UID:762-1632065400-1632076200@sitemaps.gardinerbrewingcompany.com
SUMMARY:Little Rock Quartet
DESCRIPTION:“Singer/songwriter/musician Vito Petroccitto is magic. And we’re not just talking about the way he deftly casts alternating spells on his audiences\, moving them either to awe\, tears\, full-out belly laughs\, or all three at once. Armed with his gritty\, dirty\, swampy telecaster guitar\, or his beautiful Taylor acoustic\, his crazy-good vocal chords\, and more than a touch of genius\, Vito has somehow figured out how to do the work of ten men.  Vito is a true artist\, born of a true artist. He has lived\, breathed and (hardly) slept music all his life. Moreover\, he is a true entertainer. He is happiest with his telecaster strapped around his neck\, but his versatility lends the depth and staying power necessary to make his art a lifelong career. He takes on anything and everything—within the bounds of personal integrity\, of course—and what sets him apart is the way he dives in\, whole-hog\, always bringing his full-on passion\, remarkable and wide-ranging technique and skill\, boundless energy\, and genuine soul-smile to each and every endeavor. Vito Petroccitto is larger than life\, both literally and figuratively. If you don’t leave an encounter with him smiling your head off\, you may have no soul.”
URL:https://sitemaps.gardinerbrewingcompany.com/event/o-duo-vito-4/
LOCATION:The Barn at Gardiner Brewing Company\, 699 State Route 208\, Gardiner\, NY\, 12525\, United States
CATEGORIES:Live Music
END:VEVENT
BEGIN:VEVENT
DTSTART;TZID=America/New_York:20210918T153000
DTEND;TZID=America/New_York:20210918T183000
DTSTAMP:20260419T191548
CREATED:20210227T171502Z
LAST-MODIFIED:20210227T171502Z
UID:689-1631979000-1631989800@sitemaps.gardinerbrewingcompany.com
SUMMARY:Judith Tulloch Band
DESCRIPTION:Judith Tulloch Band brings a classic feel to the Barn. \nPop\, jazz\, & world music. With vocals\, guitar\, flutes\, bass\, & percussion. Judith and her band have warmed up the stage as an opening act for Michael McDonald\, Maria Muldaur\, Pete Seeger\, Paul Winter\, Janet Hamill & Moving Star\, Patti Smith\, Levon Helm\, Lucy Kaplansky\, Bo Diddley\, Tom Chapin\, and many others. The band performs at all types of venues ranging from large concert halls\, to clubs\, cafes\, restaurants\, art galleries\, cultural events\, wedding ceremonies\, corporate events\, and special benefits for those in need. Music that has been described as world-pop-fusion with a jazzy edge.
URL:https://sitemaps.gardinerbrewingcompany.com/event/judith-tulloch-band-14/
LOCATION:The Barn at Gardiner Brewing Company\, 699 State Route 208\, Gardiner\, NY\, 12525\, United States
CATEGORIES:Live Music
END:VEVENT
BEGIN:VEVENT
DTSTART;TZID=America/New_York:20210912T153000
DTEND;TZID=America/New_York:20210912T183000
DTSTAMP:20260419T191548
CREATED:20210227T174104Z
LAST-MODIFIED:20210227T174104Z
UID:704-1631460600-1631471400@sitemaps.gardinerbrewingcompany.com
SUMMARY:Sons of Hudson
DESCRIPTION:We love our local bands\, including Sons of Hudson from Orange County\, NY.
URL:https://sitemaps.gardinerbrewingcompany.com/event/sons-of-hudson-2/
LOCATION:The Barn at Gardiner Brewing Company\, 699 State Route 208\, Gardiner\, NY\, 12525\, United States
CATEGORIES:Live Music
END:VEVENT
BEGIN:VEVENT
DTSTART;TZID=America/New_York:20210911T153000
DTEND;TZID=America/New_York:20210911T183000
DTSTAMP:20260419T191548
CREATED:20210426T185910Z
LAST-MODIFIED:20210828T153400Z
UID:829-1631374200-1631385000@sitemaps.gardinerbrewingcompany.com
SUMMARY:Wild Irish Roses
DESCRIPTION:A local family band playing Irish tunes. Erin Go Bragh!
URL:https://sitemaps.gardinerbrewingcompany.com/event/templars-of-doom-5/
LOCATION:The Barn at Gardiner Brewing Company\, 699 State Route 208\, Gardiner\, NY\, 12525\, United States
CATEGORIES:Live Music
END:VEVENT
BEGIN:VEVENT
DTSTART;TZID=America/New_York:20210905T153000
DTEND;TZID=America/New_York:20210905T183000
DTSTAMP:20260419T191548
CREATED:20210330T204133Z
LAST-MODIFIED:20210330T204133Z
UID:800-1630855800-1630866600@sitemaps.gardinerbrewingcompany.com
SUMMARY:Moonshine Creek Bluegrass Band
DESCRIPTION:“Moonshine Creek Bluegrass Band is a high energy string band out of New York’s Hudson Valley region that keeps true to its bluegrass roots while expanding traditional boundaries\, with warm vocal harmonies\, tight picking and driving sound\, they will be sure to keep you moving!”
URL:https://sitemaps.gardinerbrewingcompany.com/event/moonshine-creek-bluegrass-band-3/
LOCATION:The Barn at Gardiner Brewing Company\, 699 State Route 208\, Gardiner\, NY\, 12525\, United States
CATEGORIES:Live Music
END:VEVENT
BEGIN:VEVENT
DTSTART;TZID=America/New_York:20210904T153000
DTEND;TZID=America/New_York:20210904T183000
DTSTAMP:20260419T191548
CREATED:20210330T203724Z
LAST-MODIFIED:20210828T154206Z
UID:792-1630769400-1630780200@sitemaps.gardinerbrewingcompany.com
SUMMARY:TBD
DESCRIPTION:
URL:https://sitemaps.gardinerbrewingcompany.com/event/eugene-tyler-band-7/
LOCATION:The Barn at Gardiner Brewing Company\, 699 State Route 208\, Gardiner\, NY\, 12525\, United States
CATEGORIES:Live Music
END:VEVENT
BEGIN:VEVENT
DTSTART;TZID=America/New_York:20210829T153000
DTEND;TZID=America/New_York:20210829T183000
DTSTAMP:20260419T191548
CREATED:20210330T203558Z
LAST-MODIFIED:20210330T203558Z
UID:790-1630251000-1630261800@sitemaps.gardinerbrewingcompany.com
SUMMARY:Oxford Station Band
DESCRIPTION:
URL:https://sitemaps.gardinerbrewingcompany.com/event/oxford-station-band-12/
LOCATION:The Barn at Gardiner Brewing Company\, 699 State Route 208\, Gardiner\, NY\, 12525\, United States
CATEGORIES:Live Music
END:VEVENT
BEGIN:VEVENT
DTSTART;TZID=America/New_York:20210828T153000
DTEND;TZID=America/New_York:20210828T183000
DTSTAMP:20260419T191548
CREATED:20210227T170500Z
LAST-MODIFIED:20210227T170500Z
UID:671-1630164600-1630175400@sitemaps.gardinerbrewingcompany.com
SUMMARY:Tilly Foster
DESCRIPTION:Bluegrass like you’ve never heard before. Tilly Foster‘s sound is a modern twist on Bluegrass and Americana. \nThe band was formed by Tim Fogarty (guitar) with long time friends\, Bryan Lynch (banjo)  and Mike Colucci (mandolin)\, both former members of Buckeye Rooster. The band was made complete with Cole McCormick (bass) and Vicky Triola (violin). Its shows are non stop fun\, high energy and excitement to be a part of. They are guaranteed to have the crowd singing and dancing through the final set. Like all great bands with presence\, the crowd will likely refuse to leave before Tilly Foster’s encore is complete!
URL:https://sitemaps.gardinerbrewingcompany.com/event/tilly-foster-4/
LOCATION:The Barn at Gardiner Brewing Company\, 699 State Route 208\, Gardiner\, NY\, 12525\, United States
CATEGORIES:Live Music
END:VEVENT
BEGIN:VEVENT
DTSTART;TZID=America/New_York:20210822T153000
DTEND;TZID=America/New_York:20210822T183000
DTSTAMP:20260419T191548
CREATED:20210330T203351Z
LAST-MODIFIED:20210817T153350Z
UID:786-1629646200-1629657000@sitemaps.gardinerbrewingcompany.com
SUMMARY:Emily Beck Band
DESCRIPTION:A GBC debut! \n“Emily’s music is Alternative Indie Soul with influences of Blues and Rock.\n​She strives to write music that’s comforting\, understanding\, and can bring the audience on a journey with her.\nShe hopes to make music that can help the audience heal\, not feel alone\, and come out with a better understanding of themselves.” \nhttps://emilybeck.bandcamp.com/music
URL:https://sitemaps.gardinerbrewingcompany.com/event/bush-brothers-band/
LOCATION:The Barn at Gardiner Brewing Company\, 699 State Route 208\, Gardiner\, NY\, 12525\, United States
CATEGORIES:Live Music
END:VEVENT
BEGIN:VEVENT
DTSTART;TZID=America/New_York:20210821T153000
DTEND;TZID=America/New_York:20210821T183000
DTSTAMP:20260419T191548
CREATED:20210227T170851Z
LAST-MODIFIED:20210817T153619Z
UID:679-1629559800-1629570600@sitemaps.gardinerbrewingcompany.com
SUMMARY:John Irizarry and the Lost Dogs
DESCRIPTION:
URL:https://sitemaps.gardinerbrewingcompany.com/event/john-irizarry-and-the-lost-dogs-6/
LOCATION:The Barn at Gardiner Brewing Company\, 699 State Route 208\, Gardiner\, NY\, 12525\, United States
CATEGORIES:Live Music
END:VEVENT
BEGIN:VEVENT
DTSTART;TZID=America/New_York:20210815T153000
DTEND;TZID=America/New_York:20210815T183000
DTSTAMP:20260419T191548
CREATED:20210330T202206Z
LAST-MODIFIED:20210330T202206Z
UID:774-1629041400-1629052200@sitemaps.gardinerbrewingcompany.com
SUMMARY:The Classics
DESCRIPTION:The Classics is a three-piece band that plays Funk\, Soul\, and R&B from the 60s to the present.\n\n\nThey bring heart and soul to the Barn.
URL:https://sitemaps.gardinerbrewingcompany.com/event/the-classics-11/
LOCATION:The Barn at Gardiner Brewing Company\, 699 State Route 208\, Gardiner\, NY\, 12525\, United States
CATEGORIES:Live Music
END:VEVENT
BEGIN:VEVENT
DTSTART;TZID=America/New_York:20210814T153000
DTEND;TZID=America/New_York:20210814T183000
DTSTAMP:20260419T191548
CREATED:20210330T203126Z
LAST-MODIFIED:20210330T203126Z
UID:782-1628955000-1628965800@sitemaps.gardinerbrewingcompany.com
SUMMARY:NailedShutt
DESCRIPTION:“Jams\, Grooves\, Assorted Rhythms and some good old Grateful Dead and classic rock with acoustic sets of Americana music!”
URL:https://sitemaps.gardinerbrewingcompany.com/event/nailedshutt-2/
LOCATION:The Barn at Gardiner Brewing Company\, 699 State Route 208\, Gardiner\, NY\, 12525\, United States
CATEGORIES:Live Music
END:VEVENT
BEGIN:VEVENT
DTSTART;TZID=America/New_York:20210808T153000
DTEND;TZID=America/New_York:20210808T183000
DTSTAMP:20260419T191548
CREATED:20210330T203901Z
LAST-MODIFIED:20210330T203901Z
UID:796-1628436600-1628447400@sitemaps.gardinerbrewingcompany.com
SUMMARY:Bunker Boys
DESCRIPTION:A six man band from Coldenham NY\, the Bunker Boys are a melodious freight train of hillbilly havoc running all over the Hudson Valley. Rooted in Carter family style gospel singing\, these boys are set to lift spirits high and keep them there.
URL:https://sitemaps.gardinerbrewingcompany.com/event/bunker-boys-7/
LOCATION:The Barn at Gardiner Brewing Company\, 699 State Route 208\, Gardiner\, NY\, 12525\, United States
CATEGORIES:Live Music
END:VEVENT
BEGIN:VEVENT
DTSTART;TZID=America/New_York:20210807T153000
DTEND;TZID=America/New_York:20210807T183000
DTSTAMP:20260419T191548
CREATED:20210227T171431Z
LAST-MODIFIED:20210227T171431Z
UID:687-1628350200-1628361000@sitemaps.gardinerbrewingcompany.com
SUMMARY:Judith Tulloch Band
DESCRIPTION:Judith Tulloch Band brings a classic feel to the Barn. \nPop\, jazz\, & world music. With vocals\, guitar\, flutes\, bass\, & percussion. Judith and her band have warmed up the stage as an opening act for Michael McDonald\, Maria Muldaur\, Pete Seeger\, Paul Winter\, Janet Hamill & Moving Star\, Patti Smith\, Levon Helm\, Lucy Kaplansky\, Bo Diddley\, Tom Chapin\, and many others. The band performs at all types of venues ranging from large concert halls\, to clubs\, cafes\, restaurants\, art galleries\, cultural events\, wedding ceremonies\, corporate events\, and special benefits for those in need. Music that has been described as world-pop-fusion with a jazzy edge.
URL:https://sitemaps.gardinerbrewingcompany.com/event/judith-tulloch-band-13/
LOCATION:The Barn at Gardiner Brewing Company\, 699 State Route 208\, Gardiner\, NY\, 12525\, United States
CATEGORIES:Live Music
END:VEVENT
BEGIN:VEVENT
DTSTART;TZID=America/New_York:20210801T153000
DTEND;TZID=America/New_York:20210801T183000
DTSTAMP:20260419T191548
CREATED:20210227T174013Z
LAST-MODIFIED:20210227T174013Z
UID:702-1627831800-1627842600@sitemaps.gardinerbrewingcompany.com
SUMMARY:Hillbilly Parade
DESCRIPTION:What else would you hear in Gartucky other than Hillbilly Parade? \n“In a town somewhere outside of a town just east of a town that was north of there was a band that you’re dying to hear – the Hillbilly Parade. The Hillbilly Parade is a dance pop country party band. With their witty stage humor\, ridiculous props\, and down-home costumes\, they will have you boot-scootin’ boogying\, laughing and singing along to all of the most popular county hits – old and new! With a family tree making a straight line back to the Hatfields & McCoys\, the Hillbilly Parade will bring out your true hillbilly!”
URL:https://sitemaps.gardinerbrewingcompany.com/event/hillbilly-parade-3/
LOCATION:The Barn at Gardiner Brewing Company\, 699 State Route 208\, Gardiner\, NY\, 12525\, United States
CATEGORIES:Live Music
END:VEVENT
BEGIN:VEVENT
DTSTART;TZID=America/New_York:20210731T153000
DTEND;TZID=America/New_York:20210731T183000
DTSTAMP:20260419T191548
CREATED:20210330T201217Z
LAST-MODIFIED:20210330T201217Z
UID:760-1627745400-1627756200@sitemaps.gardinerbrewingcompany.com
SUMMARY:O Duo Vito
DESCRIPTION:“Singer/songwriter/musician Vito Petroccitto is magic. And we’re not just talking about the way he deftly casts alternating spells on his audiences\, moving them either to awe\, tears\, full-out belly laughs\, or all three at once. Armed with his gritty\, dirty\, swampy telecaster guitar\, or his beautiful Taylor acoustic\, his crazy-good vocal chords\, and more than a touch of genius\, Vito has somehow figured out how to do the work of ten men.  Vito is a true artist\, born of a true artist. He has lived\, breathed and (hardly) slept music all his life. Moreover\, he is a true entertainer. He is happiest with his telecaster strapped around his neck\, but his versatility lends the depth and staying power necessary to make his art a lifelong career. He takes on anything and everything—within the bounds of personal integrity\, of course—and what sets him apart is the way he dives in\, whole-hog\, always bringing his full-on passion\, remarkable and wide-ranging technique and skill\, boundless energy\, and genuine soul-smile to each and every endeavor. Vito Petroccitto is larger than life\, both literally and figuratively. If you don’t leave an encounter with him smiling your head off\, you may have no soul.”
URL:https://sitemaps.gardinerbrewingcompany.com/event/o-duo-vito-3/
LOCATION:The Barn at Gardiner Brewing Company\, 699 State Route 208\, Gardiner\, NY\, 12525\, United States
CATEGORIES:Live Music
END:VEVENT
BEGIN:VEVENT
DTSTART;TZID=America/New_York:20210725T153000
DTEND;TZID=America/New_York:20210725T183000
DTSTAMP:20260419T191548
CREATED:20210330T201430Z
LAST-MODIFIED:20210330T201430Z
UID:764-1627227000-1627237800@sitemaps.gardinerbrewingcompany.com
SUMMARY:Dylan Doyle Band
DESCRIPTION:A local favorite! Dylan Doyle rocks the Hudson Valley.\nhttps://www.dylandoyleband.com/ \n 
URL:https://sitemaps.gardinerbrewingcompany.com/event/dylan-doyle-band-4/
LOCATION:The Barn at Gardiner Brewing Company\, 699 State Route 208\, Gardiner\, NY\, 12525\, United States
CATEGORIES:Live Music
END:VEVENT
BEGIN:VEVENT
DTSTART;TZID=America/New_York:20210724T153000
DTEND;TZID=America/New_York:20210724T183000
DTSTAMP:20260419T191548
CREATED:20210330T202651Z
LAST-MODIFIED:20210330T202651Z
UID:780-1627140600-1627151400@sitemaps.gardinerbrewingcompany.com
SUMMARY:Oxford Station Band
DESCRIPTION:A local favorite who have become friends of all of us in The Barn. Delicious harmonies with beautiful lead vocals!
URL:https://sitemaps.gardinerbrewingcompany.com/event/oxford-station-band-11/
LOCATION:The Barn at Gardiner Brewing Company\, 699 State Route 208\, Gardiner\, NY\, 12525\, United States
CATEGORIES:Live Music
END:VEVENT
BEGIN:VEVENT
DTSTART;TZID=America/New_York:20210718T153000
DTEND;TZID=America/New_York:20210718T183000
DTSTAMP:20260419T191548
CREATED:20210330T202553Z
LAST-MODIFIED:20210330T202553Z
UID:778-1626622200-1626633000@sitemaps.gardinerbrewingcompany.com
SUMMARY:Eugene Tyler Band
DESCRIPTION:One of the best bluegrass duos around. Come watch em play their hearts out! \neugenetylerband.com
URL:https://sitemaps.gardinerbrewingcompany.com/event/eugene-tyler-band-6/
LOCATION:The Barn at Gardiner Brewing Company\, 699 State Route 208\, Gardiner\, NY\, 12525\, United States
CATEGORIES:Live Music
END:VEVENT
END:VCALENDAR