BEGIN:VCALENDAR
VERSION:2.0
PRODID:-//Gardiner Brewing Company - ECPv6.15.20//NONSGML v1.0//EN
CALSCALE:GREGORIAN
METHOD:PUBLISH
X-ORIGINAL-URL:https://sitemaps.gardinerbrewingcompany.com
X-WR-CALDESC:Events for Gardiner Brewing Company
REFRESH-INTERVAL;VALUE=DURATION:PT1H
X-Robots-Tag:noindex
X-PUBLISHED-TTL:PT1H
BEGIN:VTIMEZONE
TZID:America/New_York
BEGIN:DAYLIGHT
TZOFFSETFROM:-0500
TZOFFSETTO:-0400
TZNAME:EDT
DTSTART:20250309T070000
END:DAYLIGHT
BEGIN:STANDARD
TZOFFSETFROM:-0400
TZOFFSETTO:-0500
TZNAME:EST
DTSTART:20251102T060000
END:STANDARD
BEGIN:DAYLIGHT
TZOFFSETFROM:-0500
TZOFFSETTO:-0400
TZNAME:EDT
DTSTART:20260308T070000
END:DAYLIGHT
BEGIN:STANDARD
TZOFFSETFROM:-0400
TZOFFSETTO:-0500
TZNAME:EST
DTSTART:20261101T060000
END:STANDARD
BEGIN:DAYLIGHT
TZOFFSETFROM:-0500
TZOFFSETTO:-0400
TZNAME:EDT
DTSTART:20270314T070000
END:DAYLIGHT
BEGIN:STANDARD
TZOFFSETFROM:-0400
TZOFFSETTO:-0500
TZNAME:EST
DTSTART:20271107T060000
END:STANDARD
END:VTIMEZONE
BEGIN:VEVENT
DTSTART;TZID=America/New_York:20261107T153000
DTEND;TZID=America/New_York:20261107T183000
DTSTAMP:20260420T004042
CREATED:20260112T154444Z
LAST-MODIFIED:20260112T154444Z
UID:2712-1794065400-1794076200@sitemaps.gardinerbrewingcompany.com
SUMMARY:Soul Purpose
DESCRIPTION:
URL:https://sitemaps.gardinerbrewingcompany.com/event/soul-purpose-18/
LOCATION:The Barn at Gardiner Brewing Company\, 699 State Route 208\, Gardiner\, NY\, 12525\, United States
CATEGORIES:Live Music
END:VEVENT
BEGIN:VEVENT
DTSTART;TZID=America/New_York:20261122T153000
DTEND;TZID=America/New_York:20261122T183000
DTSTAMP:20260420T004042
CREATED:20260112T154508Z
LAST-MODIFIED:20260112T154508Z
UID:2714-1795361400-1795372200@sitemaps.gardinerbrewingcompany.com
SUMMARY:The Bush Brothers
DESCRIPTION:
URL:https://sitemaps.gardinerbrewingcompany.com/event/the-bush-brothers-12/
LOCATION:The Barn at Gardiner Brewing Company\, 699 State Route 208\, Gardiner\, NY\, 12525\, United States
CATEGORIES:Live Music
END:VEVENT
END:VCALENDAR