BEGIN:VCALENDAR
VERSION:2.0
PRODID:-//Gardiner Brewing Company - ECPv6.15.20//NONSGML v1.0//EN
CALSCALE:GREGORIAN
METHOD:PUBLISH
X-WR-CALNAME:Gardiner Brewing Company
X-ORIGINAL-URL:https://sitemaps.gardinerbrewingcompany.com
X-WR-CALDESC:Events for Gardiner Brewing Company
REFRESH-INTERVAL;VALUE=DURATION:PT1H
X-Robots-Tag:noindex
X-PUBLISHED-TTL:PT1H
BEGIN:VTIMEZONE
TZID:America/New_York
BEGIN:DAYLIGHT
TZOFFSETFROM:-0500
TZOFFSETTO:-0400
TZNAME:EDT
DTSTART:20250309T070000
END:DAYLIGHT
BEGIN:STANDARD
TZOFFSETFROM:-0400
TZOFFSETTO:-0500
TZNAME:EST
DTSTART:20251102T060000
END:STANDARD
BEGIN:DAYLIGHT
TZOFFSETFROM:-0500
TZOFFSETTO:-0400
TZNAME:EDT
DTSTART:20260308T070000
END:DAYLIGHT
BEGIN:STANDARD
TZOFFSETFROM:-0400
TZOFFSETTO:-0500
TZNAME:EST
DTSTART:20261101T060000
END:STANDARD
BEGIN:DAYLIGHT
TZOFFSETFROM:-0500
TZOFFSETTO:-0400
TZNAME:EDT
DTSTART:20270314T070000
END:DAYLIGHT
BEGIN:STANDARD
TZOFFSETFROM:-0400
TZOFFSETTO:-0500
TZNAME:EST
DTSTART:20271107T060000
END:STANDARD
END:VTIMEZONE
BEGIN:VEVENT
DTSTART;TZID=America/New_York:20261004T153000
DTEND;TZID=America/New_York:20261004T183000
DTSTAMP:20260419T225239
CREATED:20260112T154309Z
LAST-MODIFIED:20260112T154309Z
UID:2704-1791127800-1791138600@sitemaps.gardinerbrewingcompany.com
SUMMARY:The Bush Brothers
DESCRIPTION:
URL:https://sitemaps.gardinerbrewingcompany.com/event/the-bush-brothers-11/
LOCATION:The Barn at Gardiner Brewing Company\, 699 State Route 208\, Gardiner\, NY\, 12525\, United States
CATEGORIES:Live Music
END:VEVENT
BEGIN:VEVENT
DTSTART;TZID=America/New_York:20261024T153000
DTEND;TZID=America/New_York:20261024T183000
DTSTAMP:20260419T225239
CREATED:20260112T154331Z
LAST-MODIFIED:20260413T134723Z
UID:2706-1792855800-1792866600@sitemaps.gardinerbrewingcompany.com
SUMMARY:Violet Crush
DESCRIPTION:
URL:https://sitemaps.gardinerbrewingcompany.com/event/blucrush-8/
LOCATION:The Barn at Gardiner Brewing Company\, 699 State Route 208\, Gardiner\, NY\, 12525\, United States
CATEGORIES:Live Music
END:VEVENT
BEGIN:VEVENT
DTSTART;TZID=America/New_York:20261025T153000
DTEND;TZID=America/New_York:20261025T183000
DTSTAMP:20260419T225239
CREATED:20260112T154352Z
LAST-MODIFIED:20260112T154352Z
UID:2708-1792942200-1792953000@sitemaps.gardinerbrewingcompany.com
SUMMARY:The Classics
DESCRIPTION:
URL:https://sitemaps.gardinerbrewingcompany.com/event/the-classics-34/
LOCATION:The Barn at Gardiner Brewing Company\, 699 State Route 208\, Gardiner\, NY\, 12525\, United States
CATEGORIES:Live Music
END:VEVENT
BEGIN:VEVENT
DTSTART;TZID=America/New_York:20261031T153000
DTEND;TZID=America/New_York:20261031T183000
DTSTAMP:20260419T225239
CREATED:20260112T154416Z
LAST-MODIFIED:20260112T154416Z
UID:2710-1793460600-1793471400@sitemaps.gardinerbrewingcompany.com
SUMMARY:The Tonebenders
DESCRIPTION:
URL:https://sitemaps.gardinerbrewingcompany.com/event/the-tonebenders-13/
LOCATION:The Barn at Gardiner Brewing Company\, 699 State Route 208\, Gardiner\, NY\, 12525\, United States
CATEGORIES:Live Music
END:VEVENT
END:VCALENDAR