BEGIN:VCALENDAR
VERSION:2.0
PRODID:-//Gardiner Brewing Company - ECPv6.15.20//NONSGML v1.0//EN
CALSCALE:GREGORIAN
METHOD:PUBLISH
X-WR-CALNAME:Gardiner Brewing Company
X-ORIGINAL-URL:https://sitemaps.gardinerbrewingcompany.com
X-WR-CALDESC:Events for Gardiner Brewing Company
REFRESH-INTERVAL;VALUE=DURATION:PT1H
X-Robots-Tag:noindex
X-PUBLISHED-TTL:PT1H
BEGIN:VTIMEZONE
TZID:America/New_York
BEGIN:DAYLIGHT
TZOFFSETFROM:-0500
TZOFFSETTO:-0400
TZNAME:EDT
DTSTART:20250309T070000
END:DAYLIGHT
BEGIN:STANDARD
TZOFFSETFROM:-0400
TZOFFSETTO:-0500
TZNAME:EST
DTSTART:20251102T060000
END:STANDARD
BEGIN:DAYLIGHT
TZOFFSETFROM:-0500
TZOFFSETTO:-0400
TZNAME:EDT
DTSTART:20260308T070000
END:DAYLIGHT
BEGIN:STANDARD
TZOFFSETFROM:-0400
TZOFFSETTO:-0500
TZNAME:EST
DTSTART:20261101T060000
END:STANDARD
BEGIN:DAYLIGHT
TZOFFSETFROM:-0500
TZOFFSETTO:-0400
TZNAME:EDT
DTSTART:20270314T070000
END:DAYLIGHT
BEGIN:STANDARD
TZOFFSETFROM:-0400
TZOFFSETTO:-0500
TZNAME:EST
DTSTART:20271107T060000
END:STANDARD
END:VTIMEZONE
BEGIN:VEVENT
DTSTART;TZID=America/New_York:20260207T153000
DTEND;TZID=America/New_York:20260207T183000
DTSTAMP:20260424T021606
CREATED:20260112T151926Z
LAST-MODIFIED:20260112T151926Z
UID:2620-1770478200-1770489000@sitemaps.gardinerbrewingcompany.com
SUMMARY:BluCrush
DESCRIPTION:
URL:https://sitemaps.gardinerbrewingcompany.com/event/blucrush-5/
LOCATION:The Barn at Gardiner Brewing Company\, 699 State Route 208\, Gardiner\, NY\, 12525\, United States
CATEGORIES:Live Music
END:VEVENT
BEGIN:VEVENT
DTSTART;TZID=America/New_York:20260208T153000
DTEND;TZID=America/New_York:20260208T183000
DTSTAMP:20260424T021606
CREATED:20260112T151950Z
LAST-MODIFIED:20260112T151950Z
UID:2622-1770564600-1770575400@sitemaps.gardinerbrewingcompany.com
SUMMARY:Soul Purpose
DESCRIPTION:
URL:https://sitemaps.gardinerbrewingcompany.com/event/soul-purpose-16/
LOCATION:The Barn at Gardiner Brewing Company\, 699 State Route 208\, Gardiner\, NY\, 12525\, United States
CATEGORIES:Live Music
END:VEVENT
BEGIN:VEVENT
DTSTART;TZID=America/New_York:20260214T153000
DTEND;TZID=America/New_York:20260214T183000
DTSTAMP:20260424T021606
CREATED:20260112T152015Z
LAST-MODIFIED:20260112T152015Z
UID:2624-1771083000-1771093800@sitemaps.gardinerbrewingcompany.com
SUMMARY:The Bunker Boys
DESCRIPTION:
URL:https://sitemaps.gardinerbrewingcompany.com/event/the-bunker-boys-4/
LOCATION:The Barn at Gardiner Brewing Company\, 699 State Route 208\, Gardiner\, NY\, 12525\, United States
CATEGORIES:Live Music
END:VEVENT
BEGIN:VEVENT
DTSTART;TZID=America/New_York:20260215T153000
DTEND;TZID=America/New_York:20260215T183000
DTSTAMP:20260424T021606
CREATED:20260112T152035Z
LAST-MODIFIED:20260112T152035Z
UID:2626-1771169400-1771180200@sitemaps.gardinerbrewingcompany.com
SUMMARY:Hi5
DESCRIPTION:
URL:https://sitemaps.gardinerbrewingcompany.com/event/hi5-2/
LOCATION:The Barn at Gardiner Brewing Company\, 699 State Route 208\, Gardiner\, NY\, 12525\, United States
CATEGORIES:Live Music
END:VEVENT
BEGIN:VEVENT
DTSTART;TZID=America/New_York:20260221T153000
DTEND;TZID=America/New_York:20260221T183000
DTSTAMP:20260424T021606
CREATED:20260112T152058Z
LAST-MODIFIED:20260112T152058Z
UID:2628-1771687800-1771698600@sitemaps.gardinerbrewingcompany.com
SUMMARY:Painted Blue Sky
DESCRIPTION:
URL:https://sitemaps.gardinerbrewingcompany.com/event/painted-blue-sky-4/
LOCATION:The Barn at Gardiner Brewing Company\, 699 State Route 208\, Gardiner\, NY\, 12525\, United States
CATEGORIES:Live Music
END:VEVENT
BEGIN:VEVENT
DTSTART;TZID=America/New_York:20260222T153000
DTEND;TZID=America/New_York:20260222T183000
DTSTAMP:20260424T021606
CREATED:20260112T152123Z
LAST-MODIFIED:20260112T152123Z
UID:2630-1771774200-1771785000@sitemaps.gardinerbrewingcompany.com
SUMMARY:Dog Party
DESCRIPTION:
URL:https://sitemaps.gardinerbrewingcompany.com/event/dog-party-2/
LOCATION:The Barn at Gardiner Brewing Company\, 699 State Route 208\, Gardiner\, NY\, 12525\, United States
CATEGORIES:Live Music
END:VEVENT
BEGIN:VEVENT
DTSTART;TZID=America/New_York:20260228T080000
DTEND;TZID=America/New_York:20260228T170000
DTSTAMP:20260424T021606
CREATED:20260112T152205Z
LAST-MODIFIED:20260112T152205Z
UID:2632-1772265600-1772298000@sitemaps.gardinerbrewingcompany.com
SUMMARY:Rivals NY
DESCRIPTION:
URL:https://sitemaps.gardinerbrewingcompany.com/event/rivals-ny-7/
LOCATION:The Barn at Gardiner Brewing Company\, 699 State Route 208\, Gardiner\, NY\, 12525\, United States
CATEGORIES:Live Music
END:VEVENT
END:VCALENDAR