BEGIN:VCALENDAR
VERSION:2.0
PRODID:-//Gardiner Brewing Company - ECPv6.15.20//NONSGML v1.0//EN
CALSCALE:GREGORIAN
METHOD:PUBLISH
X-ORIGINAL-URL:https://sitemaps.gardinerbrewingcompany.com
X-WR-CALDESC:Events for Gardiner Brewing Company
REFRESH-INTERVAL;VALUE=DURATION:PT1H
X-Robots-Tag:noindex
X-PUBLISHED-TTL:PT1H
BEGIN:VTIMEZONE
TZID:America/New_York
BEGIN:DAYLIGHT
TZOFFSETFROM:-0500
TZOFFSETTO:-0400
TZNAME:EDT
DTSTART:20230312T070000
END:DAYLIGHT
BEGIN:STANDARD
TZOFFSETFROM:-0400
TZOFFSETTO:-0500
TZNAME:EST
DTSTART:20231105T060000
END:STANDARD
BEGIN:DAYLIGHT
TZOFFSETFROM:-0500
TZOFFSETTO:-0400
TZNAME:EDT
DTSTART:20240310T070000
END:DAYLIGHT
BEGIN:STANDARD
TZOFFSETFROM:-0400
TZOFFSETTO:-0500
TZNAME:EST
DTSTART:20241103T060000
END:STANDARD
BEGIN:DAYLIGHT
TZOFFSETFROM:-0500
TZOFFSETTO:-0400
TZNAME:EDT
DTSTART:20250309T070000
END:DAYLIGHT
BEGIN:STANDARD
TZOFFSETFROM:-0400
TZOFFSETTO:-0500
TZNAME:EST
DTSTART:20251102T060000
END:STANDARD
END:VTIMEZONE
BEGIN:VEVENT
DTSTART;TZID=America/New_York:20240601T153000
DTEND;TZID=America/New_York:20240601T183000
DTSTAMP:20260425T090518
CREATED:20240413T203442Z
LAST-MODIFIED:20240413T203442Z
UID:2163-1717255800-1717266600@sitemaps.gardinerbrewingcompany.com
SUMMARY:Cruise Control Band
DESCRIPTION:Cruise Control plays music that you can rock\, sing\, dance\, and party to. If we’re playing it\, you know it.
URL:https://sitemaps.gardinerbrewingcompany.com/event/cruise-control-band-3/
LOCATION:The Barn at Gardiner Brewing Company\, 699 State Route 208\, Gardiner\, NY\, 12525\, United States
CATEGORIES:Live Music
END:VEVENT
BEGIN:VEVENT
DTSTART;TZID=America/New_York:20240602T153000
DTEND;TZID=America/New_York:20240602T183000
DTSTAMP:20260425T090518
CREATED:20240413T203518Z
LAST-MODIFIED:20240413T203518Z
UID:2165-1717342200-1717353000@sitemaps.gardinerbrewingcompany.com
SUMMARY:The Classics
DESCRIPTION:The Classics are a power trio playing all of your favorite funk\, soul\, and reggae jams from the 70’s until no. All members have an extensive background in jazz which allows them to create unique arrangements and revitalize songs while paying homage to the original artists. Prepare to be inspired by this rhythmically tight and full sounding band. Be sure to catch them at local venues throughout the Hudson Valley every weekend!
URL:https://sitemaps.gardinerbrewingcompany.com/event/the-classics-23/
LOCATION:The Barn at Gardiner Brewing Company\, 699 State Route 208\, Gardiner\, NY\, 12525\, United States
CATEGORIES:Live Music
END:VEVENT
BEGIN:VEVENT
DTSTART;TZID=America/New_York:20240608T153000
DTEND;TZID=America/New_York:20240608T183000
DTSTAMP:20260425T090518
CREATED:20240601T122903Z
LAST-MODIFIED:20240601T122903Z
UID:2220-1717860600-1717871400@sitemaps.gardinerbrewingcompany.com
SUMMARY:Jordan Stoner and Crash Test Silverados
DESCRIPTION:
URL:https://sitemaps.gardinerbrewingcompany.com/event/jordan-stoner-and-crash-test-silverados/
LOCATION:The Barn at Gardiner Brewing Company\, 699 State Route 208\, Gardiner\, NY\, 12525\, United States
CATEGORIES:Live Music
END:VEVENT
BEGIN:VEVENT
DTSTART;TZID=America/New_York:20240609T153000
DTEND;TZID=America/New_York:20240609T183000
DTSTAMP:20260425T090518
CREATED:20240413T203557Z
LAST-MODIFIED:20240413T203557Z
UID:2167-1717947000-1717957800@sitemaps.gardinerbrewingcompany.com
SUMMARY:Circle
DESCRIPTION:Circle is compromised of four veteran musicians of the Newburgh music scene playing light rock & roll from the 60’s\, 70’s\, and 80’s.
URL:https://sitemaps.gardinerbrewingcompany.com/event/circle-4/
LOCATION:The Barn at Gardiner Brewing Company\, 699 State Route 208\, Gardiner\, NY\, 12525\, United States
CATEGORIES:Live Music
END:VEVENT
BEGIN:VEVENT
DTSTART;TZID=America/New_York:20240615T153000
DTEND;TZID=America/New_York:20240615T183000
DTSTAMP:20260425T090518
CREATED:20240413T203636Z
LAST-MODIFIED:20240601T122820Z
UID:2169-1718465400-1718476200@sitemaps.gardinerbrewingcompany.com
SUMMARY:Roche Collins
DESCRIPTION:
URL:https://sitemaps.gardinerbrewingcompany.com/event/jose-lopez-and-chosen-style-5/
LOCATION:The Barn at Gardiner Brewing Company\, 699 State Route 208\, Gardiner\, NY\, 12525\, United States
CATEGORIES:Live Music
END:VEVENT
BEGIN:VEVENT
DTSTART;TZID=America/New_York:20240616T153000
DTEND;TZID=America/New_York:20240616T183000
DTSTAMP:20260425T090518
CREATED:20240413T203711Z
LAST-MODIFIED:20240413T203711Z
UID:2171-1718551800-1718562600@sitemaps.gardinerbrewingcompany.com
SUMMARY:First Round
DESCRIPTION:First Round is a high energy 6 piece dance rock cover band playing all the best danceable classic rock and alternative music you love blended together in long non stop sets of songs for your next event. The band features two lead vocalists with strong harmonies and tight music behind them powered by some of the best musicians in the Hudson Valley.
URL:https://sitemaps.gardinerbrewingcompany.com/event/first-round-3/
LOCATION:The Barn at Gardiner Brewing Company\, 699 State Route 208\, Gardiner\, NY\, 12525\, United States
CATEGORIES:Live Music
END:VEVENT
BEGIN:VEVENT
DTSTART;TZID=America/New_York:20240622T153000
DTEND;TZID=America/New_York:20240622T183000
DTSTAMP:20260425T090518
CREATED:20240413T203749Z
LAST-MODIFIED:20240413T203749Z
UID:2173-1719070200-1719081000@sitemaps.gardinerbrewingcompany.com
SUMMARY:The Tonebenders
DESCRIPTION:The TONEBENDERS band consists of seasoned musicians and vocalists with decades of professional experience and have played in some of the most popular bands in the Hudson Valley and beyond. The Ultimate Tribute Band featuring multiple artists and genres from classic jazz standards\, great R+B\, dance\, classics from the 40’s\, 50’s\, and 60’s to current pop and country favorites with vocals and music sounding like the original recordings! Listen to or dance the night away to songs like Etta James’ “At Last”\, or some Frank Sinatra\, Johnny Cash\, Beatles\, John Mayer\, Dua Lipa\, Miley Cyrus\, James Taylor\, Neil Diamond\, Steely Dan\, Funk and Disco featuring a professional standard of musicianship and amazing vocal harmonies.
URL:https://sitemaps.gardinerbrewingcompany.com/event/the-tonebenders-6/
LOCATION:The Barn at Gardiner Brewing Company\, 699 State Route 208\, Gardiner\, NY\, 12525\, United States
CATEGORIES:Live Music
END:VEVENT
BEGIN:VEVENT
DTSTART;TZID=America/New_York:20240623T153000
DTEND;TZID=America/New_York:20240623T183000
DTSTAMP:20260425T090518
CREATED:20240413T203942Z
LAST-MODIFIED:20240413T203942Z
UID:2175-1719156600-1719167400@sitemaps.gardinerbrewingcompany.com
SUMMARY:Midnite Image Band
DESCRIPTION:MIB is a variety Dance/Party Bands from New York’s Hudson Valley and your choice for Live Entertainment! MIB performs a great selection of Rock’n’Roll\, Classic Rock\, Southern Rock\, Disco\, Pop\, Motown\, 80’s\, 90’s and Today! Since 1991 the band has performed in bars\, nightclubs\, private and corporate events. With their contagious fun filled energetic style\, they attract and regularly play at local and in the tri-state venue. MIB consists of five very talented seasoned musicians\, each with a wide variety of experience in different genres of music. Onstage\, this dynamic quintet combines their talents into one distinct and unique sound that can capture any audience. MIB is one of the Hudson Valley’s longest running bands and your choice for live entertainment! MIB performs a great selection of Rock’n’Roll\, Classic Rock\, Disco\, Motown\, 80’s\, and more!!!! From the 50’s to today MIB is an all around fun\, dance cover band.
URL:https://sitemaps.gardinerbrewingcompany.com/event/midnite-image-band/
LOCATION:The Barn at Gardiner Brewing Company\, 699 State Route 208\, Gardiner\, NY\, 12525\, United States
CATEGORIES:Live Music
END:VEVENT
BEGIN:VEVENT
DTSTART;TZID=America/New_York:20240628T170000
DTEND;TZID=America/New_York:20240628T210000
DTSTAMP:20260425T090518
CREATED:20240413T205027Z
LAST-MODIFIED:20240413T205027Z
UID:2197-1719594000-1719608400@sitemaps.gardinerbrewingcompany.com
SUMMARY:Gartucky Karaoke
DESCRIPTION:Karaoke is back at GBC!
URL:https://sitemaps.gardinerbrewingcompany.com/event/gartucky-karaoke-2/
LOCATION:The Barn at Gardiner Brewing Company\, 699 State Route 208\, Gardiner\, NY\, 12525\, United States
CATEGORIES:Live Music
END:VEVENT
BEGIN:VEVENT
DTSTART;TZID=America/New_York:20240629T153000
DTEND;TZID=America/New_York:20240629T183000
DTSTAMP:20260425T090518
CREATED:20240413T204027Z
LAST-MODIFIED:20240413T204027Z
UID:2177-1719675000-1719685800@sitemaps.gardinerbrewingcompany.com
SUMMARY:The Bush Brothers
DESCRIPTION:Whether it’s the high energy of a Bluegrass tune of the tight sweet harmonies of a ballad or original song coupled with awesome instrumentals\, The Bush Brothers bring their years of experience together for a great night of fun. They were recently joined on stage at High Falls Cafe by the legendary Garth Hudson of “The Band.” This promises to be an awesome night of eclectic Americana music and song.
URL:https://sitemaps.gardinerbrewingcompany.com/event/the-bush-brothers-4/
LOCATION:The Barn at Gardiner Brewing Company\, 699 State Route 208\, Gardiner\, NY\, 12525\, United States
CATEGORIES:Live Music
END:VEVENT
BEGIN:VEVENT
DTSTART;TZID=America/New_York:20240630T153000
DTEND;TZID=America/New_York:20240630T183000
DTSTAMP:20260425T090518
CREATED:20240413T204154Z
LAST-MODIFIED:20240413T204154Z
UID:2179-1719761400-1719772200@sitemaps.gardinerbrewingcompany.com
SUMMARY:What?
DESCRIPTION:Horn-led funk sextet hailing out of the Hudson Valley of New York
URL:https://sitemaps.gardinerbrewingcompany.com/event/what-10/
LOCATION:The Barn at Gardiner Brewing Company\, 699 State Route 208\, Gardiner\, NY\, 12525\, United States
CATEGORIES:Live Music
END:VEVENT
END:VCALENDAR