BEGIN:VCALENDAR
VERSION:2.0
PRODID:-//Gardiner Brewing Company - ECPv6.15.20//NONSGML v1.0//EN
CALSCALE:GREGORIAN
METHOD:PUBLISH
X-ORIGINAL-URL:https://sitemaps.gardinerbrewingcompany.com
X-WR-CALDESC:Events for Gardiner Brewing Company
REFRESH-INTERVAL;VALUE=DURATION:PT1H
X-Robots-Tag:noindex
X-PUBLISHED-TTL:PT1H
BEGIN:VTIMEZONE
TZID:America/New_York
BEGIN:DAYLIGHT
TZOFFSETFROM:-0500
TZOFFSETTO:-0400
TZNAME:EDT
DTSTART:20230312T070000
END:DAYLIGHT
BEGIN:STANDARD
TZOFFSETFROM:-0400
TZOFFSETTO:-0500
TZNAME:EST
DTSTART:20231105T060000
END:STANDARD
BEGIN:DAYLIGHT
TZOFFSETFROM:-0500
TZOFFSETTO:-0400
TZNAME:EDT
DTSTART:20240310T070000
END:DAYLIGHT
BEGIN:STANDARD
TZOFFSETFROM:-0400
TZOFFSETTO:-0500
TZNAME:EST
DTSTART:20241103T060000
END:STANDARD
BEGIN:DAYLIGHT
TZOFFSETFROM:-0500
TZOFFSETTO:-0400
TZNAME:EDT
DTSTART:20250309T070000
END:DAYLIGHT
BEGIN:STANDARD
TZOFFSETFROM:-0400
TZOFFSETTO:-0500
TZNAME:EST
DTSTART:20251102T060000
END:STANDARD
END:VTIMEZONE
BEGIN:VEVENT
DTSTART;TZID=America/New_York:20240504T150000
DTEND;TZID=America/New_York:20240504T190000
DTSTAMP:20260425T104026
CREATED:20240426T140654Z
LAST-MODIFIED:20240426T140654Z
UID:2205-1714834800-1714849200@sitemaps.gardinerbrewingcompany.com
SUMMARY:GARTUCKY DERBY DAY! feat. Hudson Valley Bluegrass
DESCRIPTION:Dress to the nines and watch the Kentucky Derby in Gartucky! We’re open our regular time\, 3-7\, and will air the Kentucky Derby in the Barn. Music from Hudson Valley Bluegrass.
URL:https://sitemaps.gardinerbrewingcompany.com/event/gartucky-derby-day-feat-hudson-valley-bluegrass/
LOCATION:The Barn at Gardiner Brewing Company\, 699 State Route 208\, Gardiner\, NY\, 12525\, United States
CATEGORIES:Live Music
END:VEVENT
BEGIN:VEVENT
DTSTART;TZID=America/New_York:20240505T153000
DTEND;TZID=America/New_York:20240505T183000
DTSTAMP:20260425T104026
CREATED:20240413T202803Z
LAST-MODIFIED:20240413T202803Z
UID:2147-1714923000-1714933800@sitemaps.gardinerbrewingcompany.com
SUMMARY:The Bush Brothers
DESCRIPTION:Whether it’s the high energy of a Bluegrass tune of the tight sweet harmonies of a ballad or original song coupled with awesome instrumentals\, The Bush Brothers bring their years of experience together for a great night of fun. They were recently joined on stage at High Falls Cafe by the legendary Garth Hudson of “The Band.” This promises to be an awesome night of eclectic Americana music and song.
URL:https://sitemaps.gardinerbrewingcompany.com/event/the-bush-brothers-3/
LOCATION:The Barn at Gardiner Brewing Company\, 699 State Route 208\, Gardiner\, NY\, 12525\, United States
CATEGORIES:Live Music
END:VEVENT
BEGIN:VEVENT
DTSTART;TZID=America/New_York:20240511T153000
DTEND;TZID=America/New_York:20240511T183000
DTSTAMP:20260425T104026
CREATED:20240413T202855Z
LAST-MODIFIED:20240413T202855Z
UID:2149-1715441400-1715452200@sitemaps.gardinerbrewingcompany.com
SUMMARY:Kinfolk
DESCRIPTION:Hillbilly Parade is “keepin’ it in the family” and bringing you the Hudson Valley’s next Top 40 Country Cover Band\, Kinfolk! A double male fronted band\, Kinfolk is bringing you the best of today’s country hits and yesterday’s classic rock. The members of Kinfolk were hand picked by Hillbilly Parade\, all chosen for their enthusiasm\, big personalities\, and of course their talent; together creating a collective 30 years worth of experience performing and playing their respective instruments. Kinfolk is ready to take the Hudson Valley country music scene by storm and can’t wait to add you to our family tree!
URL:https://sitemaps.gardinerbrewingcompany.com/event/kinfolk-2/
LOCATION:The Barn at Gardiner Brewing Company\, 699 State Route 208\, Gardiner\, NY\, 12525\, United States
CATEGORIES:Live Music
END:VEVENT
BEGIN:VEVENT
DTSTART;TZID=America/New_York:20240512T150000
DTEND;TZID=America/New_York:20240512T180000
DTSTAMP:20260425T104026
CREATED:20240413T202943Z
LAST-MODIFIED:20240426T141210Z
UID:2151-1715526000-1715536800@sitemaps.gardinerbrewingcompany.com
SUMMARY:Sons of Hudson
DESCRIPTION:Orange County\, NY band playing your favorite hits!
URL:https://sitemaps.gardinerbrewingcompany.com/event/sons-of-hudson-13/
LOCATION:The Barn at Gardiner Brewing Company\, 699 State Route 208\, Gardiner\, NY\, 12525\, United States
CATEGORIES:Live Music
END:VEVENT
BEGIN:VEVENT
DTSTART;TZID=America/New_York:20240518T153000
DTEND;TZID=America/New_York:20240518T183000
DTSTAMP:20260425T104026
CREATED:20240413T203033Z
LAST-MODIFIED:20240413T203033Z
UID:2153-1716046200-1716057000@sitemaps.gardinerbrewingcompany.com
SUMMARY:Little Rock
DESCRIPTION:“Little Rock” is a swampy/gritty\, funky/bluesy\, rock and roll band comprised of a quartet of seasoned music veterans that share a passion of delivering live music to music lovers far and wide. \nIt would be near impossible to put one label on the music “Little Rock” creates\, Americana to say the least\, but so much more. Think Creedence meets the Dead\, or perhaps NRBQ meets the Elvin Bishop band\, or even Little Feat meets Johnny Cash! \nBand-members include band leader and founder Vito Petroccitto\, singer/songwriter\, musician\, producer\, actor and most of all entertainer extraordinaire. He’s been pleasing audiences in and around the Hudson Valley region of New York for nearly 40 years. Performing cover tunes in various Bar Bands in his early days\, he’s reached a point in his life where he’s bound and determined to create his own music and go deeper into his heart and soul. His touring experience includes performing with Professor Louie and the Crowmatix\, the Amrod Band with Pee Wee Ellis and Fred Wesley (James Brown Horns)\, Frank Gadler Band (original vocalist NRBQ)\, Sloan Wainwright\, And many others. Vito has produced hundreds of records and with the other guys in Little Rock\, continues to do session work on a steady basis. However\, the focus is now performing live! The love of his life is to make people happy through music! \nThe rest of the band-members are Eric Parker on drums (John Hall Band\, Bonnie Raitt\, Steve Winwood\, Joe Cocker\, Eric Clapton\, the list goes on)\, Mark Dann on bass (many years of experience as a producer/recording studio owner/operator \,too many associations to list!) and Jeff Schechter (Big Smoothies)
URL:https://sitemaps.gardinerbrewingcompany.com/event/little-rock-4/
LOCATION:The Barn at Gardiner Brewing Company\, 699 State Route 208\, Gardiner\, NY\, 12525\, United States
CATEGORIES:Live Music
END:VEVENT
BEGIN:VEVENT
DTSTART;TZID=America/New_York:20240519T153000
DTEND;TZID=America/New_York:20240519T183000
DTSTAMP:20260425T104026
CREATED:20240413T203127Z
LAST-MODIFIED:20240413T203127Z
UID:2155-1716132600-1716143400@sitemaps.gardinerbrewingcompany.com
SUMMARY:BluCrush
DESCRIPTION:BluCrush is our Crazy-Fun High-Energy 4 piece party band.
URL:https://sitemaps.gardinerbrewingcompany.com/event/blucrush/
LOCATION:The Barn at Gardiner Brewing Company\, 699 State Route 208\, Gardiner\, NY\, 12525\, United States
CATEGORIES:Live Music
END:VEVENT
BEGIN:VEVENT
DTSTART;TZID=America/New_York:20240525T153000
DTEND;TZID=America/New_York:20240525T183000
DTSTAMP:20260425T104026
CREATED:20240413T203212Z
LAST-MODIFIED:20240413T203212Z
UID:2157-1716651000-1716661800@sitemaps.gardinerbrewingcompany.com
SUMMARY:Soul Purpose
DESCRIPTION:With a distinctive take on New Orleans Funk\, classic and contemporary Soul and Swing\, Soul Purpose is a “smokin’ band whose joyous renditions of R&B\, Soul and Swing will lift your heart\, gathering the boisterous energy of a dancing crowd and channeling it into a melodic explosion.” – The Huguenot Herald.\nSoul Purpose enthralls from the first note with powerhouse vocals\, bold horns\, lush keyboards\, and blistering guitarwork with the rhythmic reference and underlying pulse for the band provided by expertly played bass and percussion. Formed in New Paltz\, New York over two decades ago and recently named “Best Local Band” by the readers of Hudson Valley Magazine\, the band has played at numerous venues from intimate concerts\, larger festival stages and benefits. Soul Purpose has headlined at the famed Daryl’s House Club\, Pawling\, NY\, iconic Towne Crier Cafe\, Beacon\, NY\, historic Colony\, Woodstock\, NY and renowned Falcon\, Marlboro\, NY. The band has opened for such prominent artists as Grammy Award Nominee and Blues Music Award Nominee\, Shemekia Copeland; Grammy Award Nominee Singer/Songwriter Blues album\, Slam Allen and the Chris O’Leary Band.\nLead singer Sara Espinosa is joined by Dr. Lori Morris\, alto and tenor saxophone\, percussion and vocals; Rich De Crosta\, trumpet\, flugelhorn\, percussion and vocals; Cue Gerhards\, guitar and vocals; Francis Ralston\, bass and background vocals\, and Jerry Teters\, drums and vocals. Together\, they create a vibe that is described by a recent concertgoer as\, “Needle pushing the end & bouncing – a 10 +on a scale of 10 with the poor needle trying to break the stopper!”
URL:https://sitemaps.gardinerbrewingcompany.com/event/soul-purpose-11/
LOCATION:The Barn at Gardiner Brewing Company\, 699 State Route 208\, Gardiner\, NY\, 12525\, United States
CATEGORIES:Live Music
END:VEVENT
BEGIN:VEVENT
DTSTART;TZID=America/New_York:20240526T153000
DTEND;TZID=America/New_York:20240526T183000
DTSTAMP:20260425T104026
CREATED:20240413T203249Z
LAST-MODIFIED:20240413T203249Z
UID:2159-1716737400-1716748200@sitemaps.gardinerbrewingcompany.com
SUMMARY:Oxford Station Band
DESCRIPTION:Oxford Station Band performs Folk Rock\, Classic Country\, and Americana in the Mid-Hudson Valley Region
URL:https://sitemaps.gardinerbrewingcompany.com/event/oxford-station-band-23/
LOCATION:The Barn at Gardiner Brewing Company\, 699 State Route 208\, Gardiner\, NY\, 12525\, United States
CATEGORIES:Live Music
END:VEVENT
END:VCALENDAR